Workbook
Name _xlchart.v1.4: 'VISÃO GERAL'!$B$8:$C$8
Name _xlchart.v1.3: 'VISÃO GERAL'!$B$7:$C$7
Name _xlchart.v1.5: 'VISÃO GERAL'!$B$9:$C$9
Name _xlchart.v1.12: 'VISÃO GERAL'!$D$9:$P$9
Name _xlchart.v1.0: 'VISÃO GERAL'!$B$10:$C$10
Name _xlchart.v1.7: 'VISÃO GERAL'!$D$11:$P$11
Name _xlchart.v1.10: 'VISÃO GERAL'!$D$7:$P$7
Name _xlchart.v1.1: 'VISÃO GERAL'!$B$11:$C$11
Name _xlchart.v1.8: 'VISÃO GERAL'!$D$5:$P$5
Name _xlchart.v1.6: 'VISÃO GERAL'!$D$10:$P$10
Name _xlchart.v1.9: 'VISÃO GERAL'!$D$6:$P$6
Name _xlchart.v1.11: 'VISÃO GERAL'!$D$8:$P$8
Name _xlchart.v1.2: 'VISÃO GERAL'!$B$6:$C$6

Sheet Capa
J10: PLANILHA CÁLCULO DE COMISSÕES
L12: INSTRUÇÕES | O12: VISÃO GERAL

Sheet INSTRUÇÕES
B1: INSTRUÇÕES | Q1: Capa
B4: Saiba mais sobre o cálculo de comissões
B5: ABAS: CADASTRO/ ENTRADAS/ SAÍDAS | C5: As cores das fontes dos valores nas tabelas dessas abas indicam que: (1) Células com fontes na cor PRETA devem ser preenchidas manualmente. (2) Células com fontes na cor AZUL são calculadas automaticamente por fórmulas, portanto NÃO devem ser editadas.
B7: VENDEDORES | C7: As abas "vendedor 1", "vendedor 2", "vendedor 3"... Você deve preencher os campos que estão com a fonte preta. A celula "% de comissão" deve ser definida conforme as taxas da empresa.
B9: DASHBOARD | C9: Está aba é preenchida automaticamente conforme a planilha é alimentada com os dados dos vendedores.

Sheet (NOME DO VENDEDOR1)
B1: VISÃO MENSAL DE COMISSÕES | J1: INSTRUÇÕES
B5: VENDEDOR | C5: fulano
B7: JANEIRO | K7: FEVEREIRO | T7: MARÇO | AC7: ABRIL | AL7: MAIO | AU7: JUNHO | BD7: JULHO | BM7: AGOSTO | BV7: SETEMBRO | CE7: OUTUBRO | CN7: NOVEMBRO | CW7: DEZEMBRO
B8: DATA | C8: CLIENTE | D8: PRODUTO | E8: PREÇO | F8: QUANTIDADE | G8: VALOR TOTAL DA VENDA | H8: % COMISSÃO | I8: Valor da comissão | K8: DATA | L8: CLIENTE | M8: PRODUTO | N8: PREÇO | O8: QUANTIDADE | P8: VALOR TOTAL DA VENDA | Q8: % COMISSÃO | R8: VALOR DA COMISSÃO | T8: DATA | U8: CLIENTE | V8: PRODUTO | W8: PREÇO | X8: QUANTIDADE | Y8: VALOR TOTAL DA VENDA | Z8: % COMISSÃO | AA8: VALOR DA COMISSÃO | AC8: DATA | AD8: CLIENTE | AE8: PRODUTO | AF8: PREÇO | AG8: QUANTIDADE | AH8: VALOR TOTAL DA VENDA | AI8: % COMISSÃO | AJ8: VALOR DA COMISSÃO | AL8: DATA | AM8: CLIENTE | AN8: PRODUTO | AO8: PREÇO | AP8: QUANTIDADE | AQ8: VALOR TOTAL DA VENDA | AR8: % COMISSÃO | AS8: VALOR DA COMISSÃO | AU8: DATA | AV8: CLIENTE | AW8: PRODUTO | AX8: PREÇO | AY8: QUANTIDADE | AZ8: VALOR TOTAL DA VENDA | BA8: % COMISSÃO | BB8: VALOR DA COMISSÃO | BD8: DATA | BE8: CLIENTE | BF8: PRODUTO | BG8: PREÇO | BH8: QUANTIDADE | BI8: VALOR TOTAL DA VENDA | BJ8: % COMISSÃO | BK8: VALOR DA COMISSÃO | BM8: DATA | BN8: CLIENTE | BO8: PRODUTO | BP8: PREÇO | BQ8: QUANTIDADE | BR8: VALOR TOTAL DA VENDA | BS8: % COMISSÃO | BT8: VALOR DA COMISSÃO | BV8: DATA | BW8: CLIENTE | BX8: PRODUTO | BY8: PREÇO | BZ8: QUANTIDADE | CA8: VALOR TOTAL DA VENDA | CB8: % COMISSÃO | CC8: VALOR DA COMISSÃO | CE8: DATA | CF8: CLIENTE | CG8: PRODUTO | CH8: PREÇO | CI8: QUANTIDADE | CJ8: VALOR TOTAL DA VENDA | CK8: % COMISSÃO | CL8: VALOR DA COMISSÃO | CN8: DATA | CO8: CLIENTE | CP8: PRODUTO | CQ8: PREÇO | CR8: QUANTIDADE | CS8: VALOR TOTAL DA VENDA | CT8: % COMISSÃO | CU8: VALOR DA COMISSÃO | CW8: DATA | CX8: CLIENTE | CY8: PRODUTO | CZ8: PREÇO | DA8: QUANTIDADE | DB8: VALOR TOTAL DA VENDA | DC8: % COMISSÃO | DD8: VALOR DA COMISSÃO
B9: 43831 | C9: nome do cliente | D9: nome do produto | E9: 500 | F9: 4 | G9: =E9*F9 -> 2000 | H9: 0.05 | I9: =G9*H9 -> 100 | K9: 43862 | L9: nome do cliente | M9: nome do produto | N9: 1300 | O9: 3 | P9: =N9*O9 -> 3900 | Q9: 0.05 | R9: =P9*Q9 -> 195 | T9: 43891 | U9: nome do cliente | V9: nome do produto | W9: 500 | X9: 2 | Y9: =W9*X9 -> 1000 | Z9: 0.05 | AA9: =Y9*Z9 -> 50 | AC9: 43922 | AD9: nome do cliente | AE9: nome do produto | AF9: 500 | AG9: 3 | AH9: =AF9*AG9 -> 1500 | AI9: 0.05 | AJ9: =AH9*AI9 -> 75 | AL9: 43952 | AM9: nome do cliente | AN9: nome do produto | AO9: 300 | AP9: 4 | AQ9: =AO9*AP9 -> 1200 | AR9: 0.05 | AS9: =AQ9*AR9 -> 60 | AU9: 43983 | AV9: nome do cliente | AW9: nome do produto | AX9: 500 | AY9: 1 | AZ9: =AX9*AY9 -> 500 | BA9: 0.05 | BB9: =AZ9*BA9 -> 25 | BD9: 44013 | BE9: nome do cliente | BF9: nome do produto | BG9: 740 | BH9: 1 | BI9: =BG9*BH9 -> 740 | BJ9: 0.05 | BK9: =BI9*BJ9 -> 37 | BM9: 44044 | BN9: nome do cliente | BO9: nome do produto | BP9: 350 | BQ9: 2 | BR9: =BP9*BQ9 -> 700 | BS9: 0.05 | BT9: =BR9*BS9 -> 35 | BV9: 44075 | BW9: nome do cliente | BX9: nome do produto | BY9: 750 | BZ9: 1 | CA9: =BY9*BZ9 -> 750 | CB9: 0.03 | CC9: =CA9*CB9 -> 22.5 | CE9: 44105 | CF9: nome do cliente | CG9: nome do produto | CH9: 900 | CI9: 1 | CJ9: =CH9*CI9 -> 900 | CK9: 0.03 | CL9: =CJ9*CK9 -> 27 | CN9: 44136 | CO9: nome do cliente | CP9: nome do produto | CQ9: 1000 | CR9: 2 | CS9: =CQ9*CR9 -> 2000 | CT9: 0.03 | CU9: =CS9*CT9 -> 60 | CW9: 44166 | CX9: nome do cliente | CY9: nome do produto | CZ9: 1200 | DA9: 1 | DB9: =CZ9*DA9 -> 1200 | DC9: 0.03 | DD9: =DB9*DC9 -> 36
B10: 43832 | C10: nome do cliente | D10: nome do produto | E10: 1500 | F10: 2 | G10: =E10*F10 -> 3000 | H10: 0.045 | I10: =G10*H10 -> 135 | K10: 43863 | L10: nome do cliente | M10: nome do produto | N10: 1500 | O10: 2 | P10: =N10*O10 -> 3000 | Q10: 0.045 | R10: =P10*Q10 -> 135 | T10: 43892 | U10: nome do cliente | V10: nome do produto | W10: 900 | X10: 2 | Y10: =W10*X10 -> 1800 | Z10: 0.045 | AA10: =Y10*Z10 -> 81 | AC10: 43923 | AD10: nome do cliente | AE10: nome do produto | AF10: 500 | AG10: 2 | AH10: =AF10*AG10 -> 1000 | AI10: 0.045 | AJ10: =AH10*AI10 -> 45 | AL10: 43953 | AM10: nome do cliente | AN10: nome do produto | AO10: 270 | AP10: 1 | AQ10: =AO10*AP10 -> 270 | AR10: 0.045 | AS10: =AQ10*AR10 -> 12.15 | AU10: 43984 | AV10: nome do cliente | AW10: nome do produto | AX10: 1500 | AY10: 1 | AZ10: =AX10*AY10 -> 1500 | BA10: 0.045 | BB10: =AZ10*BA10 -> 67.5 | BD10: 44014 | BE10: nome do cliente | BF10: nome do produto | BG10: 850 | BH10: 2 | BI10: =BG10*BH10 -> 1700 | BJ10: 0.045 | BK10: =BI10*BJ10 -> 76.5 | BM10: 44045 | BN10: nome do cliente | BO10: nome do produto | BP10: 120 | BQ10: 2 | BR10: =BP10*BQ10 -> 240 | BS10: 0.045 | BT10: =BR10*BS10 -> 10.8 | BV10: 44076 | BW10: nome do cliente | BX10: nome do produto | BY10: 1000 | BZ10: 2 | CA10: =BY10*BZ10 -> 2000 | CB10: 0.045 | CC10: =CA10*CB10 -> 90 | CE10: 44106 | CF10: nome do cliente | CG10: nome do produto | CH10: 1300 | CI10: 1 | CJ10: =CH10*CI10 -> 1300 | CK10: 0.045 | CL10: =CJ10*CK10 -> 58.5 | CN10: 44137 | CO10: nome do cliente | CP10: nome do produto | CQ10: 400 | CR10: 2 | CS10: =CQ10*CR10 -> 800 | CT10: 0.045 | CU10: =CS10*CT10 -> 36 | CW10: 44167 | CX10: nome do cliente | CY10: nome do produto | CZ10: 800 | DA10: 2 | DB10: =CZ10*DA10 -> 1600 | DC10: 0.045 | DD10: =DB10*DC10 -> 72
B11: 43833 | C11: nome do cliente | D11: nome do produto | E11: 750 | F11: 1 | G11: =E11*F11 -> 750 | H11: 0.03 | I11: =G11*H11 -> 22.5 | K11: 43864 | L11: nome do cliente | M11: nome do produto | N11: 810 | O11: 1 | P11: =N11*O11 -> 810 | Q11: 0.03 | R11: =P11*Q11 -> 24.3 | T11: 43893 | U11: nome do cliente | V11: nome do produto | W11: 410 | X11: 2 | Y11: =W11*X11 -> 820 | Z11: 0.03 | AA11: =Y11*Z11 -> 24.6 | AC11: 43924 | AD11: nome do cliente | AE11: nome do produto | AF11: 900 | AG11: 1 | AH11: =AF11*AG11 -> 900 | AI11: 0.03 | AJ11: =AH11*AI11 -> 27 | AL11: 43954 | AM11: nome do cliente | AN11: nome do produto | AO11: 860 | AP11: 2 | AQ11: =AO11*AP11 -> 1720 | AR11: 0.03 | AS11: =AQ11*AR11 -> 51.6 | AU11: 43985 | AV11: nome do cliente | AW11: nome do produto | AX11: 750 | AY11: 3 | AZ11: =AX11*AY11 -> 2250 | BA11: 0.03 | BB11: =AZ11*BA11 -> 67.5 | BD11: 44015 | BE11: nome do cliente | BF11: nome do produto | BG11: 600 | BH11: 1 | BI11: =BG11*BH11 -> 600 | BJ11: 0.03 | BK11: =BI11*BJ11 -> 18 | BM11: 44046 | BN11: nome do cliente | BO11: nome do produto | BP11: 1200 | BQ11: 3 | BR11: =BP11*BQ11 -> 3600 | BS11: 0.03 | BT11: =BR11*BS11 -> 108 | BV11: 44077 | BW11: nome do cliente | BX11: nome do produto | BY11: 420 | BZ11: 5 | CA11: =BY11*BZ11 -> 2100 | CB11: 0.025 | CC11: =CA11*CB11 -> 52.5 | CE11: 44107 | CF11: nome do cliente | CG11: nome do produto | CH11: 900 | CI11: 1 | CJ11: =CH11*CI11 -> 900 | CK11: 0.025 | CL11: =CJ11*CK11 -> 22.5 | CN11: 44138 | CO11: nome do cliente | CP11: nome do produto | CQ11: 520 | CR11: 1 | CS11: =CQ11*CR11 -> 520 | CT11: 0.025 | CU11: =CS11*CT11 -> 13 | CW11: 44168 | CX11: nome do cliente | CY11: nome do produto | CZ11: 690 | DA11: 1 | DB11: =CZ11*DA11 -> 690 | DC11: 0.025 | DD11: =DB11*DC11 -> 17.25
B12: 43834 | C12: nome do cliente | D12: nome do produto | E12: 1250 | F12: 3 | G12: =E12*F12 -> 3750 | H12: 0.04 | I12: =G12*H12 -> 150 | K12: 43865 | L12: nome do cliente | M12: nome do produto | N12: 360 | O12: 1 | P12: =N12*O12 -> 360 | Q12: 0.04 | R12: =P12*Q12 -> 14.4 | T12: 43894 | U12: nome do cliente | V12: nome do produto | W12: 410 | X12: 2 | Y12: =W12*X12 -> 820 | Z12: 0.04 | AA12: =Y12*Z12 -> 32.8 | AC12: 43925 | AD12: nome do cliente | AE12: nome do produto | AF12: 360 | AG12: 1 | AH12: =AF12*AG12 -> 360 | AI12: 0.04 | AJ12: =AH12*AI12 -> 14.4 | AL12: 43955 | AM12: nome do cliente | AN12: nome do produto | AO12: 600 | AP12: 1 | AQ12: =AO12*AP12 -> 600 | AR12: 0.04 | AS12: =AQ12*AR12 -> 24 | AU12: 43986 | AV12: nome do cliente | AW12: nome do produto | AX12: 1250 | AY12: 3 | AZ12: =AX12*AY12 -> 3750 | BA12: 0.04 | BB12: =AZ12*BA12 -> 150 | BD12: 44016 | BE12: nome do cliente | BF12: nome do produto | BG12: 400 | BH12: 3 | BI12: =BG12*BH12 -> 1200 | BJ12: 0.04 | BK12: =BI12*BJ12 -> 48 | BM12: 44047 | BN12: nome do cliente | BO12: nome do produto | BP12: 450 | BQ12: 1 | BR12: =BP12*BQ12 -> 450 | BS12: 0.04 | BT12: =BR12*BS12 -> 18 | BV12: 44078 | BW12: nome do cliente | BX12: nome do produto | BY12: 800 | BZ12: 3 | CA12: =BY12*BZ12 -> 2400 | CB12: 0.04 | CC12: =CA12*CB12 -> 96 | CE12: 44108 | CF12: nome do cliente | CG12: nome do produto | CH12: 300 | CI12: 2 | CJ12: =CH12*CI12 -> 600 | CK12: 0.04 | CL12: =CJ12*CK12 -> 24 | CN12: 44139 | CO12: nome do cliente | CP12: nome do produto | CQ12: 630 | CR12: 3 | CS12: =CQ12*CR12 -> 1890 | CT12: 0.04 | CU12: =CS12*CT12 -> 75.6 | CW12: 44169 | CX12: nome do cliente | CY12: nome do produto | CZ12: 420 | DA12: 3 | DB12: =CZ12*DA12 -> 1260 | DC12: 0.04 | DD12: =DB12*DC12 -> 50.4
G13: =E13*F13 -> 0 | I13: =G13*H13 -> 0 | P13: =N13*O13 -> 0 | R13: =P13*Q13 -> 0 | Y13: =W13*X13 -> 0 | AA13: =Y13*Z13 -> 0 | AH13: =AF13*AG13 -> 0 | AJ13: =AH13*AI13 -> 0 | AQ13: =AO13*AP13 -> 0 | AS13: =AQ13*AR13 -> 0 | AZ13: =AX13*AY13 -> 0 | BB13: =AZ13*BA13 -> 0 | BI13: =BG13*BH13 -> 0 | BK13: =BI13*BJ13 -> 0 | BR13: =BP13*BQ13 -> 0 | BT13: =BR13*BS13 -> 0 | CA13: =BY13*BZ13 -> 0 | CC13: =CA13*CB13 -> 0 | CJ13: =CH13*CI13 -> 0 | CL13: =CJ13*CK13 -> 0 | CS13: =CQ13*CR13 -> 0 | CU13: =CS13*CT13 -> 0 | DB13: =CZ13*DA13 -> 0 | DD13: =DB13*DC13 -> 0
G14: =E14*F14 -> 0 | I14: =G14*H14 -> 0 | P14: =N14*O14 -> 0 | R14: =P14*Q14 -> 0 | Y14: =W14*X14 -> 0 | AA14: =Y14*Z14 -> 0 | AH14: =AF14*AG14 -> 0 | AJ14: =AH14*AI14 -> 0 | AQ14: =AO14*AP14 -> 0 | AS14: =AQ14*AR14 -> 0 | AZ14: =AX14*AY14 -> 0 | BB14: =AZ14*BA14 -> 0 | BI14: =BG14*BH14 -> 0 | BK14: =BI14*BJ14 -> 0 | BR14: =BP14*BQ14 -> 0 | BT14: =BR14*BS14 -> 0 | CA14: =BY14*BZ14 -> 0 | CC14: =CA14*CB14 -> 0 | CJ14: =CH14*CI14 -> 0 | CL14: =CJ14*CK14 -> 0 | CS14: =CQ14*CR14 -> 0 | CU14: =CS14*CT14 -> 0 | DB14: =CZ14*DA14 -> 0 | DD14: =DB14*DC14 -> 0
G15: =E15*F15 -> 0 | I15: =G15*H15 -> 0 | P15: =N15*O15 -> 0 | R15: =P15*Q15 -> 0 | Y15: =W15*X15 -> 0 | AA15: =Y15*Z15 -> 0 | AH15: =AF15*AG15 -> 0 | AJ15: =AH15*AI15 -> 0 | AQ15: =AO15*AP15 -> 0 | AS15: =AQ15*AR15 -> 0 | AZ15: =AX15*AY15 -> 0 | BB15: =AZ15*BA15 -> 0 | BI15: =BG15*BH15 -> 0 | BK15: =BI15*BJ15 -> 0 | BR15: =BP15*BQ15 -> 0 | BT15: =BR15*BS15 -> 0 | CA15: =BY15*BZ15 -> 0 | CC15: =CA15*CB15 -> 0 | CJ15: =CH15*CI15 -> 0 | CL15: =CJ15*CK15 -> 0 | CS15: =CQ15*CR15 -> 0 | CU15: =CS15*CT15 -> 0 | DB15: =CZ15*DA15 -> 0 | DD15: =DB15*DC15 -> 0
G16: =E16*F16 -> 0 | I16: =G16*H16 -> 0 | P16: =N16*O16 -> 0 | R16: =P16*Q16 -> 0 | Y16: =W16*X16 -> 0 | AA16: =Y16*Z16 -> 0 | AH16: =AF16*AG16 -> 0 | AJ16: =AH16*AI16 -> 0 | AQ16: =AO16*AP16 -> 0 | AS16: =AQ16*AR16 -> 0 | AZ16: =AX16*AY16 -> 0 | BB16: =AZ16*BA16 -> 0 | BI16: =BG16*BH16 -> 0 | BK16: =BI16*BJ16 -> 0 | BR16: =BP16*BQ16 -> 0 | BT16: =BR16*BS16 -> 0 | CA16: =BY16*BZ16 -> 0 | CC16: =CA16*CB16 -> 0 | CJ16: =CH16*CI16 -> 0 | CL16: =CJ16*CK16 -> 0 | CS16: =CQ16*CR16 -> 0 | CU16: =CS16*CT16 -> 0 | DB16: =CZ16*DA16 -> 0 | DD16: =DB16*DC16 -> 0
G17: =E17*F17 -> 0 | I17: =G17*H17 -> 0 | P17: =N17*O17 -> 0 | R17: =P17*Q17 -> 0 | Y17: =W17*X17 -> 0 | AA17: =Y17*Z17 -> 0 | AH17: =AF17*AG17 -> 0 | AJ17: =AH17*AI17 -> 0 | AQ17: =AO17*AP17 -> 0 | AS17: =AQ17*AR17 -> 0 | AZ17: =AX17*AY17 -> 0 | BB17: =AZ17*BA17 -> 0 | BI17: =BG17*BH17 -> 0 | BK17: =BI17*BJ17 -> 0 | BR17: =BP17*BQ17 -> 0 | BT17: =BR17*BS17 -> 0 | CA17: =BY17*BZ17 -> 0 | CC17: =CA17*CB17 -> 0 | CJ17: =CH17*CI17 -> 0 | CL17: =CJ17*CK17 -> 0 | CS17: =CQ17*CR17 -> 0 | CU17: =CS17*CT17 -> 0 | DB17: =CZ17*DA17 -> 0 | DD17: =DB17*DC17 -> 0
G18: =E18*F18 -> 0 | I18: =G18*H18 -> 0 | P18: =N18*O18 -> 0 | R18: =P18*Q18 -> 0 | Y18: =W18*X18 -> 0 | AA18: =Y18*Z18 -> 0 | AH18: =AF18*AG18 -> 0 | AJ18: =AH18*AI18 -> 0 | AQ18: =AO18*AP18 -> 0 | AS18: =AQ18*AR18 -> 0 | AZ18: =AX18*AY18 -> 0 | BB18: =AZ18*BA18 -> 0 | BI18: =BG18*BH18 -> 0 | BK18: =BI18*BJ18 -> 0 | BR18: =BP18*BQ18 -> 0 | BT18: =BR18*BS18 -> 0 | CA18: =BY18*BZ18 -> 0 | CC18: =CA18*CB18 -> 0 | CJ18: =CH18*CI18 -> 0 | CL18: =CJ18*CK18 -> 0 | CS18: =CQ18*CR18 -> 0 | CU18: =CS18*CT18 -> 0 | DB18: =CZ18*DA18 -> 0 | DD18: =DB18*DC18 -> 0
G19: =E19*F19 -> 0 | I19: =G19*H19 -> 0 | P19: =N19*O19 -> 0 | R19: =P19*Q19 -> 0 | Y19: =W19*X19 -> 0 | AA19: =Y19*Z19 -> 0 | AH19: =AF19*AG19 -> 0 | AJ19: =AH19*AI19 -> 0 | AQ19: =AO19*AP19 -> 0 | AS19: =AQ19*AR19 -> 0 | AZ19: =AX19*AY19 -> 0 | BB19: =AZ19*BA19 -> 0 | BI19: =BG19*BH19 -> 0 | BK19: =BI19*BJ19 -> 0 | BR19: =BP19*BQ19 -> 0 | BT19: =BR19*BS19 -> 0 | CA19: =BY19*BZ19 -> 0 | CC19: =CA19*CB19 -> 0 | CJ19: =CH19*CI19 -> 0 | CL19: =CJ19*CK19 -> 0 | CS19: =CQ19*CR19 -> 0 | CU19: =CS19*CT19 -> 0 | DB19: =CZ19*DA19 -> 0 | DD19: =DB19*DC19 -> 0
G20: =E20*F20 -> 0 | I20: =G20*H20 -> 0 | P20: =N20*O20 -> 0 | R20: =P20*Q20 -> 0 | Y20: =W20*X20 -> 0 | AA20: =Y20*Z20 -> 0 | AH20: =AF20*AG20 -> 0 | AJ20: =AH20*AI20 -> 0 | AQ20: =AO20*AP20 -> 0 | AS20: =AQ20*AR20 -> 0 | AZ20: =AX20*AY20 -> 0 | BB20: =AZ20*BA20 -> 0 | BI20: =BG20*BH20 -> 0 | BK20: =BI20*BJ20 -> 0 | BR20: =BP20*BQ20 -> 0 | BT20: =BR20*BS20 -> 0 | CA20: =BY20*BZ20 -> 0 | CC20: =CA20*CB20 -> 0 | CJ20: =CH20*CI20 -> 0 | CL20: =CJ20*CK20 -> 0 | CS20: =CQ20*CR20 -> 0 | CU20: =CS20*CT20 -> 0 | DB20: =CZ20*DA20 -> 0 | DD20: =DB20*DC20 -> 0
G21: =E21*F21 -> 0 | I21: =G21*H21 -> 0 | P21: =N21*O21 -> 0 | R21: =P21*Q21 -> 0 | Y21: =W21*X21 -> 0 | AA21: =Y21*Z21 -> 0 | AH21: =AF21*AG21 -> 0 | AJ21: =AH21*AI21 -> 0 | AQ21: =AO21*AP21 -> 0 | AS21: =AQ21*AR21 -> 0 | AZ21: =AX21*AY21 -> 0 | BB21: =AZ21*BA21 -> 0 | BI21: =BG21*BH21 -> 0 | BK21: =BI21*BJ21 -> 0 | BR21: =BP21*BQ21 -> 0 | BT21: =BR21*BS21 -> 0 | CA21: =BY21*BZ21 -> 0 | CC21: =CA21*CB21 -> 0 | CJ21: =CH21*CI21 -> 0 | CL21: =CJ21*CK21 -> 0 | CS21: =CQ21*CR21 -> 0 | CU21: =CS21*CT21 -> 0 | DB21: =CZ21*DA21 -> 0 | DD21: =DB21*DC21 -> 0
G22: =E22*F22 -> 0 | I22: =G22*H22 -> 0 | P22: =N22*O22 -> 0 | R22: =P22*Q22 -> 0 | Y22: =W22*X22 -> 0 | AA22: =Y22*Z22 -> 0 | AH22: =AF22*AG22 -> 0 | AJ22: =AH22*AI22 -> 0 | AQ22: =AO22*AP22 -> 0 | AS22: =AQ22*AR22 -> 0 | AZ22: =AX22*AY22 -> 0 | BB22: =AZ22*BA22 -> 0 | BI22: =BG22*BH22 -> 0 | BK22: =BI22*BJ22 -> 0 | BR22: =BP22*BQ22 -> 0 | BT22: =BR22*BS22 -> 0 | CA22: =BY22*BZ22 -> 0 | CC22: =CA22*CB22 -> 0 | CJ22: =CH22*CI22 -> 0 | CL22: =CJ22*CK22 -> 0 | CS22: =CQ22*CR22 -> 0 | CU22: =CS22*CT22 -> 0 | DB22: =CZ22*DA22 -> 0 | DD22: =DB22*DC22 -> 0
G23: =E23*F23 -> 0 | I23: =G23*H23 -> 0 | P23: =N23*O23 -> 0 | R23: =P23*Q23 -> 0 | Y23: =W23*X23 -> 0 | AA23: =Y23*Z23 -> 0 | AH23: =AF23*AG23 -> 0 | AJ23: =AH23*AI23 -> 0 | AQ23: =AO23*AP23 -> 0 | AS23: =AQ23*AR23 -> 0 | AZ23: =AX23*AY23 -> 0 | BB23: =AZ23*BA23 -> 0 | BI23: =BG23*BH23 -> 0 | BK23: =BI23*BJ23 -> 0 | BR23: =BP23*BQ23 -> 0 | BT23: =BR23*BS23 -> 0 | CA23: =BY23*BZ23 -> 0 | CC23: =CA23*CB23 -> 0 | CJ23: =CH23*CI23 -> 0 | CL23: =CJ23*CK23 -> 0 | CS23: =CQ23*CR23 -> 0 | CU23: =CS23*CT23 -> 0 | DB23: =CZ23*DA23 -> 0 | DD23: =DB23*DC23 -> 0
G24: =E24*F24 -> 0 | I24: =G24*H24 -> 0 | P24: =N24*O24 -> 0 | R24: =P24*Q24 -> 0 | Y24: =W24*X24 -> 0 | AA24: =Y24*Z24 -> 0 | AH24: =AF24*AG24 -> 0 | AJ24: =AH24*AI24 -> 0 | AQ24: =AO24*AP24 -> 0 | AS24: =AQ24*AR24 -> 0 | AZ24: =AX24*AY24 -> 0 | BB24: =AZ24*BA24 -> 0 | BI24: =BG24*BH24 -> 0 | BK24: =BI24*BJ24 -> 0 | BR24: =BP24*BQ24 -> 0 | BT24: =BR24*BS24 -> 0 | CA24: =BY24*BZ24 -> 0 | CC24: =CA24*CB24 -> 0 | CJ24: =CH24*CI24 -> 0 | CL24: =CJ24*CK24 -> 0 | CS24: =CQ24*CR24 -> 0 | CU24: =CS24*CT24 -> 0 | DB24: =CZ24*DA24 -> 0 | DD24: =DB24*DC24 -> 0
... G29: =E29*F29 -> 0 | I29: =G29*H29 -> 0 | P29: =N29*O29 -> 0 | R29: =P29*Q29 -> 0 | Y29: =W29*X29 -> 0 | AA29: =Y29*Z29 -> 0 | AH29: =AF29*AG29 -> 0 | AJ29: =AH29*AI29 -> 0 | AQ29: =AO29*AP29 -> 0 | AS29: =AQ29*AR29 -> 0 | AZ29: =AX29*AY29 -> 0 | BB29: =AZ29*BA29 -> 0 | BI29: =BG29*BH29 -> 0 | BK29: =BI29*BJ29 -> 0 | BR29: =BP29*BQ29 -> 0 | BT29: =BR29*BS29 -> 0 | CA29: =BY29*BZ29 -> 0 | CC29: =CA29*CB29 -> 0 | CJ29: =CH29*CI29 -> 0 | CL29: =CJ29*CK29 -> 0 | CS29: =CQ29*CR29 -> 0 | CU29: =CS29*CT29 -> 0 | DB29: =CZ29*DA29 -> 0 | DD29: =DB29*DC29 -> 0
B30: TOTAIS | G30: =SUM(G9:G29) -> 9500 | H30: =AVERAGE(H9:H29) -> 0.04125 | I30: =SUM(I9:I29) -> 407.5 | K30: TOTAIS | P30: =SUM(P9:P29) -> 8070 | Q30: =AVERAGE(Q9:Q29) -> 0.04125 | R30: =SUM(R9:R29) -> 368.7 | T30: TOTAIS | Y30: =SUM(Y9:Y29) -> 4440 | Z30: =AVERAGE(Z9:Z29) -> 0.04125 | AA30: =SUM(AA9:AA29) -> 188.4 | AC30: TOTAIS | AH30: =SUM(AH9:AH29) -> 3760 | AI30: =AVERAGE(AI9:AI29) -> 0.04125 | AJ30: =SUM(AJ9:AJ29) -> 161.4 | AL30: TOTAIS | AQ30: =SUM(AQ9:AQ29) -> 3790 | AR30: =AVERAGE(AR9:AR29) -> 0.04125 | AS30: =SUM(AS9:AS29) -> 147.75 | AU30: TOTAIS | AZ30: =SUM(AZ9:AZ29) -> 8000 | BA30: =AVERAGE(BA9:BA29) -> 0.04125 | BB30: =SUM(BB9:BB29) -> 310 | BD30: TOTAIS | BI30: =SUM(BI9:BI29) -> 4240 | BJ30: =AVERAGE(BJ9:BJ29) -> 0.04125 | BK30: =SUM(BK9:BK29) -> 179.5 | BM30: TOTAIS | BR30: =SUM(BR9:BR29) -> 4990 | BS30: =AVERAGE(BS9:BS29) -> 0.04125 | BT30: =SUM(BT9:BT29) -> 171.8 | BV30: TOTAIS | CA30: =SUM(CA9:CA29) -> 7250 | CB30: =AVERAGE(CB9:CB29) -> 0.035 | CC30: =SUM(CC9:CC29) -> 261 | CE30: TOTAIS | CJ30: =SUM(CJ9:CJ29) -> 3700 | CK30: =AVERAGE(CK9:CK29) -> 0.035 | CL30: =SUM(CL9:CL29) -> 132 | CN30: TOTAIS | CS30: =SUM(CS9:CS29) -> 5210 | CT30: =AVERAGE(CT9:CT29) -> 0.035 | CU30: =SUM(CU9:CU29) -> 184.6 | CW30: TOTAIS | DB30: =SUM(DB9:DB29) -> 4750 | DC30: =AVERAGE(DC9:DC29) -> 0.035 | DD30: =SUM(DD9:DD29) -> 175.65
H31: Comissão paga? | I31: sim | Q31: Comissão paga? | R31: NÃO | Z31: Comissão paga? | AA31: NÃO | AI31: Comissão paga? | AJ31: NÃO | AR31: Comissão paga? | AS31: NÃO | BA31: Comissão paga? | BB31: NÃO | BJ31: Comissão paga? | BK31: NÃO | BS31: Comissão paga? | BT31: sim | CB31: Comissão paga? | CC31: NÃO | CK31: Comissão paga? | CL31: sim | CT31: Comissão paga? | CU31: NÃO | DC31: Comissão paga? | DD31: sim

Sheet (NOME DO VENDEDOR2) 
B1: VISÃO MENSAL DE COMISSÕES | J1: INSTRUÇÕES | K1: Capa
B5: VENDEDOR | C5: ciclano
B7: JANEIRO | K7: FEVEREIRO | T7: MARÇO | AC7: ABRIL | AL7: MAIO | AU7: JUNHO | BD7: JULHO | BM7: AGOSTO | BV7: SETEMBRO | CE7: OUTUBRO | CN7: NOVEMBRO | CW7: DEZEMBRO
B8: DATA | C8: CLIENTE | D8: PRODUTO | E8: PREÇO | F8: QUANTIDADE | G8: VALOR TOTAL DA VENDA | H8: % COMISSÃO | I8: Valor da comissão | K8: DATA | L8: CLIENTE | M8: PRODUTO | N8: PREÇO | O8: QUANTIDADE | P8: VALOR TOTAL DA VENDA | Q8: % COMISSÃO | R8: VALOR DA COMISSÃO | T8: DATA | U8: CLIENTE | V8: PRODUTO | W8: PREÇO | X8: QUANTIDADE | Y8: VALOR TOTAL DA VENDA | Z8: % COMISSÃO | AA8: VALOR DA COMISSÃO | AC8: DATA | AD8: CLIENTE | AE8: PRODUTO | AF8: PREÇO | AG8: QUANTIDADE | AH8: VALOR TOTAL DA VENDA | AI8: % COMISSÃO | AJ8: VALOR DA COMISSÃO | AL8: DATA | AM8: CLIENTE | AN8: PRODUTO | AO8: PREÇO | AP8: QUANTIDADE | AQ8: VALOR TOTAL DA VENDA | AR8: % COMISSÃO | AS8: VALOR DA COMISSÃO | AU8: DATA | AV8: CLIENTE | AW8: PRODUTO | AX8: PREÇO | AY8: QUANTIDADE | AZ8: VALOR TOTAL DA VENDA | BA8: % COMISSÃO | BB8: VALOR DA COMISSÃO | BD8: DATA | BE8: CLIENTE | BF8: PRODUTO | BG8: PREÇO | BH8: QUANTIDADE | BI8: VALOR TOTAL DA VENDA | BJ8: % COMISSÃO | BK8: VALOR DA COMISSÃO | BM8: DATA | BN8: CLIENTE | BO8: PRODUTO | BP8: PREÇO | BQ8: QUANTIDADE | BR8: VALOR TOTAL DA VENDA | BS8: % COMISSÃO | BT8: VALOR DA COMISSÃO | BV8: DATA | BW8: CLIENTE | BX8: PRODUTO | BY8: PREÇO | BZ8: QUANTIDADE | CA8: VALOR TOTAL DA VENDA | CB8: % COMISSÃO | CC8: VALOR DA COMISSÃO | CE8: DATA | CF8: CLIENTE | CG8: PRODUTO | CH8: PREÇO | CI8: QUANTIDADE | CJ8: VALOR TOTAL DA VENDA | CK8: % COMISSÃO | CL8: VALOR DA COMISSÃO | CN8: DATA | CO8: CLIENTE | CP8: PRODUTO | CQ8: PREÇO | CR8: QUANTIDADE | CS8: VALOR TOTAL DA VENDA | CT8: % COMISSÃO | CU8: VALOR DA COMISSÃO | CW8: DATA | CX8: CLIENTE | CY8: PRODUTO | CZ8: PREÇO | DA8: QUANTIDADE | DB8: VALOR TOTAL DA VENDA | DC8: % COMISSÃO | DD8: VALOR DA COMISSÃO
B9: 43831 | C9: nome do cliente | D9: nome do produto | E9: 500 | F9: 1 | G9: =E9*F9 -> 500 | H9: 0.03 | I9: =G9*H9 -> 15 | K9: 43862 | L9: nome do cliente | M9: nome do produto | N9: 1300 | O9: 2 | P9: =N9*O9 -> 2600 | Q9: 0.03 | R9: =P9*Q9 -> 78 | T9: 43891 | U9: nome do cliente | V9: nome do produto | W9: 500 | X9: 3 | Y9: =W9*X9 -> 1500 | Z9: 0.03 | AA9: =Y9*Z9 -> 45 | AC9: 43922 | AD9: nome do cliente | AE9: nome do produto | AF9: 500 | AG9: 4 | AH9: =AF9*AG9 -> 2000 | AI9: 0.03 | AJ9: =AH9*AI9 -> 60 | AL9: 43952 | AM9: nome do cliente | AN9: nome do produto | AO9: 300 | AP9: 2 | AQ9: =AO9*AP9 -> 600 | AR9: 0.03 | AS9: =AQ9*AR9 -> 18 | AU9: 43983 | AV9: nome do cliente | AW9: nome do produto | AX9: 500 | AY9: 4 | AZ9: =AX9*AY9 -> 2000 | BA9: 0.03 | BB9: =AZ9*BA9 -> 60 | BD9: 44013 | BE9: nome do cliente | BF9: nome do produto | BG9: 100 | BH9: 2 | BI9: =BG9*BH9 -> 200 | BJ9: 0.03 | BK9: =BI9*BJ9 -> 6 | BM9: 44044 | BN9: nome do cliente | BO9: nome do produto | BP9: 350 | BQ9: 1 | BR9: =BP9*BQ9 -> 350 | BS9: 0.03 | BT9: =BR9*BS9 -> 10.5 | BV9: 44075 | BW9: nome do cliente | BX9: nome do produto | BY9: 750 | BZ9: 2 | CA9: =BY9*BZ9 -> 1500 | CB9: 0.03 | CC9: =CA9*CB9 -> 45 | CE9: 44105 | CF9: nome do cliente | CG9: nome do produto | CH9: 900 | CI9: 3 | CJ9: =CH9*CI9 -> 2700 | CK9: 0.03 | CL9: =CJ9*CK9 -> 81 | CN9: 44136 | CO9: nome do cliente | CP9: nome do produto | CQ9: 120 | CR9: 2 | CS9: =CQ9*CR9 -> 240 | CT9: 0.03 | CU9: =CS9*CT9 -> 7.2 | CW9: 44166 | CX9: nome do cliente | CY9: nome do produto | CZ9: 420 | DA9: 1 | DB9: =CZ9*DA9 -> 420 | DC9: 0.03 | DD9: =DB9*DC9 -> 12.6
B10: 43832 | C10: nome do cliente | D10: nome do produto | E10: 1500 | F10: 1 | G10: =E10*F10 -> 1500 | H10: 0.045 | I10: =G10*H10 -> 67.5 | K10: 43863 | L10: nome do cliente | M10: nome do produto | N10: 1500 | O10: 2 | P10: =N10*O10 -> 3000 | Q10: 0.045 | R10: =P10*Q10 -> 135 | T10: 43892 | U10: nome do cliente | V10: nome do produto | W10: 900 | X10: 3 | Y10: =W10*X10 -> 2700 | Z10: 0.045 | AA10: =Y10*Z10 -> 121.5 | AC10: 43923 | AD10: nome do cliente | AE10: nome do produto | AF10: 500 | AG10: 2 | AH10: =AF10*AG10 -> 1000 | AI10: 0.045 | AJ10: =AH10*AI10 -> 45 | AL10: 43953 | AM10: nome do cliente | AN10: nome do produto | AO10: 270 | AP10: 1 | AQ10: =AO10*AP10 -> 270 | AR10: 0.045 | AS10: =AQ10*AR10 -> 12.15 | AU10: 43984 | AV10: nome do cliente | AW10: nome do produto | AX10: 1500 | AY10: 2 | AZ10: =AX10*AY10 -> 3000 | BA10: 0.045 | BB10: =AZ10*BA10 -> 135 | BD10: 44014 | BE10: nome do cliente | BF10: nome do produto | BG10: 200 | BH10: 1 | BI10: =BG10*BH10 -> 200 | BJ10: 0.045 | BK10: =BI10*BJ10 -> 9 | BM10: 44045 | BN10: nome do cliente | BO10: nome do produto | BP10: 120 | BQ10: 3 | BR10: =BP10*BQ10 -> 360 | BS10: 0.045 | BT10: =BR10*BS10 -> 16.2 | BV10: 44076 | BW10: nome do cliente | BX10: nome do produto | BY10: 1000 | BZ10: 2 | CA10: =BY10*BZ10 -> 2000 | CB10: 0.045 | CC10: =CA10*CB10 -> 90 | CE10: 44106 | CF10: nome do cliente | CG10: nome do produto | CH10: 1300 | CI10: 3 | CJ10: =CH10*CI10 -> 3900 | CK10: 0.045 | CL10: =CJ10*CK10 -> 175.5 | CN10: 44137 | CO10: nome do cliente | CP10: nome do produto | CQ10: 400 | CR10: 2 | CS10: =CQ10*CR10 -> 800 | CT10: 0.045 | CU10: =CS10*CT10 -> 36 | CW10: 44167 | CX10: nome do cliente | CY10: nome do produto | CZ10: 800 | DA10: 1 | DB10: =CZ10*DA10 -> 800 | DC10: 0.045 | DD10: =DB10*DC10 -> 36
B11: 43833 | C11: nome do cliente | D11: nome do produto | E11: 750 | F11: 2 | G11: =E11*F11 -> 1500 | H11: 0.025 | I11: =G11*H11 -> 37.5 | K11: 43864 | L11: nome do cliente | M11: nome do produto | N11: 810 | O11: 1 | P11: =N11*O11 -> 810 | Q11: 0.025 | R11: =P11*Q11 -> 20.25 | T11: 43893 | U11: nome do cliente | V11: nome do produto | W11: 410 | X11: 1 | Y11: =W11*X11 -> 410 | Z11: 0.025 | AA11: =Y11*Z11 -> 10.25 | AC11: 43924 | AD11: nome do cliente | AE11: nome do produto | AF11: 900 | AG11: 1 | AH11: =AF11*AG11 -> 900 | AI11: 0.025 | AJ11: =AH11*AI11 -> 22.5 | AL11: 43954 | AM11: nome do cliente | AN11: nome do produto | AO11: 860 | AP11: 1 | AQ11: =AO11*AP11 -> 860 | AR11: 0.025 | AS11: =AQ11*AR11 -> 21.5 | AU11: 43985 | AV11: nome do cliente | AW11: nome do produto | AX11: 750 | AY11: 1 | AZ11: =AX11*AY11 -> 750 | BA11: 0.025 | BB11: =AZ11*BA11 -> 18.75 | BD11: 44015 | BE11: nome do cliente | BF11: nome do produto | BG11: 300 | BH11: 1 | BI11: =BG11*BH11 -> 300 | BJ11: 0.025 | BK11: =BI11*BJ11 -> 7.5 | BM11: 44046 | BN11: nome do cliente | BO11: nome do produto | BP11: 1200 | BQ11: 1 | BR11: =BP11*BQ11 -> 1200 | BS11: 0.025 | BT11: =BR11*BS11 -> 30 | BV11: 44077 | BW11: nome do cliente | BX11: nome do produto | BY11: 250 | BZ11: 1 | CA11: =BY11*BZ11 -> 250 | CB11: 0.025 | CC11: =CA11*CB11 -> 6.25 | CE11: 44107 | CF11: nome do cliente | CG11: nome do produto | CH11: 120 | CI11: 1 | CJ11: =CH11*CI11 -> 120 | CK11: 0.025 | CL11: =CJ11*CK11 -> 3 | CN11: 44138 | CO11: nome do cliente | CP11: nome do produto | CQ11: 520 | CR11: 2 | CS11: =CQ11*CR11 -> 1040 | CT11: 0.025 | CU11: =CS11*CT11 -> 26 | CW11: 44168 | CX11: nome do cliente | CY11: nome do produto | CZ11: 690 | DA11: 1 | DB11: =CZ11*DA11 -> 690 | DC11: 0.025 | DD11: =DB11*DC11 -> 17.25
B12: 43834 | C12: nome do cliente | D12: nome do produto | E12: 1250 | F12: 2 | G12: =E12*F12 -> 2500 | H12: 0.04 | I12: =G12*H12 -> 100 | K12: 43865 | L12: nome do cliente | M12: nome do produto | N12: 360 | O12: 3 | P12: =N12*O12 -> 1080 | Q12: 0.04 | R12: =P12*Q12 -> 43.2 | T12: 43894 | U12: nome do cliente | V12: nome do produto | W12: 410 | X12: 3 | Y12: =W12*X12 -> 1230 | Z12: 0.04 | AA12: =Y12*Z12 -> 49.2 | AC12: 43925 | AD12: nome do cliente | AE12: nome do produto | AF12: 360 | AG12: 3 | AH12: =AF12*AG12 -> 1080 | AI12: 0.04 | AJ12: =AH12*AI12 -> 43.2 | AL12: 43955 | AM12: nome do cliente | AN12: nome do produto | AO12: 600 | AP12: 4 | AQ12: =AO12*AP12 -> 2400 | AR12: 0.04 | AS12: =AQ12*AR12 -> 96 | AU12: 43986 | AV12: nome do cliente | AW12: nome do produto | AX12: 1250 | AY12: 3 | AZ12: =AX12*AY12 -> 3750 | BA12: 0.04 | BB12: =AZ12*BA12 -> 150 | BD12: 44016 | BE12: nome do cliente | BF12: nome do produto | BG12: 400 | BH12: 3 | BI12: =BG12*BH12 -> 1200 | BJ12: 0.04 | BK12: =BI12*BJ12 -> 48 | BM12: 44047 | BN12: nome do cliente | BO12: nome do produto | BP12: 450 | BQ12: 3 | BR12: =BP12*BQ12 -> 1350 | BS12: 0.04 | BT12: =BR12*BS12 -> 54 | BV12: 44078 | BW12: nome do cliente | BX12: nome do produto | BY12: 800 | BZ12: 4 | CA12: =BY12*BZ12 -> 3200 | CB12: 0.04 | CC12: =CA12*CB12 -> 128 | CE12: 44108 | CF12: nome do cliente | CG12: nome do produto | CH12: 300 | CI12: 1 | CJ12: =CH12*CI12 -> 300 | CK12: 0.04 | CL12: =CJ12*CK12 -> 12 | CN12: 44139 | CO12: nome do cliente | CP12: nome do produto | CQ12: 630 | CR12: 2 | CS12: =CQ12*CR12 -> 1260 | CT12: 0.04 | CU12: =CS12*CT12 -> 50.4 | CW12: 44169 | CX12: nome do cliente | CY12: nome do produto | CZ12: 420 | DA12: 1 | DB12: =CZ12*DA12 -> 420 | DC12: 0.04 | DD12: =DB12*DC12 -> 16.8
G13: =E13*F13 -> 0 | I13: =G13*H13 -> 0 | P13: =N13*O13 -> 0 | R13: =P13*Q13 -> 0 | Y13: =W13*X13 -> 0 | AA13: =Y13*Z13 -> 0 | AH13: =AF13*AG13 -> 0 | AJ13: =AH13*AI13 -> 0 | AQ13: =AO13*AP13 -> 0 | AS13: =AQ13*AR13 -> 0 | AZ13: =AX13*AY13 -> 0 | BB13: =AZ13*BA13 -> 0 | BI13: =BG13*BH13 -> 0 | BK13: =BI13*BJ13 -> 0 | BR13: =BP13*BQ13 -> 0 | BT13: =BR13*BS13 -> 0 | CA13: =BY13*BZ13 -> 0 | CC13: =CA13*CB13 -> 0 | CJ13: =CH13*CI13 -> 0 | CL13: =CJ13*CK13 -> 0 | CS13: =CQ13*CR13 -> 0 | CU13: =CS13*CT13 -> 0 | DB13: =CZ13*DA13 -> 0 | DD13: =DB13*DC13 -> 0
G14: =E14*F14 -> 0 | I14: =G14*H14 -> 0 | P14: =N14*O14 -> 0 | R14: =P14*Q14 -> 0 | Y14: =W14*X14 -> 0 | AA14: =Y14*Z14 -> 0 | AH14: =AF14*AG14 -> 0 | AJ14: =AH14*AI14 -> 0 | AQ14: =AO14*AP14 -> 0 | AS14: =AQ14*AR14 -> 0 | AZ14: =AX14*AY14 -> 0 | BB14: =AZ14*BA14 -> 0 | BI14: =BG14*BH14 -> 0 | BK14: =BI14*BJ14 -> 0 | BR14: =BP14*BQ14 -> 0 | BT14: =BR14*BS14 -> 0 | CA14: =BY14*BZ14 -> 0 | CC14: =CA14*CB14 -> 0 | CJ14: =CH14*CI14 -> 0 | CL14: =CJ14*CK14 -> 0 | CS14: =CQ14*CR14 -> 0 | CU14: =CS14*CT14 -> 0 | DB14: =CZ14*DA14 -> 0 | DD14: =DB14*DC14 -> 0
G15: =E15*F15 -> 0 | I15: =G15*H15 -> 0 | P15: =N15*O15 -> 0 | R15: =P15*Q15 -> 0 | Y15: =W15*X15 -> 0 | AA15: =Y15*Z15 -> 0 | AH15: =AF15*AG15 -> 0 | AJ15: =AH15*AI15 -> 0 | AQ15: =AO15*AP15 -> 0 | AS15: =AQ15*AR15 -> 0 | AZ15: =AX15*AY15 -> 0 | BB15: =AZ15*BA15 -> 0 | BI15: =BG15*BH15 -> 0 | BK15: =BI15*BJ15 -> 0 | BR15: =BP15*BQ15 -> 0 | BT15: =BR15*BS15 -> 0 | CA15: =BY15*BZ15 -> 0 | CC15: =CA15*CB15 -> 0 | CJ15: =CH15*CI15 -> 0 | CL15: =CJ15*CK15 -> 0 | CS15: =CQ15*CR15 -> 0 | CU15: =CS15*CT15 -> 0 | DB15: =CZ15*DA15 -> 0 | DD15: =DB15*DC15 -> 0
G16: =E16*F16 -> 0 | I16: =G16*H16 -> 0 | P16: =N16*O16 -> 0 | R16: =P16*Q16 -> 0 | Y16: =W16*X16 -> 0 | AA16: =Y16*Z16 -> 0 | AH16: =AF16*AG16 -> 0 | AJ16: =AH16*AI16 -> 0 | AQ16: =AO16*AP16 -> 0 | AS16: =AQ16*AR16 -> 0 | AZ16: =AX16*AY16 -> 0 | BB16: =AZ16*BA16 -> 0 | BI16: =BG16*BH16 -> 0 | BK16: =BI16*BJ16 -> 0 | BR16: =BP16*BQ16 -> 0 | BT16: =BR16*BS16 -> 0 | CA16: =BY16*BZ16 -> 0 | CC16: =CA16*CB16 -> 0 | CJ16: =CH16*CI16 -> 0 | CL16: =CJ16*CK16 -> 0 | CS16: =CQ16*CR16 -> 0 | CU16: =CS16*CT16 -> 0 | DB16: =CZ16*DA16 -> 0 | DD16: =DB16*DC16 -> 0
G17: =E17*F17 -> 0 | I17: =G17*H17 -> 0 | P17: =N17*O17 -> 0 | R17: =P17*Q17 -> 0 | Y17: =W17*X17 -> 0 | AA17: =Y17*Z17 -> 0 | AH17: =AF17*AG17 -> 0 | AJ17: =AH17*AI17 -> 0 | AQ17: =AO17*AP17 -> 0 | AS17: =AQ17*AR17 -> 0 | AZ17: =AX17*AY17 -> 0 | BB17: =AZ17*BA17 -> 0 | BI17: =BG17*BH17 -> 0 | BK17: =BI17*BJ17 -> 0 | BR17: =BP17*BQ17 -> 0 | BT17: =BR17*BS17 -> 0 | CA17: =BY17*BZ17 -> 0 | CC17: =CA17*CB17 -> 0 | CJ17: =CH17*CI17 -> 0 | CL17: =CJ17*CK17 -> 0 | CS17: =CQ17*CR17 -> 0 | CU17: =CS17*CT17 -> 0 | DB17: =CZ17*DA17 -> 0 | DD17: =DB17*DC17 -> 0
G18: =E18*F18 -> 0 | I18: =G18*H18 -> 0 | P18: =N18*O18 -> 0 | R18: =P18*Q18 -> 0 | Y18: =W18*X18 -> 0 | AA18: =Y18*Z18 -> 0 | AH18: =AF18*AG18 -> 0 | AJ18: =AH18*AI18 -> 0 | AQ18: =AO18*AP18 -> 0 | AS18: =AQ18*AR18 -> 0 | AZ18: =AX18*AY18 -> 0 | BB18: =AZ18*BA18 -> 0 | BI18: =BG18*BH18 -> 0 | BK18: =BI18*BJ18 -> 0 | BR18: =BP18*BQ18 -> 0 | BT18: =BR18*BS18 -> 0 | CA18: =BY18*BZ18 -> 0 | CC18: =CA18*CB18 -> 0 | CJ18: =CH18*CI18 -> 0 | CL18: =CJ18*CK18 -> 0 | CS18: =CQ18*CR18 -> 0 | CU18: =CS18*CT18 -> 0 | DB18: =CZ18*DA18 -> 0 | DD18: =DB18*DC18 -> 0
G19: =E19*F19 -> 0 | I19: =G19*H19 -> 0 | P19: =N19*O19 -> 0 | R19: =P19*Q19 -> 0 | Y19: =W19*X19 -> 0 | AA19: =Y19*Z19 -> 0 | AH19: =AF19*AG19 -> 0 | AJ19: =AH19*AI19 -> 0 | AQ19: =AO19*AP19 -> 0 | AS19: =AQ19*AR19 -> 0 | AZ19: =AX19*AY19 -> 0 | BB19: =AZ19*BA19 -> 0 | BI19: =BG19*BH19 -> 0 | BK19: =BI19*BJ19 -> 0 | BR19: =BP19*BQ19 -> 0 | BT19: =BR19*BS19 -> 0 | CA19: =BY19*BZ19 -> 0 | CC19: =CA19*CB19 -> 0 | CJ19: =CH19*CI19 -> 0 | CL19: =CJ19*CK19 -> 0 | CS19: =CQ19*CR19 -> 0 | CU19: =CS19*CT19 -> 0 | DB19: =CZ19*DA19 -> 0 | DD19: =DB19*DC19 -> 0
G20: =E20*F20 -> 0 | I20: =G20*H20 -> 0 | P20: =N20*O20 -> 0 | R20: =P20*Q20 -> 0 | Y20: =W20*X20 -> 0 | AA20: =Y20*Z20 -> 0 | AH20: =AF20*AG20 -> 0 | AJ20: =AH20*AI20 -> 0 | AQ20: =AO20*AP20 -> 0 | AS20: =AQ20*AR20 -> 0 | AZ20: =AX20*AY20 -> 0 | BB20: =AZ20*BA20 -> 0 | BI20: =BG20*BH20 -> 0 | BK20: =BI20*BJ20 -> 0 | BR20: =BP20*BQ20 -> 0 | BT20: =BR20*BS20 -> 0 | CA20: =BY20*BZ20 -> 0 | CC20: =CA20*CB20 -> 0 | CJ20: =CH20*CI20 -> 0 | CL20: =CJ20*CK20 -> 0 | CS20: =CQ20*CR20 -> 0 | CU20: =CS20*CT20 -> 0 | DB20: =CZ20*DA20 -> 0 | DD20: =DB20*DC20 -> 0
G21: =E21*F21 -> 0 | I21: =G21*H21 -> 0 | P21: =N21*O21 -> 0 | R21: =P21*Q21 -> 0 | Y21: =W21*X21 -> 0 | AA21: =Y21*Z21 -> 0 | AH21: =AF21*AG21 -> 0 | AJ21: =AH21*AI21 -> 0 | AQ21: =AO21*AP21 -> 0 | AS21: =AQ21*AR21 -> 0 | AZ21: =AX21*AY21 -> 0 | BB21: =AZ21*BA21 -> 0 | BI21: =BG21*BH21 -> 0 | BK21: =BI21*BJ21 -> 0 | BR21: =BP21*BQ21 -> 0 | BT21: =BR21*BS21 -> 0 | CA21: =BY21*BZ21 -> 0 | CC21: =CA21*CB21 -> 0 | CJ21: =CH21*CI21 -> 0 | CL21: =CJ21*CK21 -> 0 | CS21: =CQ21*CR21 -> 0 | CU21: =CS21*CT21 -> 0 | DB21: =CZ21*DA21 -> 0 | DD21: =DB21*DC21 -> 0
G22: =E22*F22 -> 0 | I22: =G22*H22 -> 0 | P22: =N22*O22 -> 0 | R22: =P22*Q22 -> 0 | Y22: =W22*X22 -> 0 | AA22: =Y22*Z22 -> 0 | AH22: =AF22*AG22 -> 0 | AJ22: =AH22*AI22 -> 0 | AQ22: =AO22*AP22 -> 0 | AS22: =AQ22*AR22 -> 0 | AZ22: =AX22*AY22 -> 0 | BB22: =AZ22*BA22 -> 0 | BI22: =BG22*BH22 -> 0 | BK22: =BI22*BJ22 -> 0 | BR22: =BP22*BQ22 -> 0 | BT22: =BR22*BS22 -> 0 | CA22: =BY22*BZ22 -> 0 | CC22: =CA22*CB22 -> 0 | CJ22: =CH22*CI22 -> 0 | CL22: =CJ22*CK22 -> 0 | CS22: =CQ22*CR22 -> 0 | CU22: =CS22*CT22 -> 0 | DB22: =CZ22*DA22 -> 0 | DD22: =DB22*DC22 -> 0
G23: =E23*F23 -> 0 | I23: =G23*H23 -> 0 | P23: =N23*O23 -> 0 | R23: =P23*Q23 -> 0 | Y23: =W23*X23 -> 0 | AA23: =Y23*Z23 -> 0 | AH23: =AF23*AG23 -> 0 | AJ23: =AH23*AI23 -> 0 | AQ23: =AO23*AP23 -> 0 | AS23: =AQ23*AR23 -> 0 | AZ23: =AX23*AY23 -> 0 | BB23: =AZ23*BA23 -> 0 | BI23: =BG23*BH23 -> 0 | BK23: =BI23*BJ23 -> 0 | BR23: =BP23*BQ23 -> 0 | BT23: =BR23*BS23 -> 0 | CA23: =BY23*BZ23 -> 0 | CC23: =CA23*CB23 -> 0 | CJ23: =CH23*CI23 -> 0 | CL23: =CJ23*CK23 -> 0 | CS23: =CQ23*CR23 -> 0 | CU23: =CS23*CT23 -> 0 | DB23: =CZ23*DA23 -> 0 | DD23: =DB23*DC23 -> 0
G24: =E24*F24 -> 0 | I24: =G24*H24 -> 0 | P24: =N24*O24 -> 0 | R24: =P24*Q24 -> 0 | Y24: =W24*X24 -> 0 | AA24: =Y24*Z24 -> 0 | AH24: =AF24*AG24 -> 0 | AJ24: =AH24*AI24 -> 0 | AQ24: =AO24*AP24 -> 0 | AS24: =AQ24*AR24 -> 0 | AZ24: =AX24*AY24 -> 0 | BB24: =AZ24*BA24 -> 0 | BI24: =BG24*BH24 -> 0 | BK24: =BI24*BJ24 -> 0 | BR24: =BP24*BQ24 -> 0 | BT24: =BR24*BS24 -> 0 | CA24: =BY24*BZ24 -> 0 | CC24: =CA24*CB24 -> 0 | CJ24: =CH24*CI24 -> 0 | CL24: =CJ24*CK24 -> 0 | CS24: =CQ24*CR24 -> 0 | CU24: =CS24*CT24 -> 0 | DB24: =CZ24*DA24 -> 0 | DD24: =DB24*DC24 -> 0
... G29: =E29*F29 -> 0 | I29: =G29*H29 -> 0 | P29: =N29*O29 -> 0 | R29: =P29*Q29 -> 0 | Y29: =W29*X29 -> 0 | AA29: =Y29*Z29 -> 0 | AH29: =AF29*AG29 -> 0 | AJ29: =AH29*AI29 -> 0 | AQ29: =AO29*AP29 -> 0 | AS29: =AQ29*AR29 -> 0 | AZ29: =AX29*AY29 -> 0 | BB29: =AZ29*BA29 -> 0 | BI29: =BG29*BH29 -> 0 | BK29: =BI29*BJ29 -> 0 | BR29: =BP29*BQ29 -> 0 | BT29: =BR29*BS29 -> 0 | CA29: =BY29*BZ29 -> 0 | CC29: =CA29*CB29 -> 0 | CJ29: =CH29*CI29 -> 0 | CL29: =CJ29*CK29 -> 0 | CS29: =CQ29*CR29 -> 0 | CU29: =CS29*CT29 -> 0 | DB29: =CZ29*DA29 -> 0 | DD29: =DB29*DC29 -> 0
B30: TOTAIS | G30: =SUM(G9:G29) -> 6000 | H30: =AVERAGE(H9:H29) -> 0.035 | I30: =SUM(I9:I29) -> 220 | K30: TOTAIS | P30: =SUM(P9:P29) -> 7490 | Q30: =AVERAGE(Q9:Q29) -> 0.035 | R30: =SUM(R9:R29) -> 276.45 | T30: TOTAIS | Y30: =SUM(Y9:Y29) -> 5840 | Z30: =AVERAGE(Z9:Z29) -> 0.035 | AA30: =SUM(AA9:AA29) -> 225.95 | AC30: TOTAIS | AH30: =SUM(AH9:AH29) -> 4980 | AI30: =AVERAGE(AI9:AI29) -> 0.035 | AJ30: =SUM(AJ9:AJ29) -> 170.7 | AL30: TOTAIS | AQ30: =SUM(AQ9:AQ29) -> 4130 | AR30: =AVERAGE(AR9:AR29) -> 0.035 | AS30: =SUM(AS9:AS29) -> 147.65 | AU30: TOTAIS | AZ30: =SUM(AZ9:AZ29) -> 9500 | BA30: =AVERAGE(BA9:BA29) -> 0.035 | BB30: =SUM(BB9:BB29) -> 363.75 | BD30: TOTAIS | BI30: =SUM(BI9:BI29) -> 1900 | BJ30: =AVERAGE(BJ9:BJ29) -> 0.035 | BK30: =SUM(BK9:BK29) -> 70.5 | BM30: TOTAIS | BR30: =SUM(BR9:BR29) -> 3260 | BS30: =AVERAGE(BS9:BS29) -> 0.035 | BT30: =SUM(BT9:BT29) -> 110.7 | BV30: TOTAIS | CA30: =SUM(CA9:CA29) -> 6950 | CB30: =AVERAGE(CB9:CB29) -> 0.035 | CC30: =SUM(CC9:CC29) -> 269.25 | CE30: TOTAIS | CJ30: =SUM(CJ9:CJ29) -> 7020 | CK30: =AVERAGE(CK9:CK29) -> 0.035 | CL30: =SUM(CL9:CL29) -> 271.5 | CN30: TOTAIS | CS30: =SUM(CS9:CS29) -> 3340 | CT30: =AVERAGE(CT9:CT29) -> 0.035 | CU30: =SUM(CU9:CU29) -> 119.6 | CW30: TOTAIS | DB30: =SUM(DB9:DB29) -> 2330 | DC30: =AVERAGE(DC9:DC29) -> 0.035 | DD30: =SUM(DD9:DD29) -> 82.65
H31: Comissão paga? | I31: sim | Q31: Comissão paga? | R31: NÃO | Z31: Comissão paga? | AA31: NÃO | AI31: Comissão paga? | AJ31: NÃO | AR31: Comissão paga? | AS31: NÃO | BA31: Comissão paga? | BB31: NÃO | BJ31: Comissão paga? | BK31: NÃO | BS31: Comissão paga? | BT31: sim | CB31: Comissão paga? | CC31: NÃO | CK31: Comissão paga? | CL31: sim | CT31: Comissão paga? | CU31: NÃO | DC31: Comissão paga? | DD31: sim

Sheet (NOME DO VENDEDOR3)
B1: VISÃO MENSAL DE COMISSÕES | J1: INSTRUÇÕES | K1: Capa
B5: VENDEDOR | C5: beltrano
B7: JANEIRO | K7: FEVEREIRO | T7: MARÇO | AC7: ABRIL | AL7: MAIO | AU7: JUNHO | BD7: JULHO | BM7: AGOSTO | BV7: SETEMBRO | CE7: OUTUBRO | CN7: NOVEMBRO | CW7: DEZEMBRO
B8: DATA | C8: CLIENTE | D8: PRODUTO | E8: PREÇO | F8: QUANTIDADE | G8: VALOR TOTAL DA VENDA | H8: % COMISSÃO | I8: Valor da comissão | K8: DATA | L8: CLIENTE | M8: PRODUTO | N8: PREÇO | O8: QUANTIDADE | P8: VALOR TOTAL DA VENDA | Q8: % COMISSÃO | R8: VALOR DA COMISSÃO | T8: DATA | U8: CLIENTE | V8: PRODUTO | W8: PREÇO | X8: QUANTIDADE | Y8: VALOR TOTAL DA VENDA | Z8: % COMISSÃO | AA8: VALOR DA COMISSÃO | AC8: DATA | AD8: CLIENTE | AE8: PRODUTO | AF8: PREÇO | AG8: QUANTIDADE | AH8: VALOR TOTAL DA VENDA | AI8: % COMISSÃO | AJ8: VALOR DA COMISSÃO | AL8: DATA | AM8: CLIENTE | AN8: PRODUTO | AO8: PREÇO | AP8: QUANTIDADE | AQ8: VALOR TOTAL DA VENDA | AR8: % COMISSÃO | AS8: VALOR DA COMISSÃO | AU8: DATA | AV8: CLIENTE | AW8: PRODUTO | AX8: PREÇO | AY8: QUANTIDADE | AZ8: VALOR TOTAL DA VENDA | BA8: % COMISSÃO | BB8: VALOR DA COMISSÃO | BD8: DATA | BE8: CLIENTE | BF8: PRODUTO | BG8: PREÇO | BH8: QUANTIDADE | BI8: VALOR TOTAL DA VENDA | BJ8: % COMISSÃO | BK8: VALOR DA COMISSÃO | BM8: DATA | BN8: CLIENTE | BO8: PRODUTO | BP8: PREÇO | BQ8: QUANTIDADE | BR8: VALOR TOTAL DA VENDA | BS8: % COMISSÃO | BT8: VALOR DA COMISSÃO | BV8: DATA | BW8: CLIENTE | BX8: PRODUTO | BY8: PREÇO | BZ8: QUANTIDADE | CA8: VALOR TOTAL DA VENDA | CB8: % COMISSÃO | CC8: VALOR DA COMISSÃO | CE8: DATA | CF8: CLIENTE | CG8: PRODUTO | CH8: PREÇO | CI8: QUANTIDADE | CJ8: VALOR TOTAL DA VENDA | CK8: % COMISSÃO | CL8: VALOR DA COMISSÃO | CN8: DATA | CO8: CLIENTE | CP8: PRODUTO | CQ8: PREÇO | CR8: QUANTIDADE | CS8: VALOR TOTAL DA VENDA | CT8: % COMISSÃO | CU8: VALOR DA COMISSÃO | CW8: DATA | CX8: CLIENTE | CY8: PRODUTO | CZ8: PREÇO | DA8: QUANTIDADE | DB8: VALOR TOTAL DA VENDA | DC8: % COMISSÃO | DD8: VALOR DA COMISSÃO
B9: 43831 | C9: nome do cliente | D9: nome do produto | E9: 500 | F9: 1 | G9: =E9*F9 -> 500 | H9: 0.03 | I9: =G9*H9 -> 15 | K9: 43862 | L9: nome do cliente | M9: nome do produto | N9: 1300 | O9: 2 | P9: =N9*O9 -> 2600 | Q9: 0.03 | R9: =P9*Q9 -> 78 | T9: 43891 | U9: nome do cliente | V9: nome do produto | W9: 500 | X9: 5 | Y9: =W9*X9 -> 2500 | Z9: 0.03 | AA9: =Y9*Z9 -> 75 | AC9: 43922 | AD9: nome do cliente | AE9: nome do produto | AF9: 500 | AG9: 2 | AH9: =AF9*AG9 -> 1000 | AI9: 0.03 | AJ9: =AH9*AI9 -> 30 | AL9: 43952 | AM9: nome do cliente | AN9: nome do produto | AO9: 300 | AP9: 3 | AQ9: =AO9*AP9 -> 900 | AR9: 0.03 | AS9: =AQ9*AR9 -> 27 | AU9: 43983 | AV9: nome do cliente | AW9: nome do produto | AX9: 500 | AY9: 2 | AZ9: =AX9*AY9 -> 1000 | BA9: 0.03 | BB9: =AZ9*BA9 -> 30 | BD9: 44013 | BE9: nome do cliente | BF9: nome do produto | BG9: 100 | BH9: 3 | BI9: =BG9*BH9 -> 300 | BJ9: 0.03 | BK9: =BI9*BJ9 -> 9 | BM9: 44044 | BN9: nome do cliente | BO9: nome do produto | BP9: 350 | BQ9: 5 | BR9: =BP9*BQ9 -> 1750 | BS9: 0.03 | BT9: =BR9*BS9 -> 52.5 | BV9: 44075 | BW9: nome do cliente | BX9: nome do produto | BY9: 750 | BZ9: 2 | CA9: =BY9*BZ9 -> 1500 | CB9: 0.03 | CC9: =CA9*CB9 -> 45 | CE9: 44105 | CF9: nome do cliente | CG9: nome do produto | CH9: 900 | CI9: 2 | CJ9: =CH9*CI9 -> 1800 | CK9: 0.03 | CL9: =CJ9*CK9 -> 54 | CN9: 44136 | CO9: nome do cliente | CP9: nome do produto | CQ9: 120 | CR9: 1 | CS9: =CQ9*CR9 -> 120 | CT9: 0.03 | CU9: =CS9*CT9 -> 3.6 | CW9: 44166 | CX9: nome do cliente | CY9: nome do produto | CZ9: 420 | DA9: 5 | DB9: =CZ9*DA9 -> 2100 | DC9: 0.03 | DD9: =DB9*DC9 -> 63
B10: 43832 | C10: nome do cliente | D10: nome do produto | E10: 1500 | F10: 1 | G10: =E10*F10 -> 1500 | H10: 0.045 | I10: =G10*H10 -> 67.5 | K10: 43863 | L10: nome do cliente | M10: nome do produto | N10: 1500 | O10: 2 | P10: =N10*O10 -> 3000 | Q10: 0.045 | R10: =P10*Q10 -> 135 | T10: 43892 | U10: nome do cliente | V10: nome do produto | W10: 900 | X10: 1 | Y10: =W10*X10 -> 900 | Z10: 0.045 | AA10: =Y10*Z10 -> 40.5 | AC10: 43923 | AD10: nome do cliente | AE10: nome do produto | AF10: 500 | AG10: 2 | AH10: =AF10*AG10 -> 1000 | AI10: 0.045 | AJ10: =AH10*AI10 -> 45 | AL10: 43953 | AM10: nome do cliente | AN10: nome do produto | AO10: 270 | AP10: 1 | AQ10: =AO10*AP10 -> 270 | AR10: 0.045 | AS10: =AQ10*AR10 -> 12.15 | AU10: 43984 | AV10: nome do cliente | AW10: nome do produto | AX10: 1500 | AY10: 2 | AZ10: =AX10*AY10 -> 3000 | BA10: 0.045 | BB10: =AZ10*BA10 -> 135 | BD10: 44014 | BE10: nome do cliente | BF10: nome do produto | BG10: 200 | BH10: 2 | BI10: =BG10*BH10 -> 400 | BJ10: 0.045 | BK10: =BI10*BJ10 -> 18 | BM10: 44045 | BN10: nome do cliente | BO10: nome do produto | BP10: 120 | BQ10: 4 | BR10: =BP10*BQ10 -> 480 | BS10: 0.045 | BT10: =BR10*BS10 -> 21.6 | BV10: 44076 | BW10: nome do cliente | BX10: nome do produto | BY10: 1000 | BZ10: 2 | CA10: =BY10*BZ10 -> 2000 | CB10: 0.045 | CC10: =CA10*CB10 -> 90 | CE10: 44106 | CF10: nome do cliente | CG10: nome do produto | CH10: 1300 | CI10: 2 | CJ10: =CH10*CI10 -> 2600 | CK10: 0.045 | CL10: =CJ10*CK10 -> 117 | CN10: 44137 | CO10: nome do cliente | CP10: nome do produto | CQ10: 400 | CR10: 1 | CS10: =CQ10*CR10 -> 400 | CT10: 0.045 | CU10: =CS10*CT10 -> 18 | CW10: 44167 | CX10: nome do cliente | CY10: nome do produto | CZ10: 800 | DA10: 2 | DB10: =CZ10*DA10 -> 1600 | DC10: 0.045 | DD10: =DB10*DC10 -> 72
B11: 43833 | C11: nome do cliente | D11: nome do produto | E11: 750 | F11: 1 | G11: =E11*F11 -> 750 | H11: 0.025 | I11: =G11*H11 -> 18.75 | K11: 43864 | L11: nome do cliente | M11: nome do produto | N11: 810 | O11: 2 | P11: =N11*O11 -> 1620 | Q11: 0.025 | R11: =P11*Q11 -> 40.5 | T11: 43893 | U11: nome do cliente | V11: nome do produto | W11: 410 | X11: 3 | Y11: =W11*X11 -> 1230 | Z11: 0.025 | AA11: =Y11*Z11 -> 30.75 | AC11: 43924 | AD11: nome do cliente | AE11: nome do produto | AF11: 900 | AG11: 5 | AH11: =AF11*AG11 -> 4500 | AI11: 0.025 | AJ11: =AH11*AI11 -> 112.5 | AL11: 43954 | AM11: nome do cliente | AN11: nome do produto | AO11: 860 | AP11: 1 | AQ11: =AO11*AP11 -> 860 | AR11: 0.025 | AS11: =AQ11*AR11 -> 21.5 | AU11: 43985 | AV11: nome do cliente | AW11: nome do produto | AX11: 750 | AY11: 2 | AZ11: =AX11*AY11 -> 1500 | BA11: 0.025 | BB11: =AZ11*BA11 -> 37.5 | BD11: 44015 | BE11: nome do cliente | BF11: nome do produto | BG11: 300 | BH11: 1 | BI11: =BG11*BH11 -> 300 | BJ11: 0.025 | BK11: =BI11*BJ11 -> 7.5 | BM11: 44046 | BN11: nome do cliente | BO11: nome do produto | BP11: 1200 | BQ11: 1 | BR11: =BP11*BQ11 -> 1200 | BS11: 0.025 | BT11: =BR11*BS11 -> 30 | BV11: 44077 | BW11: nome do cliente | BX11: nome do produto | BY11: 250 | BZ11: 1 | CA11: =BY11*BZ11 -> 250 | CB11: 0.025 | CC11: =CA11*CB11 -> 6.25 | CE11: 44107 | CF11: nome do cliente | CG11: nome do produto | CH11: 120 | CI11: 1 | CJ11: =CH11*CI11 -> 120 | CK11: 0.025 | CL11: =CJ11*CK11 -> 3 | CN11: 44138 | CO11: nome do cliente | CP11: nome do produto | CQ11: 520 | CR11: 1 | CS11: =CQ11*CR11 -> 520 | CT11: 0.025 | CU11: =CS11*CT11 -> 13 | CW11: 44168 | CX11: nome do cliente | CY11: nome do produto | CZ11: 690 | DA11: 1 | DB11: =CZ11*DA11 -> 690 | DC11: 0.025 | DD11: =DB11*DC11 -> 17.25
B12: 43834 | C12: nome do cliente | D12: nome do produto | E12: 1250 | F12: 1 | G12: =E12*F12 -> 1250 | H12: 0.04 | I12: =G12*H12 -> 50 | K12: 43865 | L12: nome do cliente | M12: nome do produto | N12: 360 | O12: 3 | P12: =N12*O12 -> 1080 | Q12: 0.04 | R12: =P12*Q12 -> 43.2 | T12: 43894 | U12: nome do cliente | V12: nome do produto | W12: 410 | X12: 2 | Y12: =W12*X12 -> 820 | Z12: 0.04 | AA12: =Y12*Z12 -> 32.8 | AC12: 43925 | AD12: nome do cliente | AE12: nome do produto | AF12: 360 | AG12: 3 | AH12: =AF12*AG12 -> 1080 | AI12: 0.04 | AJ12: =AH12*AI12 -> 43.2 | AL12: 43955 | AM12: nome do cliente | AN12: nome do produto | AO12: 600 | AP12: 1 | AQ12: =AO12*AP12 -> 600 | AR12: 0.04 | AS12: =AQ12*AR12 -> 24 | AU12: 43986 | AV12: nome do cliente | AW12: nome do produto | AX12: 1250 | AY12: 2 | AZ12: =AX12*AY12 -> 2500 | BA12: 0.04 | BB12: =AZ12*BA12 -> 100 | BD12: 44016 | BE12: nome do cliente | BF12: nome do produto | BG12: 400 | BH12: 1 | BI12: =BG12*BH12 -> 400 | BJ12: 0.04 | BK12: =BI12*BJ12 -> 16 | BM12: 44047 | BN12: nome do cliente | BO12: nome do produto | BP12: 450 | BQ12: 3 | BR12: =BP12*BQ12 -> 1350 | BS12: 0.04 | BT12: =BR12*BS12 -> 54 | BV12: 44078 | BW12: nome do cliente | BX12: nome do produto | BY12: 800 | BZ12: 3 | CA12: =BY12*BZ12 -> 2400 | CB12: 0.04 | CC12: =CA12*CB12 -> 96 | CE12: 44108 | CF12: nome do cliente | CG12: nome do produto | CH12: 300 | CI12: 3 | CJ12: =CH12*CI12 -> 900 | CK12: 0.04 | CL12: =CJ12*CK12 -> 36 | CN12: 44139 | CO12: nome do cliente | CP12: nome do produto | CQ12: 630 | CR12: 3 | CS12: =CQ12*CR12 -> 1890 | CT12: 0.04 | CU12: =CS12*CT12 -> 75.6 | CW12: 44169 | CX12: nome do cliente | CY12: nome do produto | CZ12: 420 | DA12: 2 | DB12: =CZ12*DA12 -> 840 | DC12: 0.04 | DD12: =DB12*DC12 -> 33.6
G13: =E13*F13 -> 0 | I13: =G13*H13 -> 0 | P13: =N13*O13 -> 0 | R13: =P13*Q13 -> 0 | Y13: =W13*X13 -> 0 | AA13: =Y13*Z13 -> 0 | AH13: =AF13*AG13 -> 0 | AJ13: =AH13*AI13 -> 0 | AQ13: =AO13*AP13 -> 0 | AS13: =AQ13*AR13 -> 0 | AZ13: =AX13*AY13 -> 0 | BB13: =AZ13*BA13 -> 0 | BI13: =BG13*BH13 -> 0 | BK13: =BI13*BJ13 -> 0 | BR13: =BP13*BQ13 -> 0 | BT13: =BR13*BS13 -> 0 | CA13: =BY13*BZ13 -> 0 | CC13: =CA13*CB13 -> 0 | CJ13: =CH13*CI13 -> 0 | CL13: =CJ13*CK13 -> 0 | CS13: =CQ13*CR13 -> 0 | CU13: =CS13*CT13 -> 0 | DB13: =CZ13*DA13 -> 0 | DD13: =DB13*DC13 -> 0
G14: =E14*F14 -> 0 | I14: =G14*H14 -> 0 | P14: =N14*O14 -> 0 | R14: =P14*Q14 -> 0 | Y14: =W14*X14 -> 0 | AA14: =Y14*Z14 -> 0 | AH14: =AF14*AG14 -> 0 | AJ14: =AH14*AI14 -> 0 | AQ14: =AO14*AP14 -> 0 | AS14: =AQ14*AR14 -> 0 | AZ14: =AX14*AY14 -> 0 | BB14: =AZ14*BA14 -> 0 | BI14: =BG14*BH14 -> 0 | BK14: =BI14*BJ14 -> 0 | BR14: =BP14*BQ14 -> 0 | BT14: =BR14*BS14 -> 0 | CA14: =BY14*BZ14 -> 0 | CC14: =CA14*CB14 -> 0 | CJ14: =CH14*CI14 -> 0 | CL14: =CJ14*CK14 -> 0 | CS14: =CQ14*CR14 -> 0 | CU14: =CS14*CT14 -> 0 | DB14: =CZ14*DA14 -> 0 | DD14: =DB14*DC14 -> 0
G15: =E15*F15 -> 0 | I15: =G15*H15 -> 0 | P15: =N15*O15 -> 0 | R15: =P15*Q15 -> 0 | Y15: =W15*X15 -> 0 | AA15: =Y15*Z15 -> 0 | AH15: =AF15*AG15 -> 0 | AJ15: =AH15*AI15 -> 0 | AQ15: =AO15*AP15 -> 0 | AS15: =AQ15*AR15 -> 0 | AZ15: =AX15*AY15 -> 0 | BB15: =AZ15*BA15 -> 0 | BI15: =BG15*BH15 -> 0 | BK15: =BI15*BJ15 -> 0 | BR15: =BP15*BQ15 -> 0 | BT15: =BR15*BS15 -> 0 | CA15: =BY15*BZ15 -> 0 | CC15: =CA15*CB15 -> 0 | CJ15: =CH15*CI15 -> 0 | CL15: =CJ15*CK15 -> 0 | CS15: =CQ15*CR15 -> 0 | CU15: =CS15*CT15 -> 0 | DB15: =CZ15*DA15 -> 0 | DD15: =DB15*DC15 -> 0
G16: =E16*F16 -> 0 | I16: =G16*H16 -> 0 | P16: =N16*O16 -> 0 | R16: =P16*Q16 -> 0 | Y16: =W16*X16 -> 0 | AA16: =Y16*Z16 -> 0 | AH16: =AF16*AG16 -> 0 | AJ16: =AH16*AI16 -> 0 | AQ16: =AO16*AP16 -> 0 | AS16: =AQ16*AR16 -> 0 | AZ16: =AX16*AY16 -> 0 | BB16: =AZ16*BA16 -> 0 | BI16: =BG16*BH16 -> 0 | BK16: =BI16*BJ16 -> 0 | BR16: =BP16*BQ16 -> 0 | BT16: =BR16*BS16 -> 0 | CA16: =BY16*BZ16 -> 0 | CC16: =CA16*CB16 -> 0 | CJ16: =CH16*CI16 -> 0 | CL16: =CJ16*CK16 -> 0 | CS16: =CQ16*CR16 -> 0 | CU16: =CS16*CT16 -> 0 | DB16: =CZ16*DA16 -> 0 | DD16: =DB16*DC16 -> 0
G17: =E17*F17 -> 0 | I17: =G17*H17 -> 0 | P17: =N17*O17 -> 0 | R17: =P17*Q17 -> 0 | Y17: =W17*X17 -> 0 | AA17: =Y17*Z17 -> 0 | AH17: =AF17*AG17 -> 0 | AJ17: =AH17*AI17 -> 0 | AQ17: =AO17*AP17 -> 0 | AS17: =AQ17*AR17 -> 0 | AZ17: =AX17*AY17 -> 0 | BB17: =AZ17*BA17 -> 0 | BI17: =BG17*BH17 -> 0 | BK17: =BI17*BJ17 -> 0 | BR17: =BP17*BQ17 -> 0 | BT17: =BR17*BS17 -> 0 | CA17: =BY17*BZ17 -> 0 | CC17: =CA17*CB17 -> 0 | CJ17: =CH17*CI17 -> 0 | CL17: =CJ17*CK17 -> 0 | CS17: =CQ17*CR17 -> 0 | CU17: =CS17*CT17 -> 0 | DB17: =CZ17*DA17 -> 0 | DD17: =DB17*DC17 -> 0
G18: =E18*F18 -> 0 | I18: =G18*H18 -> 0 | P18: =N18*O18 -> 0 | R18: =P18*Q18 -> 0 | Y18: =W18*X18 -> 0 | AA18: =Y18*Z18 -> 0 | AH18: =AF18*AG18 -> 0 | AJ18: =AH18*AI18 -> 0 | AQ18: =AO18*AP18 -> 0 | AS18: =AQ18*AR18 -> 0 | AZ18: =AX18*AY18 -> 0 | BB18: =AZ18*BA18 -> 0 | BI18: =BG18*BH18 -> 0 | BK18: =BI18*BJ18 -> 0 | BR18: =BP18*BQ18 -> 0 | BT18: =BR18*BS18 -> 0 | CA18: =BY18*BZ18 -> 0 | CC18: =CA18*CB18 -> 0 | CJ18: =CH18*CI18 -> 0 | CL18: =CJ18*CK18 -> 0 | CS18: =CQ18*CR18 -> 0 | CU18: =CS18*CT18 -> 0 | DB18: =CZ18*DA18 -> 0 | DD18: =DB18*DC18 -> 0
G19: =E19*F19 -> 0 | I19: =G19*H19 -> 0 | P19: =N19*O19 -> 0 | R19: =P19*Q19 -> 0 | Y19: =W19*X19 -> 0 | AA19: =Y19*Z19 -> 0 | AH19: =AF19*AG19 -> 0 | AJ19: =AH19*AI19 -> 0 | AQ19: =AO19*AP19 -> 0 | AS19: =AQ19*AR19 -> 0 | AZ19: =AX19*AY19 -> 0 | BB19: =AZ19*BA19 -> 0 | BI19: =BG19*BH19 -> 0 | BK19: =BI19*BJ19 -> 0 | BR19: =BP19*BQ19 -> 0 | BT19: =BR19*BS19 -> 0 | CA19: =BY19*BZ19 -> 0 | CC19: =CA19*CB19 -> 0 | CJ19: =CH19*CI19 -> 0 | CL19: =CJ19*CK19 -> 0 | CS19: =CQ19*CR19 -> 0 | CU19: =CS19*CT19 -> 0 | DB19: =CZ19*DA19 -> 0 | DD19: =DB19*DC19 -> 0
G20: =E20*F20 -> 0 | I20: =G20*H20 -> 0 | P20: =N20*O20 -> 0 | R20: =P20*Q20 -> 0 | Y20: =W20*X20 -> 0 | AA20: =Y20*Z20 -> 0 | AH20: =AF20*AG20 -> 0 | AJ20: =AH20*AI20 -> 0 | AQ20: =AO20*AP20 -> 0 | AS20: =AQ20*AR20 -> 0 | AZ20: =AX20*AY20 -> 0 | BB20: =AZ20*BA20 -> 0 | BI20: =BG20*BH20 -> 0 | BK20: =BI20*BJ20 -> 0 | BR20: =BP20*BQ20 -> 0 | BT20: =BR20*BS20 -> 0 | CA20: =BY20*BZ20 -> 0 | CC20: =CA20*CB20 -> 0 | CJ20: =CH20*CI20 -> 0 | CL20: =CJ20*CK20 -> 0 | CS20: =CQ20*CR20 -> 0 | CU20: =CS20*CT20 -> 0 | DB20: =CZ20*DA20 -> 0 | DD20: =DB20*DC20 -> 0
G21: =E21*F21 -> 0 | I21: =G21*H21 -> 0 | P21: =N21*O21 -> 0 | R21: =P21*Q21 -> 0 | Y21: =W21*X21 -> 0 | AA21: =Y21*Z21 -> 0 | AH21: =AF21*AG21 -> 0 | AJ21: =AH21*AI21 -> 0 | AQ21: =AO21*AP21 -> 0 | AS21: =AQ21*AR21 -> 0 | AZ21: =AX21*AY21 -> 0 | BB21: =AZ21*BA21 -> 0 | BI21: =BG21*BH21 -> 0 | BK21: =BI21*BJ21 -> 0 | BR21: =BP21*BQ21 -> 0 | BT21: =BR21*BS21 -> 0 | CA21: =BY21*BZ21 -> 0 | CC21: =CA21*CB21 -> 0 | CJ21: =CH21*CI21 -> 0 | CL21: =CJ21*CK21 -> 0 | CS21: =CQ21*CR21 -> 0 | CU21: =CS21*CT21 -> 0 | DB21: =CZ21*DA21 -> 0 | DD21: =DB21*DC21 -> 0
G22: =E22*F22 -> 0 | I22: =G22*H22 -> 0 | P22: =N22*O22 -> 0 | R22: =P22*Q22 -> 0 | Y22: =W22*X22 -> 0 | AA22: =Y22*Z22 -> 0 | AH22: =AF22*AG22 -> 0 | AJ22: =AH22*AI22 -> 0 | AQ22: =AO22*AP22 -> 0 | AS22: =AQ22*AR22 -> 0 | AZ22: =AX22*AY22 -> 0 | BB22: =AZ22*BA22 -> 0 | BI22: =BG22*BH22 -> 0 | BK22: =BI22*BJ22 -> 0 | BR22: =BP22*BQ22 -> 0 | BT22: =BR22*BS22 -> 0 | CA22: =BY22*BZ22 -> 0 | CC22: =CA22*CB22 -> 0 | CJ22: =CH22*CI22 -> 0 | CL22: =CJ22*CK22 -> 0 | CS22: =CQ22*CR22 -> 0 | CU22: =CS22*CT22 -> 0 | DB22: =CZ22*DA22 -> 0 | DD22: =DB22*DC22 -> 0
G23: =E23*F23 -> 0 | I23: =G23*H23 -> 0 | P23: =N23*O23 -> 0 | R23: =P23*Q23 -> 0 | Y23: =W23*X23 -> 0 | AA23: =Y23*Z23 -> 0 | AH23: =AF23*AG23 -> 0 | AJ23: =AH23*AI23 -> 0 | AQ23: =AO23*AP23 -> 0 | AS23: =AQ23*AR23 -> 0 | AZ23: =AX23*AY23 -> 0 | BB23: =AZ23*BA23 -> 0 | BI23: =BG23*BH23 -> 0 | BK23: =BI23*BJ23 -> 0 | BR23: =BP23*BQ23 -> 0 | BT23: =BR23*BS23 -> 0 | CA23: =BY23*BZ23 -> 0 | CC23: =CA23*CB23 -> 0 | CJ23: =CH23*CI23 -> 0 | CL23: =CJ23*CK23 -> 0 | CS23: =CQ23*CR23 -> 0 | CU23: =CS23*CT23 -> 0 | DB23: =CZ23*DA23 -> 0 | DD23: =DB23*DC23 -> 0
G24: =E24*F24 -> 0 | I24: =G24*H24 -> 0 | P24: =N24*O24 -> 0 | R24: =P24*Q24 -> 0 | Y24: =W24*X24 -> 0 | AA24: =Y24*Z24 -> 0 | AH24: =AF24*AG24 -> 0 | AJ24: =AH24*AI24 -> 0 | AQ24: =AO24*AP24 -> 0 | AS24: =AQ24*AR24 -> 0 | AZ24: =AX24*AY24 -> 0 | BB24: =AZ24*BA24 -> 0 | BI24: =BG24*BH24 -> 0 | BK24: =BI24*BJ24 -> 0 | BR24: =BP24*BQ24 -> 0 | BT24: =BR24*BS24 -> 0 | CA24: =BY24*BZ24 -> 0 | CC24: =CA24*CB24 -> 0 | CJ24: =CH24*CI24 -> 0 | CL24: =CJ24*CK24 -> 0 | CS24: =CQ24*CR24 -> 0 | CU24: =CS24*CT24 -> 0 | DB24: =CZ24*DA24 -> 0 | DD24: =DB24*DC24 -> 0
... G29: =E29*F29 -> 0 | I29: =G29*H29 -> 0 | P29: =N29*O29 -> 0 | R29: =P29*Q29 -> 0 | Y29: =W29*X29 -> 0 | AA29: =Y29*Z29 -> 0 | AH29: =AF29*AG29 -> 0 | AJ29: =AH29*AI29 -> 0 | AQ29: =AO29*AP29 -> 0 | AS29: =AQ29*AR29 -> 0 | AZ29: =AX29*AY29 -> 0 | BB29: =AZ29*BA29 -> 0 | BI29: =BG29*BH29 -> 0 | BK29: =BI29*BJ29 -> 0 | BR29: =BP29*BQ29 -> 0 | BT29: =BR29*BS29 -> 0 | CA29: =BY29*BZ29 -> 0 | CC29: =CA29*CB29 -> 0 | CJ29: =CH29*CI29 -> 0 | CL29: =CJ29*CK29 -> 0 | CS29: =CQ29*CR29 -> 0 | CU29: =CS29*CT29 -> 0 | DB29: =CZ29*DA29 -> 0 | DD29: =DB29*DC29 -> 0
B30: TOTAIS | G30: =SUM(G9:G29) -> 4000 | H30: =AVERAGE(H9:H29) -> 0.035 | I30: =SUM(I9:I29) -> 151.25 | K30: TOTAIS | P30: =SUM(P9:P29) -> 8300 | Q30: =AVERAGE(Q9:Q29) -> 0.035 | R30: =SUM(R9:R29) -> 296.7 | T30: TOTAIS | Y30: =SUM(Y9:Y29) -> 5450 | Z30: =AVERAGE(Z9:Z29) -> 0.035 | AA30: =SUM(AA9:AA29) -> 179.05 | AC30: TOTAIS | AH30: =SUM(AH9:AH29) -> 7580 | AI30: =AVERAGE(AI9:AI29) -> 0.035 | AJ30: =SUM(AJ9:AJ29) -> 230.7 | AL30: TOTAIS | AQ30: =SUM(AQ9:AQ29) -> 2630 | AR30: =AVERAGE(AR9:AR29) -> 0.035 | AS30: =SUM(AS9:AS29) -> 84.65 | AU30: TOTAIS | AZ30: =SUM(AZ9:AZ29) -> 8000 | BA30: =AVERAGE(BA9:BA29) -> 0.035 | BB30: =SUM(BB9:BB29) -> 302.5 | BD30: TOTAIS | BI30: =SUM(BI9:BI29) -> 1400 | BJ30: =AVERAGE(BJ9:BJ29) -> 0.035 | BK30: =SUM(BK9:BK29) -> 50.5 | BM30: TOTAIS | BR30: =SUM(BR9:BR29) -> 4780 | BS30: =AVERAGE(BS9:BS29) -> 0.035 | BT30: =SUM(BT9:BT29) -> 158.1 | BV30: TOTAIS | CA30: =SUM(CA9:CA29) -> 6150 | CB30: =AVERAGE(CB9:CB29) -> 0.035 | CC30: =SUM(CC9:CC29) -> 237.25 | CE30: TOTAIS | CJ30: =SUM(CJ9:CJ29) -> 5420 | CK30: =AVERAGE(CK9:CK29) -> 0.035 | CL30: =SUM(CL9:CL29) -> 210 | CN30: TOTAIS | CS30: =SUM(CS9:CS29) -> 2930 | CT30: =AVERAGE(CT9:CT29) -> 0.035 | CU30: =SUM(CU9:CU29) -> 110.2 | CW30: TOTAIS | DB30: =SUM(DB9:DB29) -> 5230 | DC30: =AVERAGE(DC9:DC29) -> 0.035 | DD30: =SUM(DD9:DD29) -> 185.85
H31: Comissão paga? | I31: sim | Q31: Comissão paga? | R31: NÃO | Z31: Comissão paga? | AA31: NÃO | AI31: Comissão paga? | AJ31: NÃO | AR31: Comissão paga? | AS31: NÃO | BA31: Comissão paga? | BB31: NÃO | BJ31: Comissão paga? | BK31: NÃO | BS31: Comissão paga? | BT31: sim | CB31: Comissão paga? | CC31: NÃO | CK31: Comissão paga? | CL31: sim | CT31: Comissão paga? | CU31: NÃO | DC31: Comissão paga? | DD31: sim

Sheet VISÃO GERAL
B1: VISÃO GERAL | O1: INSTRUÇÕES | P1: Capa
D5: JAN | E5: FEV | F5: MAR | G5: ABR | H5: MAI | I5: JUN | J5: JUL | K5: AGO | L5: SET | M5: OUT | N5: NOV | O5: DEZ | P5: TOTAL
B6: fulano | C6: Vendas | D6: ='(NOME DO VENDEDOR1)'!G30 -> 9500 | E6: ='(NOME DO VENDEDOR1)'!P30 -> 8070 | F6: ='(NOME DO VENDEDOR1)'!Y30 -> 4440 | G6: ='(NOME DO VENDEDOR1)'!AH30 -> 3760 | H6: ='(NOME DO VENDEDOR1)'!AQ30 -> 3790 | I6: ='(NOME DO VENDEDOR1)'!AZ30 -> 8000 | J6: ='(NOME DO VENDEDOR1)'!BI30 -> 4240 | K6: ='(NOME DO VENDEDOR1)'!BR30 -> 4990 | L6: ='(NOME DO VENDEDOR1)'!CA30 -> 7250 | M6: ='(NOME DO VENDEDOR1)'!CJ30 -> 3700 | N6: ='(NOME DO VENDEDOR1)'!CS30 -> 5210 | O6: ='(NOME DO VENDEDOR1)'!DB30 -> 4750 | P6: =SUM(D6:O6) -> 67700
C7: Comissão | D7: ='(NOME DO VENDEDOR1)'!I30 -> 407.5 | E7: ='(NOME DO VENDEDOR1)'!R30 -> 368.7 | F7: ='(NOME DO VENDEDOR1)'!AA30 -> 188.4 | G7: ='(NOME DO VENDEDOR1)'!AJ30 -> 161.4 | H7: ='(NOME DO VENDEDOR1)'!AS30 -> 147.75 | I7: ='(NOME DO VENDEDOR1)'!BB30 -> 310 | J7: ='(NOME DO VENDEDOR1)'!BK30 -> 179.5 | K7: ='(NOME DO VENDEDOR1)'!BT30 -> 171.8 | L7: ='(NOME DO VENDEDOR1)'!CC30 -> 261 | M7: ='(NOME DO VENDEDOR1)'!CL30 -> 132 | N7: ='(NOME DO VENDEDOR1)'!CU30 -> 184.6 | O7: ='(NOME DO VENDEDOR1)'!DD30 -> 175.65 | P7: =SUM(D7:O7) -> 2688.3
B8: ciclano | C8: Vendas | D8: ='(NOME DO VENDEDOR2) '!G30 -> 6000 | E8: ='(NOME DO VENDEDOR2) '!P30 -> 7490 | F8: ='(NOME DO VENDEDOR2) '!Y30 -> 5840 | G8: ='(NOME DO VENDEDOR2) '!AH30 -> 4980 | H8: ='(NOME DO VENDEDOR2) '!AQ30 -> 4130 | I8: ='(NOME DO VENDEDOR2) '!AZ30 -> 9500 | J8: ='(NOME DO VENDEDOR2) '!BI30 -> 1900 | K8: ='(NOME DO VENDEDOR2) '!BR30 -> 3260 | L8: ='(NOME DO VENDEDOR2) '!CA30 -> 6950 | M8: ='(NOME DO VENDEDOR2) '!CJ30 -> 7020 | N8: ='(NOME DO VENDEDOR2) '!CS30 -> 3340 | O8: ='(NOME DO VENDEDOR2) '!DB30 -> 2330 | P8: =SUM(D8:O8) -> 62740
C9: Comissão | D9: ='(NOME DO VENDEDOR2) '!I30 -> 220 | E9: ='(NOME DO VENDEDOR2) '!R30 -> 276.45 | F9: ='(NOME DO VENDEDOR2) '!AA30 -> 225.95 | G9: ='(NOME DO VENDEDOR2) '!AJ30 -> 170.7 | H9: ='(NOME DO VENDEDOR2) '!AS30 -> 147.65 | I9: ='(NOME DO VENDEDOR2) '!BB30 -> 363.75 | J9: ='(NOME DO VENDEDOR2) '!BK30 -> 70.5 | K9: ='(NOME DO VENDEDOR2) '!BT30 -> 110.7 | L9: ='(NOME DO VENDEDOR2) '!CC30 -> 269.25 | M9: ='(NOME DO VENDEDOR2) '!CL30 -> 271.5 | N9: ='(NOME DO VENDEDOR2) '!CU30 -> 119.6 | O9: ='(NOME DO VENDEDOR2) '!DD30 -> 82.65 | P9: =SUM(D9:O9) -> 2328.7
B10: beltrano | C10: Vendas | D10: ='(NOME DO VENDEDOR3)'!G30 -> 4000 | E10: ='(NOME DO VENDEDOR3)'!P30 -> 8300 | F10: ='(NOME DO VENDEDOR3)'!Y30 -> 5450 | G10: ='(NOME DO VENDEDOR3)'!AH30 -> 7580 | H10: ='(NOME DO VENDEDOR3)'!AQ30 -> 2630 | I10: ='(NOME DO VENDEDOR3)'!AZ30 -> 8000 | J10: ='(NOME DO VENDEDOR3)'!BI30 -> 1400 | K10: ='(NOME DO VENDEDOR3)'!BR30 -> 4780 | L10: ='(NOME DO VENDEDOR3)'!CA30 -> 6150 | M10: ='(NOME DO VENDEDOR3)'!CJ30 -> 5420 | N10: ='(NOME DO VENDEDOR3)'!CS30 -> 2930 | O10: ='(NOME DO VENDEDOR3)'!DB30 -> 5230 | P10: =SUM(D10:O10) -> 61870
C11: Comissão | D11: ='(NOME DO VENDEDOR3)'!I30 -> 151.25 | E11: ='(NOME DO VENDEDOR3)'!R30 -> 296.7 | F11: ='(NOME DO VENDEDOR3)'!AA30 -> 179.05 | G11: ='(NOME DO VENDEDOR3)'!AJ30 -> 230.7 | H11: ='(NOME DO VENDEDOR3)'!AS30 -> 84.65 | I11: ='(NOME DO VENDEDOR3)'!BB30 -> 302.5 | J11: ='(NOME DO VENDEDOR3)'!BK30 -> 50.5 | K11: ='(NOME DO VENDEDOR3)'!BT30 -> 158.1 | L11: ='(NOME DO VENDEDOR3)'!CC30 -> 237.25 | M11: ='(NOME DO VENDEDOR3)'!CL30 -> 210 | N11: ='(NOME DO VENDEDOR3)'!CU30 -> 110.2 | O11: ='(NOME DO VENDEDOR3)'!DD30 -> 185.85 | P11: =SUM(D11:O11) -> 2196.75
