Workbook

Sheet MENU
A1: Planilha de Controle de Produção v 1.0
A8: Cadastro das Matérias-Primas utilizadas
A10: Fórmulas de Produção
A12: Compras de Matéria-Prima
A13: Jan | B13: Fev | C13: Mar | D13: Abr
A14: Mai | B14: Jun | C14: Jul | D14: Ago
A15: Set | B15: Out | C15: Nov | D15: Dez
A17: Ordens de Produção
A18: Jan | B18: Fev | C18: Mar | D18: Abr
A19: Mai | B19: Jun | C19: Jul | D19: Ago
A20: Set | B20: Out | C20: Nov | D20: Dez
A22: Estoque de Matéria-Prima Unificado
A24: Estoque de Produtos Fabricados Unificado

Sheet Matérias-Primas
A1: Menu | B1: MATÉRIAS-PRIMAS UTILIZADAS
B2: Nº | C2: Cadastro Matéria-Prima | D2: Un. de Medida
B3: 1 | C3: Farinha | D3: kg
B4: 2 | C4: Fermento em pó | D4: g
B5: 3 | C5: (Digite sua matéria-prima)
B6: 4 | C6: (Digite sua matéria-prima)
B7: 5 | C7: (Digite sua matéria-prima)
B8: 6 | C8: (Digite sua matéria-prima)
B9: 7 | C9: (Digite sua matéria-prima)
B10: 8 | C10: (Digite sua matéria-prima)
B11: 9 | C11: (Digite sua matéria-prima)
B12: 10 | C12: (Digite sua matéria-prima)
B13: 11 | C13: (Digite sua matéria-prima)
B14: 12 | C14: (Digite sua matéria-prima)
B15: 13 | C15: (Digite sua matéria-prima)
B16: 14 | C16: (Digite sua matéria-prima)
B17: 15 | C17: (Digite sua matéria-prima)

Sheet Fórmulas Produção
B1: Menu | C1: PRODUTOS FABRICADOS PARA COMERCIALIZAÇÃO
E2: // | J2: //
B3: Pão Francês | C3: Composição (1 Unidade) | G3: Produto 2 | H3: Composição (1 Unidade) | L3: Produto 3 | M3: Composição (1 Unidade)
A4: Nº | B4: Matérias-primas cadastradas | C4: É utilizado? | D4: Quanto? | F4: Nº | G4: Matérias-primas cadastradas | H4: É utilizado? | I4: Quanto? | K4: Nº | L4: Matérias-primas cadastradas | M4: É utilizado? | N4: Quanto?
A5: 1 | B5: ='Matérias-Primas'!$C$3 -> Farinha | C5: Sim | D5: 0.12 | F5: 1 | G5: ='Matérias-Primas'!$C$3 -> Farinha | I5: 0 | K5: 1 | L5: ='Matérias-Primas'!$C$3 -> Farinha | N5: 0
A6: 2 | B6: ='Matérias-Primas'!$C$4 -> Fermento em pó | C6: Sim | D6: 15 | F6: 2 | G6: ='Matérias-Primas'!$C$4 -> Fermento em pó | I6: 0 | K6: 2 | L6: ='Matérias-Primas'!$C$4 -> Fermento em pó | N6: 0
A7: 3 | B7: ='Matérias-Primas'!$C$5 -> (Digite sua matéria-prima) | D7: 0 | F7: 3 | G7: ='Matérias-Primas'!$C$5 -> (Digite sua matéria-prima) | I7: 0 | K7: 3 | L7: ='Matérias-Primas'!$C$5 -> (Digite sua matéria-prima) | N7: 0
A8: 4 | B8: ='Matérias-Primas'!$C$6 -> (Digite sua matéria-prima) | D8: 0 | F8: 4 | G8: ='Matérias-Primas'!$C$6 -> (Digite sua matéria-prima) | I8: 0 | K8: 4 | L8: ='Matérias-Primas'!$C$6 -> (Digite sua matéria-prima) | N8: 0
A9: 5 | B9: ='Matérias-Primas'!$C$7 -> (Digite sua matéria-prima) | D9: 0 | F9: 5 | G9: ='Matérias-Primas'!$C$7 -> (Digite sua matéria-prima) | I9: 0 | K9: 5 | L9: ='Matérias-Primas'!$C$7 -> (Digite sua matéria-prima) | N9: 0
A10: 6 | B10: ='Matérias-Primas'!$C$8 -> (Digite sua matéria-prima) | D10: 0 | F10: 6 | G10: ='Matérias-Primas'!$C$8 -> (Digite sua matéria-prima) | I10: 0 | K10: 6 | L10: ='Matérias-Primas'!$C$8 -> (Digite sua matéria-prima) | N10: 0
A11: 7 | B11: ='Matérias-Primas'!$C$9 -> (Digite sua matéria-prima) | D11: 0 | F11: 7 | G11: ='Matérias-Primas'!$C$9 -> (Digite sua matéria-prima) | I11: 0 | K11: 7 | L11: ='Matérias-Primas'!$C$9 -> (Digite sua matéria-prima) | N11: 0
A12: 8 | B12: ='Matérias-Primas'!$C$10 -> (Digite sua matéria-prima) | D12: 0 | F12: 8 | G12: ='Matérias-Primas'!$C$10 -> (Digite sua matéria-prima) | I12: 0 | K12: 8 | L12: ='Matérias-Primas'!$C$10 -> (Digite sua matéria-prima) | N12: 0
A13: 9 | B13: ='Matérias-Primas'!$C$11 -> (Digite sua matéria-prima) | D13: 0 | F13: 9 | G13: ='Matérias-Primas'!$C$11 -> (Digite sua matéria-prima) | I13: 0 | K13: 9 | L13: ='Matérias-Primas'!$C$11 -> (Digite sua matéria-prima) | N13: 0
A14: 10 | B14: ='Matérias-Primas'!$C$12 -> (Digite sua matéria-prima) | D14: 0 | F14: 10 | G14: ='Matérias-Primas'!$C$12 -> (Digite sua matéria-prima) | I14: 0 | K14: 10 | L14: ='Matérias-Primas'!$C$12 -> (Digite sua matéria-prima) | N14: 0
A15: 11 | B15: ='Matérias-Primas'!$C$13 -> (Digite sua matéria-prima) | D15: 0 | F15: 11 | G15: ='Matérias-Primas'!$C$13 -> (Digite sua matéria-prima) | I15: 0 | K15: 11 | L15: ='Matérias-Primas'!$C$13 -> (Digite sua matéria-prima) | N15: 0
A16: 12 | B16: ='Matérias-Primas'!$C$14 -> (Digite sua matéria-prima) | D16: 0 | F16: 12 | G16: ='Matérias-Primas'!$C$14 -> (Digite sua matéria-prima) | I16: 0 | K16: 12 | L16: ='Matérias-Primas'!$C$14 -> (Digite sua matéria-prima) | N16: 0
A17: 13 | B17: ='Matérias-Primas'!$C$15 -> (Digite sua matéria-prima) | D17: 0 | F17: 13 | G17: ='Matérias-Primas'!$C$15 -> (Digite sua matéria-prima) | I17: 0 | K17: 13 | L17: ='Matérias-Primas'!$C$15 -> (Digite sua matéria-prima) | N17: 0
A18: 14 | B18: ='Matérias-Primas'!$C$16 -> (Digite sua matéria-prima) | D18: 0 | F18: 14 | G18: ='Matérias-Primas'!$C$16 -> (Digite sua matéria-prima) | I18: 0 | K18: 14 | L18: ='Matérias-Primas'!$C$16 -> (Digite sua matéria-prima) | N18: 0
A19: 15 | B19: ='Matérias-Primas'!$C$17 -> (Digite sua matéria-prima) | D19: 0 | F19: 15 | G19: ='Matérias-Primas'!$C$17 -> (Digite sua matéria-prima) | I19: 0 | K19: 15 | L19: ='Matérias-Primas'!$C$17 -> (Digite sua matéria-prima) | N19: 0
B21: Produto 4 | C21: Composição (1 Unidade) | G21: Produto 5 | H21: Composição (1 Unidade) | L21: Produto 6 | M21: Composição (1 Unidade)
A22: Nº | B22: Matérias-primas cadastradas | C22: É utilizado? | D22: Quanto? | F22: Nº | G22: Matérias-primas cadastradas | H22: É utilizado? | I22: Quanto? | K22: Nº | L22: Matérias-primas cadastradas | M22: É utilizado? | N22: Quanto?
A23: 1 | B23: ='Matérias-Primas'!$C$3 -> Farinha | D23: 0 | F23: 1 | G23: ='Matérias-Primas'!$C$3 -> Farinha | I23: 0 | K23: 1 | L23: ='Matérias-Primas'!$C$3 -> Farinha | N23: 0
A24: 2 | B24: ='Matérias-Primas'!$C$4 -> Fermento em pó | D24: 0 | F24: 2 | G24: ='Matérias-Primas'!$C$4 -> Fermento em pó | I24: 0 | K24: 2 | L24: ='Matérias-Primas'!$C$4 -> Fermento em pó | N24: 0
A25: 3 | B25: ='Matérias-Primas'!$C$5 -> (Digite sua matéria-prima) | D25: 0 | F25: 3 | G25: ='Matérias-Primas'!$C$5 -> (Digite sua matéria-prima) | I25: 0 | K25: 3 | L25: ='Matérias-Primas'!$C$5 -> (Digite sua matéria-prima) | N25: 0
A26: 4 | B26: ='Matérias-Primas'!$C$6 -> (Digite sua matéria-prima) | D26: 0 | F26: 4 | G26: ='Matérias-Primas'!$C$6 -> (Digite sua matéria-prima) | I26: 0 | K26: 4 | L26: ='Matérias-Primas'!$C$6 -> (Digite sua matéria-prima) | N26: 0
A27: 5 | B27: ='Matérias-Primas'!$C$7 -> (Digite sua matéria-prima) | D27: 0 | F27: 5 | G27: ='Matérias-Primas'!$C$7 -> (Digite sua matéria-prima) | I27: 0 | K27: 5 | L27: ='Matérias-Primas'!$C$7 -> (Digite sua matéria-prima) | N27: 0
A28: 6 | B28: ='Matérias-Primas'!$C$8 -> (Digite sua matéria-prima) | D28: 0 | F28: 6 | G28: ='Matérias-Primas'!$C$8 -> (Digite sua matéria-prima) | I28: 0 | K28: 6 | L28: ='Matérias-Primas'!$C$8 -> (Digite sua matéria-prima) | N28: 0
A29: 7 | B29: ='Matérias-Primas'!$C$9 -> (Digite sua matéria-prima) | D29: 0 | F29: 7 | G29: ='Matérias-Primas'!$C$9 -> (Digite sua matéria-prima) | I29: 0 | K29: 7 | L29: ='Matérias-Primas'!$C$9 -> (Digite sua matéria-prima) | N29: 0
A30: 8 | B30: ='Matérias-Primas'!$C$10 -> (Digite sua matéria-prima) | D30: 0 | F30: 8 | G30: ='Matérias-Primas'!$C$10 -> (Digite sua matéria-prima) | I30: 0 | K30: 8 | L30: ='Matérias-Primas'!$C$10 -> (Digite sua matéria-prima) | N30: 0
A31: 9 | B31: ='Matérias-Primas'!$C$11 -> (Digite sua matéria-prima) | D31: 0 | F31: 9 | G31: ='Matérias-Primas'!$C$11 -> (Digite sua matéria-prima) | I31: 0 | K31: 9 | L31: ='Matérias-Primas'!$C$11 -> (Digite sua matéria-prima) | N31: 0
A32: 10 | B32: ='Matérias-Primas'!$C$12 -> (Digite sua matéria-prima) | D32: 0 | F32: 10 | G32: ='Matérias-Primas'!$C$12 -> (Digite sua matéria-prima) | I32: 0 | K32: 10 | L32: ='Matérias-Primas'!$C$12 -> (Digite sua matéria-prima) | N32: 0
A33: 11 | B33: ='Matérias-Primas'!$C$13 -> (Digite sua matéria-prima) | D33: 0 | F33: 11 | G33: ='Matérias-Primas'!$C$13 -> (Digite sua matéria-prima) | I33: 0 | K33: 11 | L33: ='Matérias-Primas'!$C$13 -> (Digite sua matéria-prima) | N33: 0
A34: 12 | B34: ='Matérias-Primas'!$C$14 -> (Digite sua matéria-prima) | D34: 0 | F34: 12 | G34: ='Matérias-Primas'!$C$14 -> (Digite sua matéria-prima) | I34: 0 | K34: 12 | L34: ='Matérias-Primas'!$C$14 -> (Digite sua matéria-prima) | N34: 0
A35: 13 | B35: ='Matérias-Primas'!$C$15 -> (Digite sua matéria-prima) | D35: 0 | F35: 13 | G35: ='Matérias-Primas'!$C$15 -> (Digite sua matéria-prima) | I35: 0 | K35: 13 | L35: ='Matérias-Primas'!$C$15 -> (Digite sua matéria-prima) | N35: 0
A36: 14 | B36: ='Matérias-Primas'!$C$16 -> (Digite sua matéria-prima) | D36: 0 | F36: 14 | G36: ='Matérias-Primas'!$C$16 -> (Digite sua matéria-prima) | I36: 0 | K36: 14 | L36: ='Matérias-Primas'!$C$16 -> (Digite sua matéria-prima) | N36: 0
A37: 15 | B37: ='Matérias-Primas'!$C$17 -> (Digite sua matéria-prima) | D37: 0 | F37: 15 | G37: ='Matérias-Primas'!$C$17 -> (Digite sua matéria-prima) | I37: 0 | K37: 15 | L37: ='Matérias-Primas'!$C$17 -> (Digite sua matéria-prima) | N37: 0
B39: Produto 7 | C39: Composição (1 Unidade) | G39: Produto 8 | H39: Composição (1 Unidade) | L39: Produto 9 | M39: Composição (1 Unidade)
A40: Nº | B40: Matérias-primas cadastradas | C40: É utilizado? | D40: Quanto? | F40: Nº | G40: Matérias-primas cadastradas | H40: É utilizado? | I40: Quanto? | K40: Nº | L40: Matérias-primas cadastradas | M40: É utilizado? | N40: Quanto?
A41: 1 | B41: ='Matérias-Primas'!$C$3 -> Farinha | D41: 0 | F41: 1 | G41: ='Matérias-Primas'!$C$3 -> Farinha | I41: 0 | K41: 1 | L41: ='Matérias-Primas'!$C$3 -> Farinha | N41: 0
A42: 2 | B42: ='Matérias-Primas'!$C$4 -> Fermento em pó | D42: 0 | F42: 2 | G42: ='Matérias-Primas'!$C$4 -> Fermento em pó | I42: 0 | K42: 2 | L42: ='Matérias-Primas'!$C$4 -> Fermento em pó | N42: 0
...

Sheet JAN
A1: Menu | B1: COMPRAS DE MP / SAÍDAS DE ESTOQUE - JANEIRO
E2: //
A3: DATA | D3: ENTRADAS (Compras) | H3: SAÍDAS
B4: Nº | C4: Matéria-Prima | D4: Quantidade | F4: Nº | G4: Matéria-Prima | H4: Quantidade
A5: 43466 | B5: 1 | C5: ='Matérias-Primas'!C3 -> Farinha | D5: 10 | F5: 1 | G5: ='Matérias-Primas'!C3 -> Farinha | H5: =('Fórmulas Produção'!D5*'OP - JAN'!B$36)+('Fórmulas Produção'!I5*'OP - JAN'!C$36)+('Fórmulas Produção'!N5*'OP - JAN'!D$36)+('Fórmulas Produção'!D23*'OP - JAN'!E$36)+('Fórmulas Produção'!I23*'OP - JAN'!F$36)+('Fórmulas Produção'!N23*'OP - JAN'!G$36)+('Fórmulas Produção'!D41*'OP - JAN'!H$36)+('Fórmulas Produção'!I41*'OP - JAN'!I$36)+('Fórmulas Produção'!N41*'OP - JAN'!J$36) -> 0.48
A6: 43472 | B6: 2 | C6: ='Matérias-Primas'!C4 -> Fermento em pó | D6: 800 | F6: 2 | G6: ='Matérias-Primas'!C4 -> Fermento em pó | H6: =('Fórmulas Produção'!D6*'OP - JAN'!B$36)+('Fórmulas Produção'!I6*'OP - JAN'!C$36)+('Fórmulas Produção'!N6*'OP - JAN'!D$36)+('Fórmulas Produção'!D24*'OP - JAN'!E$36)+('Fórmulas Produção'!I24*'OP - JAN'!F$36)+('Fórmulas Produção'!N24*'OP - JAN'!G$36)+('Fórmulas Produção'!D42*'OP - JAN'!H$36)+('Fórmulas Produção'!I42*'OP - JAN'!I$36)+('Fórmulas Produção'!N42*'OP - JAN'!J$36) -> 60
B7: 3 | C7: ='Matérias-Primas'!C5 -> (Digite sua matéria-prima) | D7: 0 | F7: 3 | G7: ='Matérias-Primas'!C5 -> (Digite sua matéria-prima) | H7: =('Fórmulas Produção'!D7*'OP - JAN'!B$36)+('Fórmulas Produção'!I7*'OP - JAN'!C$36)+('Fórmulas Produção'!N7*'OP - JAN'!D$36)+('Fórmulas Produção'!D25*'OP - JAN'!E$36)+('Fórmulas Produção'!I25*'OP - JAN'!F$36)+('Fórmulas Produção'!N25*'OP - JAN'!G$36)+('Fórmulas Produção'!D43*'OP - JAN'!H$36)+('Fórmulas Produção'!I43*'OP - JAN'!I$36)+('Fórmulas Produção'!N43*'OP - JAN'!J$36) -> 0
B8: 4 | C8: ='Matérias-Primas'!C6 -> (Digite sua matéria-prima) | D8: 0 | F8: 4 | G8: ='Matérias-Primas'!C6 -> (Digite sua matéria-prima) | H8: =('Fórmulas Produção'!D8*'OP - JAN'!B$36)+('Fórmulas Produção'!I8*'OP - JAN'!C$36)+('Fórmulas Produção'!N8*'OP - JAN'!D$36)+('Fórmulas Produção'!D26*'OP - JAN'!E$36)+('Fórmulas Produção'!I26*'OP - JAN'!F$36)+('Fórmulas Produção'!N26*'OP - JAN'!G$36)+('Fórmulas Produção'!D44*'OP - JAN'!H$36)+('Fórmulas Produção'!I44*'OP - JAN'!I$36)+('Fórmulas Produção'!N44*'OP - JAN'!J$36) -> 0
B9: 5 | C9: ='Matérias-Primas'!C7 -> (Digite sua matéria-prima) | D9: 0 | F9: 5 | G9: ='Matérias-Primas'!C7 -> (Digite sua matéria-prima) | H9: =('Fórmulas Produção'!D9*'OP - JAN'!B$36)+('Fórmulas Produção'!I9*'OP - JAN'!C$36)+('Fórmulas Produção'!N9*'OP - JAN'!D$36)+('Fórmulas Produção'!D27*'OP - JAN'!E$36)+('Fórmulas Produção'!I27*'OP - JAN'!F$36)+('Fórmulas Produção'!N27*'OP - JAN'!G$36)+('Fórmulas Produção'!D45*'OP - JAN'!H$36)+('Fórmulas Produção'!I45*'OP - JAN'!I$36)+('Fórmulas Produção'!N45*'OP - JAN'!J$36) -> 0
B10: 6 | C10: ='Matérias-Primas'!C8 -> (Digite sua matéria-prima) | D10: 0 | F10: 6 | G10: ='Matérias-Primas'!C8 -> (Digite sua matéria-prima) | H10: =('Fórmulas Produção'!D10*'OP - JAN'!B$36)+('Fórmulas Produção'!I10*'OP - JAN'!C$36)+('Fórmulas Produção'!N10*'OP - JAN'!D$36)+('Fórmulas Produção'!D28*'OP - JAN'!E$36)+('Fórmulas Produção'!I28*'OP - JAN'!F$36)+('Fórmulas Produção'!N28*'OP - JAN'!G$36)+('Fórmulas Produção'!D46*'OP - JAN'!H$36)+('Fórmulas Produção'!I46*'OP - JAN'!I$36)+('Fórmulas Produção'!N46*'OP - JAN'!J$36) -> 0
B11: 7 | C11: ='Matérias-Primas'!C9 -> (Digite sua matéria-prima) | D11: 0 | F11: 7 | G11: ='Matérias-Primas'!C9 -> (Digite sua matéria-prima) | H11: =('Fórmulas Produção'!D11*'OP - JAN'!B$36)+('Fórmulas Produção'!I11*'OP - JAN'!C$36)+('Fórmulas Produção'!N11*'OP - JAN'!D$36)+('Fórmulas Produção'!D29*'OP - JAN'!E$36)+('Fórmulas Produção'!I29*'OP - JAN'!F$36)+('Fórmulas Produção'!N29*'OP - JAN'!G$36)+('Fórmulas Produção'!D47*'OP - JAN'!H$36)+('Fórmulas Produção'!I47*'OP - JAN'!I$36)+('Fórmulas Produção'!N47*'OP - JAN'!J$36) -> 0
B12: 8 | C12: ='Matérias-Primas'!C10 -> (Digite sua matéria-prima) | D12: 0 | F12: 8 | G12: ='Matérias-Primas'!C10 -> (Digite sua matéria-prima) | H12: =('Fórmulas Produção'!D12*'OP - JAN'!B$36)+('Fórmulas Produção'!I12*'OP - JAN'!C$36)+('Fórmulas Produção'!N12*'OP - JAN'!D$36)+('Fórmulas Produção'!D30*'OP - JAN'!E$36)+('Fórmulas Produção'!I30*'OP - JAN'!F$36)+('Fórmulas Produção'!N30*'OP - JAN'!G$36)+('Fórmulas Produção'!D48*'OP - JAN'!H$36)+('Fórmulas Produção'!I48*'OP - JAN'!I$36)+('Fórmulas Produção'!N48*'OP - JAN'!J$36) -> 0
B13: 9 | C13: ='Matérias-Primas'!C11 -> (Digite sua matéria-prima) | D13: 0 | F13: 9 | G13: ='Matérias-Primas'!C11 -> (Digite sua matéria-prima) | H13: =('Fórmulas Produção'!D13*'OP - JAN'!B$36)+('Fórmulas Produção'!I13*'OP - JAN'!C$36)+('Fórmulas Produção'!N13*'OP - JAN'!D$36)+('Fórmulas Produção'!D31*'OP - JAN'!E$36)+('Fórmulas Produção'!I31*'OP - JAN'!F$36)+('Fórmulas Produção'!N31*'OP - JAN'!G$36)+('Fórmulas Produção'!D49*'OP - JAN'!H$36)+('Fórmulas Produção'!I49*'OP - JAN'!I$36)+('Fórmulas Produção'!N49*'OP - JAN'!J$36) -> 0
B14: 10 | C14: ='Matérias-Primas'!C12 -> (Digite sua matéria-prima) | D14: 0 | F14: 10 | G14: ='Matérias-Primas'!C12 -> (Digite sua matéria-prima) | H14: =('Fórmulas Produção'!D14*'OP - JAN'!B$36)+('Fórmulas Produção'!I14*'OP - JAN'!C$36)+('Fórmulas Produção'!N14*'OP - JAN'!D$36)+('Fórmulas Produção'!D32*'OP - JAN'!E$36)+('Fórmulas Produção'!I32*'OP - JAN'!F$36)+('Fórmulas Produção'!N32*'OP - JAN'!G$36)+('Fórmulas Produção'!D50*'OP - JAN'!H$36)+('Fórmulas Produção'!I50*'OP - JAN'!I$36)+('Fórmulas Produção'!N50*'OP - JAN'!J$36) -> 0
B15: 11 | C15: ='Matérias-Primas'!C13 -> (Digite sua matéria-prima) | D15: 0 | F15: 11 | G15: ='Matérias-Primas'!C13 -> (Digite sua matéria-prima) | H15: =('Fórmulas Produção'!D15*'OP - JAN'!B$36)+('Fórmulas Produção'!I15*'OP - JAN'!C$36)+('Fórmulas Produção'!N15*'OP - JAN'!D$36)+('Fórmulas Produção'!D33*'OP - JAN'!E$36)+('Fórmulas Produção'!I33*'OP - JAN'!F$36)+('Fórmulas Produção'!N33*'OP - JAN'!G$36)+('Fórmulas Produção'!D51*'OP - JAN'!H$36)+('Fórmulas Produção'!I51*'OP - JAN'!I$36)+('Fórmulas Produção'!N51*'OP - JAN'!J$36) -> 0
B16: 12 | C16: ='Matérias-Primas'!C14 -> (Digite sua matéria-prima) | D16: 0 | F16: 12 | G16: ='Matérias-Primas'!C14 -> (Digite sua matéria-prima) | H16: =('Fórmulas Produção'!D16*'OP - JAN'!B$36)+('Fórmulas Produção'!I16*'OP - JAN'!C$36)+('Fórmulas Produção'!N16*'OP - JAN'!D$36)+('Fórmulas Produção'!D34*'OP - JAN'!E$36)+('Fórmulas Produção'!I34*'OP - JAN'!F$36)+('Fórmulas Produção'!N34*'OP - JAN'!G$36)+('Fórmulas Produção'!D52*'OP - JAN'!H$36)+('Fórmulas Produção'!I52*'OP - JAN'!I$36)+('Fórmulas Produção'!N52*'OP - JAN'!J$36) -> 0
B17: 13 | C17: ='Matérias-Primas'!C15 -> (Digite sua matéria-prima) | D17: 0 | F17: 13 | G17: ='Matérias-Primas'!C15 -> (Digite sua matéria-prima) | H17: =('Fórmulas Produção'!D17*'OP - JAN'!B$36)+('Fórmulas Produção'!I17*'OP - JAN'!C$36)+('Fórmulas Produção'!N17*'OP - JAN'!D$36)+('Fórmulas Produção'!D35*'OP - JAN'!E$36)+('Fórmulas Produção'!I35*'OP - JAN'!F$36)+('Fórmulas Produção'!N35*'OP - JAN'!G$36)+('Fórmulas Produção'!D53*'OP - JAN'!H$36)+('Fórmulas Produção'!I53*'OP - JAN'!I$36)+('Fórmulas Produção'!N53*'OP - JAN'!J$36) -> 0
B18: 14 | C18: ='Matérias-Primas'!C16 -> (Digite sua matéria-prima) | D18: 0 | F18: 14 | G18: ='Matérias-Primas'!C16 -> (Digite sua matéria-prima) | H18: =('Fórmulas Produção'!D18*'OP - JAN'!B$36)+('Fórmulas Produção'!I18*'OP - JAN'!C$36)+('Fórmulas Produção'!N18*'OP - JAN'!D$36)+('Fórmulas Produção'!D36*'OP - JAN'!E$36)+('Fórmulas Produção'!I36*'OP - JAN'!F$36)+('Fórmulas Produção'!N36*'OP - JAN'!G$36)+('Fórmulas Produção'!D54*'OP - JAN'!H$36)+('Fórmulas Produção'!I54*'OP - JAN'!I$36)+('Fórmulas Produção'!N54*'OP - JAN'!J$36) -> 0
B19: 15 | C19: ='Matérias-Primas'!C17 -> (Digite sua matéria-prima) | D19: 0 | F19: 15 | G19: ='Matérias-Primas'!C17 -> (Digite sua matéria-prima) | H19: =('Fórmulas Produção'!D19*'OP - JAN'!B$36)+('Fórmulas Produção'!I19*'OP - JAN'!C$36)+('Fórmulas Produção'!N19*'OP - JAN'!D$36)+('Fórmulas Produção'!D37*'OP - JAN'!E$36)+('Fórmulas Produção'!I37*'OP - JAN'!F$36)+('Fórmulas Produção'!N37*'OP - JAN'!G$36)+('Fórmulas Produção'!D55*'OP - JAN'!H$36)+('Fórmulas Produção'!I55*'OP - JAN'!I$36)+('Fórmulas Produção'!N55*'OP - JAN'!J$36) -> 0

Sheet OP - JAN
A1: Menu | B1: ORDENS DE PRODUÇÃO - JANEIRO
A3: DATA | B3: Quantidade Produzida - em Unidades
B4: ='Fórmulas Produção'!B3 -> Pão Francês | C4: ='Fórmulas Produção'!G3 -> Produto 2 | D4: ='Fórmulas Produção'!L3 -> Produto 3 | E4: ='Fórmulas Produção'!B21 -> Produto 4 | F4: ='Fórmulas Produção'!G21 -> Produto 5 | G4: ='Fórmulas Produção'!L21 -> Produto 6 | H4: ='Fórmulas Produção'!B39 -> Produto 7 | I4: ='Fórmulas Produção'!G39 -> Produto 8 | J4: ='Fórmulas Produção'!L39 -> Produto 9
A5: 43466 | B5: 4 | C5: 0 | D5: 0 | E5: 0 | F5: 0 | G5: 0 | H5: 0 | I5: 0 | J5: 0
A6: 43467 | B6: 0 | C6: 0 | D6: 0 | E6: 0 | F6: 0 | G6: 0 | H6: 0 | I6: 0 | J6: 0
A7: 43468 | B7: 0 | C7: 0 | D7: 0 | E7: 0 | F7: 0 | G7: 0 | H7: 0 | I7: 0 | J7: 0
A8: 43469 | B8: 0 | C8: 0 | D8: 0 | E8: 0 | F8: 0 | G8: 0 | H8: 0 | I8: 0 | J8: 0
A9: 43470 | B9: 0 | C9: 0 | D9: 0 | E9: 0 | F9: 0 | G9: 0 | H9: 0 | I9: 0 | J9: 0
A10: 43471 | B10: 0 | C10: 0 | D10: 0 | E10: 0 | F10: 0 | G10: 0 | H10: 0 | I10: 0 | J10: 0
A11: 43472 | B11: 0 | C11: 0 | D11: 0 | E11: 0 | F11: 0 | G11: 0 | H11: 0 | I11: 0 | J11: 0
A12: 43473 | B12: 0 | C12: 0 | D12: 0 | E12: 0 | F12: 0 | G12: 0 | H12: 0 | I12: 0 | J12: 0
A13: 43474 | B13: 0 | C13: 0 | D13: 0 | E13: 0 | F13: 0 | G13: 0 | H13: 0 | I13: 0 | J13: 0
A14: 43475 | B14: 0 | C14: 0 | D14: 0 | E14: 0 | F14: 0 | G14: 0 | H14: 0 | I14: 0 | J14: 0
A15: 43476 | B15: 0 | C15: 0 | D15: 0 | E15: 0 | F15: 0 | G15: 0 | H15: 0 | I15: 0 | J15: 0
A16: 43477 | B16: 0 | C16: 0 | D16: 0 | E16: 0 | F16: 0 | G16: 0 | H16: 0 | I16: 0 | J16: 0
... A35: 43496 | B35: 0 | C35: 0 | D35: 0 | E35: 0 | F35: 0 | G35: 0 | H35: 0 | I35: 0 | J35: 0
A36: TOTAL | B36: =SUM(B5:B35) -> 4 | C36: =SUM(C5:C35) -> 0 | D36: =SUM(D5:D35) -> 0 | E36: =SUM(E5:E35) -> 0 | F36: =SUM(F5:F35) -> 0 | G36: =SUM(G5:G35) -> 0 | H36: =SUM(H5:H35) -> 0 | I36: =SUM(I5:I35) -> 0 | J36: =SUM(J5:J35) -> 0

Sheet FEV
A1: Menu | B1: COMPRAS DE MP / SAÍDAS DE ESTOQUE - FEVEREIRO
E2: //
A3: DATA | D3: ENTRADAS (Compras) | H3: SAÍDAS
B4: Nº | C4: Matéria-Prima | D4: Quantidade | F4: Nº | G4: Matéria-Prima | H4: Quantidade
A5: 43497 | B5: 1 | C5: ='Matérias-Primas'!C3 -> Farinha | D5: 0 | F5: 1 | G5: ='Matérias-Primas'!C3 -> Farinha | H5: =('Fórmulas Produção'!D5*'OP - FEV'!B$33)+('Fórmulas Produção'!I5*'OP - FEV'!C$33)+('Fórmulas Produção'!N5*'OP - FEV'!D$33)+('Fórmulas Produção'!D23*'OP - FEV'!E$33)+('Fórmulas Produção'!I23*'OP - FEV'!F33)+('Fórmulas Produção'!N23*'OP - FEV'!G$33)+('Fórmulas Produção'!D41*'OP - FEV'!H$33)+('Fórmulas Produção'!I41*'OP - FEV'!I$33)+('Fórmulas Produção'!N41*'OP - FEV'!J$33) -> 0.36
A6: 43500 | B6: 2 | C6: ='Matérias-Primas'!C4 -> Fermento em pó | D6: 0 | F6: 2 | G6: ='Matérias-Primas'!C4 -> Fermento em pó | H6: =('Fórmulas Produção'!D6*'OP - FEV'!B$33)+('Fórmulas Produção'!I6*'OP - FEV'!C$33)+('Fórmulas Produção'!N6*'OP - FEV'!D$33)+('Fórmulas Produção'!D24*'OP - FEV'!E$33)+('Fórmulas Produção'!I24*'OP - FEV'!F34)+('Fórmulas Produção'!N24*'OP - FEV'!G$33)+('Fórmulas Produção'!D42*'OP - FEV'!H$33)+('Fórmulas Produção'!I42*'OP - FEV'!I$33)+('Fórmulas Produção'!N42*'OP - FEV'!J$33) -> 45
B7: 3 | C7: ='Matérias-Primas'!C5 -> (Digite sua matéria-prima) | D7: 0 | F7: 3 | G7: ='Matérias-Primas'!C5 -> (Digite sua matéria-prima) | H7: =('Fórmulas Produção'!D7*'OP - FEV'!B$33)+('Fórmulas Produção'!I7*'OP - FEV'!C$33)+('Fórmulas Produção'!N7*'OP - FEV'!D$33)+('Fórmulas Produção'!D25*'OP - FEV'!E$33)+('Fórmulas Produção'!I25*'OP - FEV'!F35)+('Fórmulas Produção'!N25*'OP - FEV'!G$33)+('Fórmulas Produção'!D43*'OP - FEV'!H$33)+('Fórmulas Produção'!I43*'OP - FEV'!I$33)+('Fórmulas Produção'!N43*'OP - FEV'!J$33) -> 0
B8: 4 | C8: ='Matérias-Primas'!C6 -> (Digite sua matéria-prima) | D8: 0 | F8: 4 | G8: ='Matérias-Primas'!C6 -> (Digite sua matéria-prima) | H8: =('Fórmulas Produção'!D8*'OP - FEV'!B$33)+('Fórmulas Produção'!I8*'OP - FEV'!C$33)+('Fórmulas Produção'!N8*'OP - FEV'!D$33)+('Fórmulas Produção'!D26*'OP - FEV'!E$33)+('Fórmulas Produção'!I26*'OP - FEV'!F36)+('Fórmulas Produção'!N26*'OP - FEV'!G$33)+('Fórmulas Produção'!D44*'OP - FEV'!H$33)+('Fórmulas Produção'!I44*'OP - FEV'!I$33)+('Fórmulas Produção'!N44*'OP - FEV'!J$33) -> 0
B9: 5 | C9: ='Matérias-Primas'!C7 -> (Digite sua matéria-prima) | D9: 0 | F9: 5 | G9: ='Matérias-Primas'!C7 -> (Digite sua matéria-prima) | H9: =('Fórmulas Produção'!D9*'OP - FEV'!B$33)+('Fórmulas Produção'!I9*'OP - FEV'!C$33)+('Fórmulas Produção'!N9*'OP - FEV'!D$33)+('Fórmulas Produção'!D27*'OP - FEV'!E$33)+('Fórmulas Produção'!I27*'OP - FEV'!F37)+('Fórmulas Produção'!N27*'OP - FEV'!G$33)+('Fórmulas Produção'!D45*'OP - FEV'!H$33)+('Fórmulas Produção'!I45*'OP - FEV'!I$33)+('Fórmulas Produção'!N45*'OP - FEV'!J$33) -> 0
B10: 6 | C10: ='Matérias-Primas'!C8 -> (Digite sua matéria-prima) | D10: 0 | F10: 6 | G10: ='Matérias-Primas'!C8 -> (Digite sua matéria-prima) | H10: =('Fórmulas Produção'!D10*'OP - FEV'!B$33)+('Fórmulas Produção'!I10*'OP - FEV'!C$33)+('Fórmulas Produção'!N10*'OP - FEV'!D$33)+('Fórmulas Produção'!D28*'OP - FEV'!E$33)+('Fórmulas Produção'!I28*'OP - FEV'!F38)+('Fórmulas Produção'!N28*'OP - FEV'!G$33)+('Fórmulas Produção'!D46*'OP - FEV'!H$33)+('Fórmulas Produção'!I46*'OP - FEV'!I$33)+('Fórmulas Produção'!N46*'OP - FEV'!J$33) -> 0
B11: 7 | C11: ='Matérias-Primas'!C9 -> (Digite sua matéria-prima) | D11: 0 | F11: 7 | G11: ='Matérias-Primas'!C9 -> (Digite sua matéria-prima) | H11: =('Fórmulas Produção'!D11*'OP - FEV'!B$33)+('Fórmulas Produção'!I11*'OP - FEV'!C$33)+('Fórmulas Produção'!N11*'OP - FEV'!D$33)+('Fórmulas Produção'!D29*'OP - FEV'!E$33)+('Fórmulas Produção'!I29*'OP - FEV'!F39)+('Fórmulas Produção'!N29*'OP - FEV'!G$33)+('Fórmulas Produção'!D47*'OP - FEV'!H$33)+('Fórmulas Produção'!I47*'OP - FEV'!I$33)+('Fórmulas Produção'!N47*'OP - FEV'!J$33) -> 0
B12: 8 | C12: ='Matérias-Primas'!C10 -> (Digite sua matéria-prima) | D12: 0 | F12: 8 | G12: ='Matérias-Primas'!C10 -> (Digite sua matéria-prima) | H12: =('Fórmulas Produção'!D12*'OP - FEV'!B$33)+('Fórmulas Produção'!I12*'OP - FEV'!C$33)+('Fórmulas Produção'!N12*'OP - FEV'!D$33)+('Fórmulas Produção'!D30*'OP - FEV'!E$33)+('Fórmulas Produção'!I30*'OP - FEV'!F40)+('Fórmulas Produção'!N30*'OP - FEV'!G$33)+('Fórmulas Produção'!D48*'OP - FEV'!H$33)+('Fórmulas Produção'!I48*'OP - FEV'!I$33)+('Fórmulas Produção'!N48*'OP - FEV'!J$33) -> 0
B13: 9 | C13: ='Matérias-Primas'!C11 -> (Digite sua matéria-prima) | D13: 0 | F13: 9 | G13: ='Matérias-Primas'!C11 -> (Digite sua matéria-prima) | H13: =('Fórmulas Produção'!D13*'OP - FEV'!B$33)+('Fórmulas Produção'!I13*'OP - FEV'!C$33)+('Fórmulas Produção'!N13*'OP - FEV'!D$33)+('Fórmulas Produção'!D31*'OP - FEV'!E$33)+('Fórmulas Produção'!I31*'OP - FEV'!F41)+('Fórmulas Produção'!N31*'OP - FEV'!G$33)+('Fórmulas Produção'!D49*'OP - FEV'!H$33)+('Fórmulas Produção'!I49*'OP - FEV'!I$33)+('Fórmulas Produção'!N49*'OP - FEV'!J$33) -> 0
B14: 10 | C14: ='Matérias-Primas'!C12 -> (Digite sua matéria-prima) | D14: 0 | F14: 10 | G14: ='Matérias-Primas'!C12 -> (Digite sua matéria-prima) | H14: =('Fórmulas Produção'!D14*'OP - FEV'!B$33)+('Fórmulas Produção'!I14*'OP - FEV'!C$33)+('Fórmulas Produção'!N14*'OP - FEV'!D$33)+('Fórmulas Produção'!D32*'OP - FEV'!E$33)+('Fórmulas Produção'!I32*'OP - FEV'!F42)+('Fórmulas Produção'!N32*'OP - FEV'!G$33)+('Fórmulas Produção'!D50*'OP - FEV'!H$33)+('Fórmulas Produção'!I50*'OP - FEV'!I$33)+('Fórmulas Produção'!N50*'OP - FEV'!J$33) -> 0
B15: 11 | C15: ='Matérias-Primas'!C13 -> (Digite sua matéria-prima) | D15: 0 | F15: 11 | G15: ='Matérias-Primas'!C13 -> (Digite sua matéria-prima) | H15: =('Fórmulas Produção'!D15*'OP - FEV'!B$33)+('Fórmulas Produção'!I15*'OP - FEV'!C$33)+('Fórmulas Produção'!N15*'OP - FEV'!D$33)+('Fórmulas Produção'!D33*'OP - FEV'!E$33)+('Fórmulas Produção'!I33*'OP - FEV'!F43)+('Fórmulas Produção'!N33*'OP - FEV'!G$33)+('Fórmulas Produção'!D51*'OP - FEV'!H$33)+('Fórmulas Produção'!I51*'OP - FEV'!I$33)+('Fórmulas Produção'!N51*'OP - FEV'!J$33) -> 0
B16: 12 | C16: ='Matérias-Primas'!C14 -> (Digite sua matéria-prima) | D16: 0 | F16: 12 | G16: ='Matérias-Primas'!C14 -> (Digite sua matéria-prima) | H16: =('Fórmulas Produção'!D16*'OP - FEV'!B$33)+('Fórmulas Produção'!I16*'OP - FEV'!C$33)+('Fórmulas Produção'!N16*'OP - FEV'!D$33)+('Fórmulas Produção'!D34*'OP - FEV'!E$33)+('Fórmulas Produção'!I34*'OP - FEV'!F44)+('Fórmulas Produção'!N34*'OP - FEV'!G$33)+('Fórmulas Produção'!D52*'OP - FEV'!H$33)+('Fórmulas Produção'!I52*'OP - FEV'!I$33)+('Fórmulas Produção'!N52*'OP - FEV'!J$33) -> 0
B17: 13 | C17: ='Matérias-Primas'!C15 -> (Digite sua matéria-prima) | D17: 0 | F17: 13 | G17: ='Matérias-Primas'!C15 -> (Digite sua matéria-prima) | H17: =('Fórmulas Produção'!D17*'OP - FEV'!B$33)+('Fórmulas Produção'!I17*'OP - FEV'!C$33)+('Fórmulas Produção'!N17*'OP - FEV'!D$33)+('Fórmulas Produção'!D35*'OP - FEV'!E$33)+('Fórmulas Produção'!I35*'OP - FEV'!F45)+('Fórmulas Produção'!N35*'OP - FEV'!G$33)+('Fórmulas Produção'!D53*'OP - FEV'!H$33)+('Fórmulas Produção'!I53*'OP - FEV'!I$33)+('Fórmulas Produção'!N53*'OP - FEV'!J$33) -> 0
B18: 14 | C18: ='Matérias-Primas'!C16 -> (Digite sua matéria-prima) | D18: 0 | F18: 14 | G18: ='Matérias-Primas'!C16 -> (Digite sua matéria-prima) | H18: =('Fórmulas Produção'!D18*'OP - FEV'!B$33)+('Fórmulas Produção'!I18*'OP - FEV'!C$33)+('Fórmulas Produção'!N18*'OP - FEV'!D$33)+('Fórmulas Produção'!D36*'OP - FEV'!E$33)+('Fórmulas Produção'!I36*'OP - FEV'!F46)+('Fórmulas Produção'!N36*'OP - FEV'!G$33)+('Fórmulas Produção'!D54*'OP - FEV'!H$33)+('Fórmulas Produção'!I54*'OP - FEV'!I$33)+('Fórmulas Produção'!N54*'OP - FEV'!J$33) -> 0
B19: 15 | C19: ='Matérias-Primas'!C17 -> (Digite sua matéria-prima) | D19: 0 | F19: 15 | G19: ='Matérias-Primas'!C17 -> (Digite sua matéria-prima) | H19: =('Fórmulas Produção'!D19*'OP - FEV'!B$33)+('Fórmulas Produção'!I19*'OP - FEV'!C$33)+('Fórmulas Produção'!N19*'OP - FEV'!D$33)+('Fórmulas Produção'!D37*'OP - FEV'!E$33)+('Fórmulas Produção'!I37*'OP - FEV'!F47)+('Fórmulas Produção'!N37*'OP - FEV'!G$33)+('Fórmulas Produção'!D55*'OP - FEV'!H$33)+('Fórmulas Produção'!I55*'OP - FEV'!I$33)+('Fórmulas Produção'!N55*'OP - FEV'!J$33) -> 0

Sheet OP - FEV
A1: Menu | B1: ORDENS DE PRODUÇÃO - FEVEREIRO
A3: DATA | B3: Quantidade Produzida - em Unidades
B4: ='Fórmulas Produção'!B3 -> Pão Francês | C4: ='Fórmulas Produção'!G3 -> Produto 2 | D4: ='Fórmulas Produção'!L3 -> Produto 3 | E4: ='Fórmulas Produção'!B21 -> Produto 4 | F4: ='Fórmulas Produção'!G21 -> Produto 5 | G4: ='Fórmulas Produção'!L21 -> Produto 6 | H4: ='Fórmulas Produção'!B39 -> Produto 7 | I4: ='Fórmulas Produção'!G39 -> Produto 8 | J4: ='Fórmulas Produção'!L39 -> Produto 9
A5: 43497 | B5: 3 | C5: 0 | D5: 0 | E5: 0 | F5: 0 | G5: 0 | H5: 0 | I5: 0 | J5: 0
A6: 43498 | B6: 0 | C6: 0 | D6: 0 | E6: 0 | F6: 0 | G6: 0 | H6: 0 | I6: 0 | J6: 0
A7: 43499 | B7: 0 | C7: 0 | D7: 0 | E7: 0 | F7: 0 | G7: 0 | H7: 0 | I7: 0 | J7: 0
A8: 43500 | B8: 0 | C8: 0 | D8: 0 | E8: 0 | F8: 0 | G8: 0 | H8: 0 | I8: 0 | J8: 0
A9: 43501 | B9: 0 | C9: 0 | D9: 0 | E9: 0 | F9: 0 | G9: 0 | H9: 0 | I9: 0 | J9: 0
A10: 43502 | B10: 0 | C10: 0 | D10: 0 | E10: 0 | F10: 0 | G10: 0 | H10: 0 | I10: 0 | J10: 0
A11: 43503 | B11: 0 | C11: 0 | D11: 0 | E11: 0 | F11: 0 | G11: 0 | H11: 0 | I11: 0 | J11: 0
A12: 43504 | B12: 0 | C12: 0 | D12: 0 | E12: 0 | F12: 0 | G12: 0 | H12: 0 | I12: 0 | J12: 0
A13: 43505 | B13: 0 | C13: 0 | D13: 0 | E13: 0 | F13: 0 | G13: 0 | H13: 0 | I13: 0 | J13: 0
A14: 43506 | B14: 0 | C14: 0 | D14: 0 | E14: 0 | F14: 0 | G14: 0 | H14: 0 | I14: 0 | J14: 0
A15: 43507 | B15: 0 | C15: 0 | D15: 0 | E15: 0 | F15: 0 | G15: 0 | H15: 0 | I15: 0 | J15: 0
A16: 43508 | B16: 0 | C16: 0 | D16: 0 | E16: 0 | F16: 0 | G16: 0 | H16: 0 | I16: 0 | J16: 0
... A32: 43524 | B32: 0 | C32: 0 | D32: 0 | E32: 0 | F32: 0 | G32: 0 | H32: 0 | I32: 0 | J32: 0
A33: TOTAL | B33: =SUM(B5:B32) -> 3 | C33: =SUM(C5:C32) -> 0 | D33: =SUM(D5:D32) -> 0 | E33: =SUM(E5:E32) -> 0 | F33: =SUM(F5:F32) -> 0 | G33: =SUM(G5:G32) -> 0 | H33: =SUM(H5:H32) -> 0 | I33: =SUM(I5:I32) -> 0 | J33: =SUM(J5:J32) -> 0

Sheet MAR
A1: Menu | B1: COMPRAS DE MP / SAÍDAS DE ESTOQUE - MARÇO
E2: //
A3: DATA | D3: ENTRADAS (Compras) | H3: SAÍDAS
B4: Nº | C4: Matéria-Prima | D4: Quantidade | F4: Nº | G4: Matéria-Prima | H4: Quantidade
A5: 43525 | B5: 1 | C5: ='Matérias-Primas'!C3 -> Farinha | D5: 0 | F5: 1 | G5: ='Matérias-Primas'!C3 -> Farinha | H5: =('Fórmulas Produção'!D5*'OP - MAR'!B$36)+('Fórmulas Produção'!I5*'OP - MAR'!C$36)+('Fórmulas Produção'!N5*'OP - MAR'!D$36)+('Fórmulas Produção'!D23*'OP - MAR'!E$36)+('Fórmulas Produção'!I23*'OP - MAR'!F$36)+('Fórmulas Produção'!N23*'OP - MAR'!G$36)+('Fórmulas Produção'!D41*'OP - MAR'!H$36)+('Fórmulas Produção'!I41*'OP - MAR'!I$36)+('Fórmulas Produção'!N41*'OP - MAR'!J$36) -> 0
B6: 2 | C6: ='Matérias-Primas'!C4 -> Fermento em pó | D6: 0 | F6: 2 | G6: ='Matérias-Primas'!C4 -> Fermento em pó | H6: =('Fórmulas Produção'!D6*'OP - MAR'!B$36)+('Fórmulas Produção'!I6*'OP - MAR'!C$36)+('Fórmulas Produção'!N6*'OP - MAR'!D$36)+('Fórmulas Produção'!D24*'OP - MAR'!E$36)+('Fórmulas Produção'!I24*'OP - MAR'!F$36)+('Fórmulas Produção'!N24*'OP - MAR'!G$36)+('Fórmulas Produção'!D42*'OP - MAR'!H$36)+('Fórmulas Produção'!I42*'OP - MAR'!I$36)+('Fórmulas Produção'!N42*'OP - MAR'!J$36) -> 0
B7: 3 | C7: ='Matérias-Primas'!C5 -> (Digite sua matéria-prima) | D7: 0 | F7: 3 | G7: ='Matérias-Primas'!C5 -> (Digite sua matéria-prima) | H7: =('Fórmulas Produção'!D7*'OP - MAR'!B$36)+('Fórmulas Produção'!I7*'OP - MAR'!C$36)+('Fórmulas Produção'!N7*'OP - MAR'!D$36)+('Fórmulas Produção'!D25*'OP - MAR'!E$36)+('Fórmulas Produção'!I25*'OP - MAR'!F$36)+('Fórmulas Produção'!N25*'OP - MAR'!G$36)+('Fórmulas Produção'!D43*'OP - MAR'!H$36)+('Fórmulas Produção'!I43*'OP - MAR'!I$36)+('Fórmulas Produção'!N43*'OP - MAR'!J$36) -> 0
B8: 4 | C8: ='Matérias-Primas'!C6 -> (Digite sua matéria-prima) | D8: 0 | F8: 4 | G8: ='Matérias-Primas'!C6 -> (Digite sua matéria-prima) | H8: =('Fórmulas Produção'!D8*'OP - MAR'!B$36)+('Fórmulas Produção'!I8*'OP - MAR'!C$36)+('Fórmulas Produção'!N8*'OP - MAR'!D$36)+('Fórmulas Produção'!D26*'OP - MAR'!E$36)+('Fórmulas Produção'!I26*'OP - MAR'!F$36)+('Fórmulas Produção'!N26*'OP - MAR'!G$36)+('Fórmulas Produção'!D44*'OP - MAR'!H$36)+('Fórmulas Produção'!I44*'OP - MAR'!I$36)+('Fórmulas Produção'!N44*'OP - MAR'!J$36) -> 0
B9: 5 | C9: ='Matérias-Primas'!C7 -> (Digite sua matéria-prima) | D9: 0 | F9: 5 | G9: ='Matérias-Primas'!C7 -> (Digite sua matéria-prima) | H9: =('Fórmulas Produção'!D9*'OP - MAR'!B$36)+('Fórmulas Produção'!I9*'OP - MAR'!C$36)+('Fórmulas Produção'!N9*'OP - MAR'!D$36)+('Fórmulas Produção'!D27*'OP - MAR'!E$36)+('Fórmulas Produção'!I27*'OP - MAR'!F$36)+('Fórmulas Produção'!N27*'OP - MAR'!G$36)+('Fórmulas Produção'!D45*'OP - MAR'!H$36)+('Fórmulas Produção'!I45*'OP - MAR'!I$36)+('Fórmulas Produção'!N45*'OP - MAR'!J$36) -> 0
B10: 6 | C10: ='Matérias-Primas'!C8 -> (Digite sua matéria-prima) | D10: 0 | F10: 6 | G10: ='Matérias-Primas'!C8 -> (Digite sua matéria-prima) | H10: =('Fórmulas Produção'!D10*'OP - MAR'!B$36)+('Fórmulas Produção'!I10*'OP - MAR'!C$36)+('Fórmulas Produção'!N10*'OP - MAR'!D$36)+('Fórmulas Produção'!D28*'OP - MAR'!E$36)+('Fórmulas Produção'!I28*'OP - MAR'!F$36)+('Fórmulas Produção'!N28*'OP - MAR'!G$36)+('Fórmulas Produção'!D46*'OP - MAR'!H$36)+('Fórmulas Produção'!I46*'OP - MAR'!I$36)+('Fórmulas Produção'!N46*'OP - MAR'!J$36) -> 0
B11: 7 | C11: ='Matérias-Primas'!C9 -> (Digite sua matéria-prima) | D11: 0 | F11: 7 | G11: ='Matérias-Primas'!C9 -> (Digite sua matéria-prima) | H11: =('Fórmulas Produção'!D11*'OP - MAR'!B$36)+('Fórmulas Produção'!I11*'OP - MAR'!C$36)+('Fórmulas Produção'!N11*'OP - MAR'!D$36)+('Fórmulas Produção'!D29*'OP - MAR'!E$36)+('Fórmulas Produção'!I29*'OP - MAR'!F$36)+('Fórmulas Produção'!N29*'OP - MAR'!G$36)+('Fórmulas Produção'!D47*'OP - MAR'!H$36)+('Fórmulas Produção'!I47*'OP - MAR'!I$36)+('Fórmulas Produção'!N47*'OP - MAR'!J$36) -> 0
B12: 8 | C12: ='Matérias-Primas'!C10 -> (Digite sua matéria-prima) | D12: 0 | F12: 8 | G12: ='Matérias-Primas'!C10 -> (Digite sua matéria-prima) | H12: =('Fórmulas Produção'!D12*'OP - MAR'!B$36)+('Fórmulas Produção'!I12*'OP - MAR'!C$36)+('Fórmulas Produção'!N12*'OP - MAR'!D$36)+('Fórmulas Produção'!D30*'OP - MAR'!E$36)+('Fórmulas Produção'!I30*'OP - MAR'!F$36)+('Fórmulas Produção'!N30*'OP - MAR'!G$36)+('Fórmulas Produção'!D48*'OP - MAR'!H$36)+('Fórmulas Produção'!I48*'OP - MAR'!I$36)+('Fórmulas Produção'!N48*'OP - MAR'!J$36) -> 0
B13: 9 | C13: ='Matérias-Primas'!C11 -> (Digite sua matéria-prima) | D13: 0 | F13: 9 | G13: ='Matérias-Primas'!C11 -> (Digite sua matéria-prima) | H13: =('Fórmulas Produção'!D13*'OP - MAR'!B$36)+('Fórmulas Produção'!I13*'OP - MAR'!C$36)+('Fórmulas Produção'!N13*'OP - MAR'!D$36)+('Fórmulas Produção'!D31*'OP - MAR'!E$36)+('Fórmulas Produção'!I31*'OP - MAR'!F$36)+('Fórmulas Produção'!N31*'OP - MAR'!G$36)+('Fórmulas Produção'!D49*'OP - MAR'!H$36)+('Fórmulas Produção'!I49*'OP - MAR'!I$36)+('Fórmulas Produção'!N49*'OP - MAR'!J$36) -> 0
B14: 10 | C14: ='Matérias-Primas'!C12 -> (Digite sua matéria-prima) | D14: 0 | F14: 10 | G14: ='Matérias-Primas'!C12 -> (Digite sua matéria-prima) | H14: =('Fórmulas Produção'!D14*'OP - MAR'!B$36)+('Fórmulas Produção'!I14*'OP - MAR'!C$36)+('Fórmulas Produção'!N14*'OP - MAR'!D$36)+('Fórmulas Produção'!D32*'OP - MAR'!E$36)+('Fórmulas Produção'!I32*'OP - MAR'!F$36)+('Fórmulas Produção'!N32*'OP - MAR'!G$36)+('Fórmulas Produção'!D50*'OP - MAR'!H$36)+('Fórmulas Produção'!I50*'OP - MAR'!I$36)+('Fórmulas Produção'!N50*'OP - MAR'!J$36) -> 0
B15: 11 | C15: ='Matérias-Primas'!C13 -> (Digite sua matéria-prima) | D15: 0 | F15: 11 | G15: ='Matérias-Primas'!C13 -> (Digite sua matéria-prima) | H15: =('Fórmulas Produção'!D15*'OP - MAR'!B$36)+('Fórmulas Produção'!I15*'OP - MAR'!C$36)+('Fórmulas Produção'!N15*'OP - MAR'!D$36)+('Fórmulas Produção'!D33*'OP - MAR'!E$36)+('Fórmulas Produção'!I33*'OP - MAR'!F$36)+('Fórmulas Produção'!N33*'OP - MAR'!G$36)+('Fórmulas Produção'!D51*'OP - MAR'!H$36)+('Fórmulas Produção'!I51*'OP - MAR'!I$36)+('Fórmulas Produção'!N51*'OP - MAR'!J$36) -> 0
B16: 12 | C16: ='Matérias-Primas'!C14 -> (Digite sua matéria-prima) | D16: 0 | F16: 12 | G16: ='Matérias-Primas'!C14 -> (Digite sua matéria-prima) | H16: =('Fórmulas Produção'!D16*'OP - MAR'!B$36)+('Fórmulas Produção'!I16*'OP - MAR'!C$36)+('Fórmulas Produção'!N16*'OP - MAR'!D$36)+('Fórmulas Produção'!D34*'OP - MAR'!E$36)+('Fórmulas Produção'!I34*'OP - MAR'!F$36)+('Fórmulas Produção'!N34*'OP - MAR'!G$36)+('Fórmulas Produção'!D52*'OP - MAR'!H$36)+('Fórmulas Produção'!I52*'OP - MAR'!I$36)+('Fórmulas Produção'!N52*'OP - MAR'!J$36) -> 0
B17: 13 | C17: ='Matérias-Primas'!C15 -> (Digite sua matéria-prima) | D17: 0 | F17: 13 | G17: ='Matérias-Primas'!C15 -> (Digite sua matéria-prima) | H17: =('Fórmulas Produção'!D17*'OP - MAR'!B$36)+('Fórmulas Produção'!I17*'OP - MAR'!C$36)+('Fórmulas Produção'!N17*'OP - MAR'!D$36)+('Fórmulas Produção'!D35*'OP - MAR'!E$36)+('Fórmulas Produção'!I35*'OP - MAR'!F$36)+('Fórmulas Produção'!N35*'OP - MAR'!G$36)+('Fórmulas Produção'!D53*'OP - MAR'!H$36)+('Fórmulas Produção'!I53*'OP - MAR'!I$36)+('Fórmulas Produção'!N53*'OP - MAR'!J$36) -> 0
... B19: 15 | C19: ='Matérias-Primas'!C17 -> (Digite sua matéria-prima) | D19: 0 | F19: 15 | G19: ='Matérias-Primas'!C17 -> (Digite sua matéria-prima) | H19: =('Fórmulas Produção'!D19*'OP - MAR'!B$36)+('Fórmulas Produção'!I19*'OP - MAR'!C$36)+('Fórmulas Produção'!N19*'OP - MAR'!D$36)+('Fórmulas Produção'!D37*'OP - MAR'!E$36)+('Fórmulas Produção'!I37*'OP - MAR'!F$36)+('Fórmulas Produção'!N37*'OP - MAR'!G$36)+('Fórmulas Produção'!D55*'OP - MAR'!H$36)+('Fórmulas Produção'!I55*'OP - MAR'!I$36)+('Fórmulas Produção'!N55*'OP - MAR'!J$36) -> 0

Sheet OP - MAR
A1: Menu | B1: ORDENS DE PRODUÇÃO - MARÇO
A3: DATA | B3: Quantidade Produzida - em Unidades
B4: ='Fórmulas Produção'!B3 -> Pão Francês | C4: ='Fórmulas Produção'!G3 -> Produto 2 | D4: ='Fórmulas Produção'!L3 -> Produto 3 | E4: ='Fórmulas Produção'!B21 -> Produto 4 | F4: ='Fórmulas Produção'!G21 -> Produto 5 | G4: ='Fórmulas Produção'!L21 -> Produto 6 | H4: ='Fórmulas Produção'!B39 -> Produto 7 | I4: ='Fórmulas Produção'!G39 -> Produto 8 | J4: ='Fórmulas Produção'!L39 -> Produto 9
A5: 43525 | B5: 0 | C5: 0 | D5: 0 | E5: 0 | F5: 0 | G5: 0 | H5: 0 | I5: 0 | J5: 0
A6: 43526 | B6: 0 | C6: 0 | D6: 0 | E6: 0 | F6: 0 | G6: 0 | H6: 0 | I6: 0 | J6: 0
A7: 43527 | B7: 0 | C7: 0 | D7: 0 | E7: 0 | F7: 0 | G7: 0 | H7: 0 | I7: 0 | J7: 0
A8: 43528 | B8: 0 | C8: 0 | D8: 0 | E8: 0 | F8: 0 | G8: 0 | H8: 0 | I8: 0 | J8: 0
A9: 43529 | B9: 0 | C9: 0 | D9: 0 | E9: 0 | F9: 0 | G9: 0 | H9: 0 | I9: 0 | J9: 0
A10: 43530 | B10: 0 | C10: 0 | D10: 0 | E10: 0 | F10: 0 | G10: 0 | H10: 0 | I10: 0 | J10: 0
A11: 43531 | B11: 0 | C11: 0 | D11: 0 | E11: 0 | F11: 0 | G11: 0 | H11: 0 | I11: 0 | J11: 0
A12: 43532 | B12: 0 | C12: 0 | D12: 0 | E12: 0 | F12: 0 | G12: 0 | H12: 0 | I12: 0 | J12: 0
A13: 43533 | B13: 0 | C13: 0 | D13: 0 | E13: 0 | F13: 0 | G13: 0 | H13: 0 | I13: 0 | J13: 0
A14: 43534 | B14: 0 | C14: 0 | D14: 0 | E14: 0 | F14: 0 | G14: 0 | H14: 0 | I14: 0 | J14: 0
A15: 43535 | B15: 0 | C15: 0 | D15: 0 | E15: 0 | F15: 0 | G15: 0 | H15: 0 | I15: 0 | J15: 0
A16: 43536 | B16: 0 | C16: 0 | D16: 0 | E16: 0 | F16: 0 | G16: 0 | H16: 0 | I16: 0 | J16: 0
... A35: 43555 | B35: 0 | C35: 0 | D35: 0 | E35: 0 | F35: 0 | G35: 0 | H35: 0 | I35: 0 | J35: 0
A36: TOTAL | B36: =SUM(B5:B35) -> 0 | C36: =SUM(C5:C35) -> 0 | D36: =SUM(D5:D35) -> 0 | E36: =SUM(E5:E35) -> 0 | F36: =SUM(F5:F35) -> 0 | G36: =SUM(G5:G35) -> 0 | H36: =SUM(H5:H35) -> 0 | I36: =SUM(I5:I35) -> 0 | J36: =SUM(J5:J35) -> 0

Sheet ABR
A1: Menu | B1: COMPRAS DE MP / SAÍDAS DE ESTOQUE - ABRIL
E2: //
A3: DATA | D3: ENTRADAS (Compras) | H3: SAÍDAS
B4: Nº | C4: Matéria-Prima | D4: Quantidade | F4: Nº | G4: Matéria-Prima | H4: Quantidade
A5: 43556 | B5: 1 | C5: ='Matérias-Primas'!C3 -> Farinha | D5: 0 | F5: 1 | G5: ='Matérias-Primas'!C3 -> Farinha | H5: =('Fórmulas Produção'!D5*'OP - ABR'!B$35)+('Fórmulas Produção'!I5*'OP - ABR'!C$35)+('Fórmulas Produção'!N5*'OP - ABR'!D$35)+('Fórmulas Produção'!D23*'OP - ABR'!E$35)+('Fórmulas Produção'!I23*'OP - ABR'!F$35)+('Fórmulas Produção'!N23*'OP - ABR'!G$35)+('Fórmulas Produção'!D41*'OP - ABR'!H$35)+('Fórmulas Produção'!I41*'OP - ABR'!I$35)+('Fórmulas Produção'!N41*'OP - ABR'!J$35) -> 0
B6: 2 | C6: ='Matérias-Primas'!C4 -> Fermento em pó | D6: 0 | F6: 2 | G6: ='Matérias-Primas'!C4 -> Fermento em pó | H6: =('Fórmulas Produção'!D6*'OP - ABR'!B$35)+('Fórmulas Produção'!I6*'OP - ABR'!C$35)+('Fórmulas Produção'!N6*'OP - ABR'!D$35)+('Fórmulas Produção'!D24*'OP - ABR'!E$35)+('Fórmulas Produção'!I24*'OP - ABR'!F$35)+('Fórmulas Produção'!N24*'OP - ABR'!G$35)+('Fórmulas Produção'!D42*'OP - ABR'!H$35)+('Fórmulas Produção'!I42*'OP - ABR'!I$35)+('Fórmulas Produção'!N42*'OP - ABR'!J$35) -> 0
B7: 3 | C7: ='Matérias-Primas'!C5 -> (Digite sua matéria-prima) | D7: 0 | F7: 3 | G7: ='Matérias-Primas'!C5 -> (Digite sua matéria-prima) | H7: =('Fórmulas Produção'!D7*'OP - ABR'!B$35)+('Fórmulas Produção'!I7*'OP - ABR'!C$35)+('Fórmulas Produção'!N7*'OP - ABR'!D$35)+('Fórmulas Produção'!D25*'OP - ABR'!E$35)+('Fórmulas Produção'!I25*'OP - ABR'!F$35)+('Fórmulas Produção'!N25*'OP - ABR'!G$35)+('Fórmulas Produção'!D43*'OP - ABR'!H$35)+('Fórmulas Produção'!I43*'OP - ABR'!I$35)+('Fórmulas Produção'!N43*'OP - ABR'!J$35) -> 0
B8: 4 | C8: ='Matérias-Primas'!C6 -> (Digite sua matéria-prima) | D8: 0 | F8: 4 | G8: ='Matérias-Primas'!C6 -> (Digite sua matéria-prima) | H8: =('Fórmulas Produção'!D8*'OP - ABR'!B$35)+('Fórmulas Produção'!I8*'OP - ABR'!C$35)+('Fórmulas Produção'!N8*'OP - ABR'!D$35)+('Fórmulas Produção'!D26*'OP - ABR'!E$35)+('Fórmulas Produção'!I26*'OP - ABR'!F$35)+('Fórmulas Produção'!N26*'OP - ABR'!G$35)+('Fórmulas Produção'!D44*'OP - ABR'!H$35)+('Fórmulas Produção'!I44*'OP - ABR'!I$35)+('Fórmulas Produção'!N44*'OP - ABR'!J$35) -> 0
B9: 5 | C9: ='Matérias-Primas'!C7 -> (Digite sua matéria-prima) | D9: 0 | F9: 5 | G9: ='Matérias-Primas'!C7 -> (Digite sua matéria-prima) | H9: =('Fórmulas Produção'!D9*'OP - ABR'!B$35)+('Fórmulas Produção'!I9*'OP - ABR'!C$35)+('Fórmulas Produção'!N9*'OP - ABR'!D$35)+('Fórmulas Produção'!D27*'OP - ABR'!E$35)+('Fórmulas Produção'!I27*'OP - ABR'!F$35)+('Fórmulas Produção'!N27*'OP - ABR'!G$35)+('Fórmulas Produção'!D45*'OP - ABR'!H$35)+('Fórmulas Produção'!I45*'OP - ABR'!I$35)+('Fórmulas Produção'!N45*'OP - ABR'!J$35) -> 0
B10: 6 | C10: ='Matérias-Primas'!C8 -> (Digite sua matéria-prima) | D10: 0 | F10: 6 | G10: ='Matérias-Primas'!C8 -> (Digite sua matéria-prima) | H10: =('Fórmulas Produção'!D10*'OP - ABR'!B$35)+('Fórmulas Produção'!I10*'OP - ABR'!C$35)+('Fórmulas Produção'!N10*'OP - ABR'!D$35)+('Fórmulas Produção'!D28*'OP - ABR'!E$35)+('Fórmulas Produção'!I28*'OP - ABR'!F$35)+('Fórmulas Produção'!N28*'OP - ABR'!G$35)+('Fórmulas Produção'!D46*'OP - ABR'!H$35)+('Fórmulas Produção'!I46*'OP - ABR'!I$35)+('Fórmulas Produção'!N46*'OP - ABR'!J$35) -> 0
B11: 7 | C11: ='Matérias-Primas'!C9 -> (Digite sua matéria-prima) | D11: 0 | F11: 7 | G11: ='Matérias-Primas'!C9 -> (Digite sua matéria-prima) | H11: =('Fórmulas Produção'!D11*'OP - ABR'!B$35)+('Fórmulas Produção'!I11*'OP - ABR'!C$35)+('Fórmulas Produção'!N11*'OP - ABR'!D$35)+('Fórmulas Produção'!D29*'OP - ABR'!E$35)+('Fórmulas Produção'!I29*'OP - ABR'!F$35)+('Fórmulas Produção'!N29*'OP - ABR'!G$35)+('Fórmulas Produção'!D47*'OP - ABR'!H$35)+('Fórmulas Produção'!I47*'OP - ABR'!I$35)+('Fórmulas Produção'!N47*'OP - ABR'!J$35) -> 0
B12: 8 | C12: ='Matérias-Primas'!C10 -> (Digite sua matéria-prima) | D12: 0 | F12: 8 | G12: ='Matérias-Primas'!C10 -> (Digite sua matéria-prima) | H12: =('Fórmulas Produção'!D12*'OP - ABR'!B$35)+('Fórmulas Produção'!I12*'OP - ABR'!C$35)+('Fórmulas Produção'!N12*'OP - ABR'!D$35)+('Fórmulas Produção'!D30*'OP - ABR'!E$35)+('Fórmulas Produção'!I30*'OP - ABR'!F$35)+('Fórmulas Produção'!N30*'OP - ABR'!G$35)+('Fórmulas Produção'!D48*'OP - ABR'!H$35)+('Fórmulas Produção'!I48*'OP - ABR'!I$35)+('Fórmulas Produção'!N48*'OP - ABR'!J$35) -> 0
B13: 9 | C13: ='Matérias-Primas'!C11 -> (Digite sua matéria-prima) | D13: 0 | F13: 9 | G13: ='Matérias-Primas'!C11 -> (Digite sua matéria-prima) | H13: =('Fórmulas Produção'!D13*'OP - ABR'!B$35)+('Fórmulas Produção'!I13*'OP - ABR'!C$35)+('Fórmulas Produção'!N13*'OP - ABR'!D$35)+('Fórmulas Produção'!D31*'OP - ABR'!E$35)+('Fórmulas Produção'!I31*'OP - ABR'!F$35)+('Fórmulas Produção'!N31*'OP - ABR'!G$35)+('Fórmulas Produção'!D49*'OP - ABR'!H$35)+('Fórmulas Produção'!I49*'OP - ABR'!I$35)+('Fórmulas Produção'!N49*'OP - ABR'!J$35) -> 0
B14: 10 | C14: ='Matérias-Primas'!C12 -> (Digite sua matéria-prima) | D14: 0 | F14: 10 | G14: ='Matérias-Primas'!C12 -> (Digite sua matéria-prima) | H14: =('Fórmulas Produção'!D14*'OP - ABR'!B$35)+('Fórmulas Produção'!I14*'OP - ABR'!C$35)+('Fórmulas Produção'!N14*'OP - ABR'!D$35)+('Fórmulas Produção'!D32*'OP - ABR'!E$35)+('Fórmulas Produção'!I32*'OP - ABR'!F$35)+('Fórmulas Produção'!N32*'OP - ABR'!G$35)+('Fórmulas Produção'!D50*'OP - ABR'!H$35)+('Fórmulas Produção'!I50*'OP - ABR'!I$35)+('Fórmulas Produção'!N50*'OP - ABR'!J$35) -> 0
B15: 11 | C15: ='Matérias-Primas'!C13 -> (Digite sua matéria-prima) | D15: 0 | F15: 11 | G15: ='Matérias-Primas'!C13 -> (Digite sua matéria-prima) | H15: =('Fórmulas Produção'!D15*'OP - ABR'!B$35)+('Fórmulas Produção'!I15*'OP - ABR'!C$35)+('Fórmulas Produção'!N15*'OP - ABR'!D$35)+('Fórmulas Produção'!D33*'OP - ABR'!E$35)+('Fórmulas Produção'!I33*'OP - ABR'!F$35)+('Fórmulas Produção'!N33*'OP - ABR'!G$35)+('Fórmulas Produção'!D51*'OP - ABR'!H$35)+('Fórmulas Produção'!I51*'OP - ABR'!I$35)+('Fórmulas Produção'!N51*'OP - ABR'!J$35) -> 0
B16: 12 | C16: ='Matérias-Primas'!C14 -> (Digite sua matéria-prima) | D16: 0 | F16: 12 | G16: ='Matérias-Primas'!C14 -> (Digite sua matéria-prima) | H16: =('Fórmulas Produção'!D16*'OP - ABR'!B$35)+('Fórmulas Produção'!I16*'OP - ABR'!C$35)+('Fórmulas Produção'!N16*'OP - ABR'!D$35)+('Fórmulas Produção'!D34*'OP - ABR'!E$35)+('Fórmulas Produção'!I34*'OP - ABR'!F$35)+('Fórmulas Produção'!N34*'OP - ABR'!G$35)+('Fórmulas Produção'!D52*'OP - ABR'!H$35)+('Fórmulas Produção'!I52*'OP - ABR'!I$35)+('Fórmulas Produção'!N52*'OP - ABR'!J$35) -> 0
B17: 13 | C17: ='Matérias-Primas'!C15 -> (Digite sua matéria-prima) | D17: 0 | F17: 13 | G17: ='Matérias-Primas'!C15 -> (Digite sua matéria-prima) | H17: =('Fórmulas Produção'!D17*'OP - ABR'!B$35)+('Fórmulas Produção'!I17*'OP - ABR'!C$35)+('Fórmulas Produção'!N17*'OP - ABR'!D$35)+('Fórmulas Produção'!D35*'OP - ABR'!E$35)+('Fórmulas Produção'!I35*'OP - ABR'!F$35)+('Fórmulas Produção'!N35*'OP - ABR'!G$35)+('Fórmulas Produção'!D53*'OP - ABR'!H$35)+('Fórmulas Produção'!I53*'OP - ABR'!I$35)+('Fórmulas Produção'!N53*'OP - ABR'!J$35) -> 0
... B19: 15 | C19: ='Matérias-Primas'!C17 -> (Digite sua matéria-prima) | D19: 0 | F19: 15 | G19: ='Matérias-Primas'!C17 -> (Digite sua matéria-prima) | H19: =('Fórmulas Produção'!D19*'OP - ABR'!B$35)+('Fórmulas Produção'!I19*'OP - ABR'!C$35)+('Fórmulas Produção'!N19*'OP - ABR'!D$35)+('Fórmulas Produção'!D37*'OP - ABR'!E$35)+('Fórmulas Produção'!I37*'OP - ABR'!F$35)+('Fórmulas Produção'!N37*'OP - ABR'!G$35)+('Fórmulas Produção'!D55*'OP - ABR'!H$35)+('Fórmulas Produção'!I55*'OP - ABR'!I$35)+('Fórmulas Produção'!N55*'OP - ABR'!J$35) -> 0

Sheet OP - ABR
A1: Menu | B1: ORDENS DE PRODUÇÃO - ABRIL
A3: DATA | B3: Quantidade Produzida - em Unidades
B4: ='Fórmulas Produção'!B3 -> Pão Francês | C4: ='Fórmulas Produção'!G3 -> Produto 2 | D4: ='Fórmulas Produção'!L3 -> Produto 3 | E4: ='Fórmulas Produção'!B21 -> Produto 4 | F4: ='Fórmulas Produção'!G21 -> Produto 5 | G4: ='Fórmulas Produção'!L21 -> Produto 6 | H4: ='Fórmulas Produção'!B39 -> Produto 7 | I4: ='Fórmulas Produção'!G39 -> Produto 8 | J4: ='Fórmulas Produção'!L39 -> Produto 9
A5: 43556 | B5: 0 | C5: 0 | D5: 0 | E5: 0 | F5: 0 | G5: 0 | H5: 0 | I5: 0 | J5: 0
A6: 43557 | B6: 0 | C6: 0 | D6: 0 | E6: 0 | F6: 0 | G6: 0 | H6: 0 | I6: 0 | J6: 0
A7: 43558 | B7: 0 | C7: 0 | D7: 0 | E7: 0 | F7: 0 | G7: 0 | H7: 0 | I7: 0 | J7: 0
A8: 43559 | B8: 0 | C8: 0 | D8: 0 | E8: 0 | F8: 0 | G8: 0 | H8: 0 | I8: 0 | J8: 0
A9: 43560 | B9: 0 | C9: 0 | D9: 0 | E9: 0 | F9: 0 | G9: 0 | H9: 0 | I9: 0 | J9: 0
A10: 43561 | B10: 0 | C10: 0 | D10: 0 | E10: 0 | F10: 0 | G10: 0 | H10: 0 | I10: 0 | J10: 0
A11: 43562 | B11: 0 | C11: 0 | D11: 0 | E11: 0 | F11: 0 | G11: 0 | H11: 0 | I11: 0 | J11: 0
A12: 43563 | B12: 0 | C12: 0 | D12: 0 | E12: 0 | F12: 0 | G12: 0 | H12: 0 | I12: 0 | J12: 0
A13: 43564 | B13: 0 | C13: 0 | D13: 0 | E13: 0 | F13: 0 | G13: 0 | H13: 0 | I13: 0 | J13: 0
A14: 43565 | B14: 0 | C14: 0 | D14: 0 | E14: 0 | F14: 0 | G14: 0 | H14: 0 | I14: 0 | J14: 0
A15: 43566 | B15: 0 | C15: 0 | D15: 0 | E15: 0 | F15: 0 | G15: 0 | H15: 0 | I15: 0 | J15: 0
A16: 43567 | B16: 0 | C16: 0 | D16: 0 | E16: 0 | F16: 0 | G16: 0 | H16: 0 | I16: 0 | J16: 0
... A34: 43585 | B34: 0 | C34: 0 | D34: 0 | E34: 0 | F34: 0 | G34: 0 | H34: 0 | I34: 0 | J34: 0
A35: TOTAL | B35: =SUM(B5:B34) -> 0 | C35: =SUM(C5:C34) -> 0 | D35: =SUM(D5:D34) -> 0 | E35: =SUM(E5:E34) -> 0 | F35: =SUM(F5:F34) -> 0 | G35: =SUM(G5:G34) -> 0 | H35: =SUM(H5:H34) -> 0 | I35: =SUM(I5:I34) -> 0 | J35: =SUM(J5:J34) -> 0

Sheet MAI
A1: Menu | B1: COMPRAS DE MP / SAÍDAS DE ESTOQUE - MAIO
E2: //
A3: DATA | D3: ENTRADAS (Compras) | H3: SAÍDAS
B4: Nº | C4: Matéria-Prima | D4: Quantidade | F4: Nº | G4: Matéria-Prima | H4: Quantidade
A5: 43586 | B5: 1 | C5: ='Matérias-Primas'!C3 -> Farinha | D5: 0 | F5: 1 | G5: ='Matérias-Primas'!C3 -> Farinha | H5: =('Fórmulas Produção'!D5*'OP - MAI'!B$36)+('Fórmulas Produção'!I5*'OP - MAI'!C$36)+('Fórmulas Produção'!N5*'OP - MAI'!D$36)+('Fórmulas Produção'!D23*'OP - MAI'!E$36)+('Fórmulas Produção'!I23*'OP - MAI'!F$36)+('Fórmulas Produção'!N23*'OP - MAI'!G$36)+('Fórmulas Produção'!D41*'OP - MAI'!H$36)+('Fórmulas Produção'!I41*'OP - MAI'!I$36)+('Fórmulas Produção'!N41*'OP - MAI'!J$36) -> 0
B6: 2 | C6: ='Matérias-Primas'!C4 -> Fermento em pó | D6: 0 | F6: 2 | G6: ='Matérias-Primas'!C4 -> Fermento em pó | H6: =('Fórmulas Produção'!D6*'OP - MAI'!B$36)+('Fórmulas Produção'!I6*'OP - MAI'!C$36)+('Fórmulas Produção'!N6*'OP - MAI'!D$36)+('Fórmulas Produção'!D24*'OP - MAI'!E$36)+('Fórmulas Produção'!I24*'OP - MAI'!F$36)+('Fórmulas Produção'!N24*'OP - MAI'!G$36)+('Fórmulas Produção'!D42*'OP - MAI'!H$36)+('Fórmulas Produção'!I42*'OP - MAI'!I$36)+('Fórmulas Produção'!N42*'OP - MAI'!J$36) -> 0
B7: 3 | C7: ='Matérias-Primas'!C5 -> (Digite sua matéria-prima) | D7: 0 | F7: 3 | G7: ='Matérias-Primas'!C5 -> (Digite sua matéria-prima) | H7: =('Fórmulas Produção'!D7*'OP - MAI'!B$36)+('Fórmulas Produção'!I7*'OP - MAI'!C$36)+('Fórmulas Produção'!N7*'OP - MAI'!D$36)+('Fórmulas Produção'!D25*'OP - MAI'!E$36)+('Fórmulas Produção'!I25*'OP - MAI'!F$36)+('Fórmulas Produção'!N25*'OP - MAI'!G$36)+('Fórmulas Produção'!D43*'OP - MAI'!H$36)+('Fórmulas Produção'!I43*'OP - MAI'!I$36)+('Fórmulas Produção'!N43*'OP - MAI'!J$36) -> 0
B8: 4 | C8: ='Matérias-Primas'!C6 -> (Digite sua matéria-prima) | D8: 0 | F8: 4 | G8: ='Matérias-Primas'!C6 -> (Digite sua matéria-prima) | H8: =('Fórmulas Produção'!D8*'OP - MAI'!B$36)+('Fórmulas Produção'!I8*'OP - MAI'!C$36)+('Fórmulas Produção'!N8*'OP - MAI'!D$36)+('Fórmulas Produção'!D26*'OP - MAI'!E$36)+('Fórmulas Produção'!I26*'OP - MAI'!F$36)+('Fórmulas Produção'!N26*'OP - MAI'!G$36)+('Fórmulas Produção'!D44*'OP - MAI'!H$36)+('Fórmulas Produção'!I44*'OP - MAI'!I$36)+('Fórmulas Produção'!N44*'OP - MAI'!J$36) -> 0
B9: 5 | C9: ='Matérias-Primas'!C7 -> (Digite sua matéria-prima) | D9: 0 | F9: 5 | G9: ='Matérias-Primas'!C7 -> (Digite sua matéria-prima) | H9: =('Fórmulas Produção'!D9*'OP - MAI'!B$36)+('Fórmulas Produção'!I9*'OP - MAI'!C$36)+('Fórmulas Produção'!N9*'OP - MAI'!D$36)+('Fórmulas Produção'!D27*'OP - MAI'!E$36)+('Fórmulas Produção'!I27*'OP - MAI'!F$36)+('Fórmulas Produção'!N27*'OP - MAI'!G$36)+('Fórmulas Produção'!D45*'OP - MAI'!H$36)+('Fórmulas Produção'!I45*'OP - MAI'!I$36)+('Fórmulas Produção'!N45*'OP - MAI'!J$36) -> 0
B10: 6 | C10: ='Matérias-Primas'!C8 -> (Digite sua matéria-prima) | D10: 0 | F10: 6 | G10: ='Matérias-Primas'!C8 -> (Digite sua matéria-prima) | H10: =('Fórmulas Produção'!D10*'OP - MAI'!B$36)+('Fórmulas Produção'!I10*'OP - MAI'!C$36)+('Fórmulas Produção'!N10*'OP - MAI'!D$36)+('Fórmulas Produção'!D28*'OP - MAI'!E$36)+('Fórmulas Produção'!I28*'OP - MAI'!F$36)+('Fórmulas Produção'!N28*'OP - MAI'!G$36)+('Fórmulas Produção'!D46*'OP - MAI'!H$36)+('Fórmulas Produção'!I46*'OP - MAI'!I$36)+('Fórmulas Produção'!N46*'OP - MAI'!J$36) -> 0
B11: 7 | C11: ='Matérias-Primas'!C9 -> (Digite sua matéria-prima) | D11: 0 | F11: 7 | G11: ='Matérias-Primas'!C9 -> (Digite sua matéria-prima) | H11: =('Fórmulas Produção'!D11*'OP - MAI'!B$36)+('Fórmulas Produção'!I11*'OP - MAI'!C$36)+('Fórmulas Produção'!N11*'OP - MAI'!D$36)+('Fórmulas Produção'!D29*'OP - MAI'!E$36)+('Fórmulas Produção'!I29*'OP - MAI'!F$36)+('Fórmulas Produção'!N29*'OP - MAI'!G$36)+('Fórmulas Produção'!D47*'OP - MAI'!H$36)+('Fórmulas Produção'!I47*'OP - MAI'!I$36)+('Fórmulas Produção'!N47*'OP - MAI'!J$36) -> 0
B12: 8 | C12: ='Matérias-Primas'!C10 -> (Digite sua matéria-prima) | D12: 0 | F12: 8 | G12: ='Matérias-Primas'!C10 -> (Digite sua matéria-prima) | H12: =('Fórmulas Produção'!D12*'OP - MAI'!B$36)+('Fórmulas Produção'!I12*'OP - MAI'!C$36)+('Fórmulas Produção'!N12*'OP - MAI'!D$36)+('Fórmulas Produção'!D30*'OP - MAI'!E$36)+('Fórmulas Produção'!I30*'OP - MAI'!F$36)+('Fórmulas Produção'!N30*'OP - MAI'!G$36)+('Fórmulas Produção'!D48*'OP - MAI'!H$36)+('Fórmulas Produção'!I48*'OP - MAI'!I$36)+('Fórmulas Produção'!N48*'OP - MAI'!J$36) -> 0
B13: 9 | C13: ='Matérias-Primas'!C11 -> (Digite sua matéria-prima) | D13: 0 | F13: 9 | G13: ='Matérias-Primas'!C11 -> (Digite sua matéria-prima) | H13: =('Fórmulas Produção'!D13*'OP - MAI'!B$36)+('Fórmulas Produção'!I13*'OP - MAI'!C$36)+('Fórmulas Produção'!N13*'OP - MAI'!D$36)+('Fórmulas Produção'!D31*'OP - MAI'!E$36)+('Fórmulas Produção'!I31*'OP - MAI'!F$36)+('Fórmulas Produção'!N31*'OP - MAI'!G$36)+('Fórmulas Produção'!D49*'OP - MAI'!H$36)+('Fórmulas Produção'!I49*'OP - MAI'!I$36)+('Fórmulas Produção'!N49*'OP - MAI'!J$36) -> 0
B14: 10 | C14: ='Matérias-Primas'!C12 -> (Digite sua matéria-prima) | D14: 0 | F14: 10 | G14: ='Matérias-Primas'!C12 -> (Digite sua matéria-prima) | H14: =('Fórmulas Produção'!D14*'OP - MAI'!B$36)+('Fórmulas Produção'!I14*'OP - MAI'!C$36)+('Fórmulas Produção'!N14*'OP - MAI'!D$36)+('Fórmulas Produção'!D32*'OP - MAI'!E$36)+('Fórmulas Produção'!I32*'OP - MAI'!F$36)+('Fórmulas Produção'!N32*'OP - MAI'!G$36)+('Fórmulas Produção'!D50*'OP - MAI'!H$36)+('Fórmulas Produção'!I50*'OP - MAI'!I$36)+('Fórmulas Produção'!N50*'OP - MAI'!J$36) -> 0
B15: 11 | C15: ='Matérias-Primas'!C13 -> (Digite sua matéria-prima) | D15: 0 | F15: 11 | G15: ='Matérias-Primas'!C13 -> (Digite sua matéria-prima) | H15: =('Fórmulas Produção'!D15*'OP - MAI'!B$36)+('Fórmulas Produção'!I15*'OP - MAI'!C$36)+('Fórmulas Produção'!N15*'OP - MAI'!D$36)+('Fórmulas Produção'!D33*'OP - MAI'!E$36)+('Fórmulas Produção'!I33*'OP - MAI'!F$36)+('Fórmulas Produção'!N33*'OP - MAI'!G$36)+('Fórmulas Produção'!D51*'OP - MAI'!H$36)+('Fórmulas Produção'!I51*'OP - MAI'!I$36)+('Fórmulas Produção'!N51*'OP - MAI'!J$36) -> 0
B16: 12 | C16: ='Matérias-Primas'!C14 -> (Digite sua matéria-prima) | D16: 0 | F16: 12 | G16: ='Matérias-Primas'!C14 -> (Digite sua matéria-prima) | H16: =('Fórmulas Produção'!D16*'OP - MAI'!B$36)+('Fórmulas Produção'!I16*'OP - MAI'!C$36)+('Fórmulas Produção'!N16*'OP - MAI'!D$36)+('Fórmulas Produção'!D34*'OP - MAI'!E$36)+('Fórmulas Produção'!I34*'OP - MAI'!F$36)+('Fórmulas Produção'!N34*'OP - MAI'!G$36)+('Fórmulas Produção'!D52*'OP - MAI'!H$36)+('Fórmulas Produção'!I52*'OP - MAI'!I$36)+('Fórmulas Produção'!N52*'OP - MAI'!J$36) -> 0
B17: 13 | C17: ='Matérias-Primas'!C15 -> (Digite sua matéria-prima) | D17: 0 | F17: 13 | G17: ='Matérias-Primas'!C15 -> (Digite sua matéria-prima) | H17: =('Fórmulas Produção'!D17*'OP - MAI'!B$36)+('Fórmulas Produção'!I17*'OP - MAI'!C$36)+('Fórmulas Produção'!N17*'OP - MAI'!D$36)+('Fórmulas Produção'!D35*'OP - MAI'!E$36)+('Fórmulas Produção'!I35*'OP - MAI'!F$36)+('Fórmulas Produção'!N35*'OP - MAI'!G$36)+('Fórmulas Produção'!D53*'OP - MAI'!H$36)+('Fórmulas Produção'!I53*'OP - MAI'!I$36)+('Fórmulas Produção'!N53*'OP - MAI'!J$36) -> 0
... B19: 15 | C19: ='Matérias-Primas'!C17 -> (Digite sua matéria-prima) | D19: 0 | F19: 15 | G19: ='Matérias-Primas'!C17 -> (Digite sua matéria-prima) | H19: =('Fórmulas Produção'!D19*'OP - MAI'!B$36)+('Fórmulas Produção'!I19*'OP - MAI'!C$36)+('Fórmulas Produção'!N19*'OP - MAI'!D$36)+('Fórmulas Produção'!D37*'OP - MAI'!E$36)+('Fórmulas Produção'!I37*'OP - MAI'!F$36)+('Fórmulas Produção'!N37*'OP - MAI'!G$36)+('Fórmulas Produção'!D55*'OP - MAI'!H$36)+('Fórmulas Produção'!I55*'OP - MAI'!I$36)+('Fórmulas Produção'!N55*'OP - MAI'!J$36) -> 0

Sheet OP - MAI
A1: Menu | B1: ORDENS DE PRODUÇÃO - MAIO
A3: DATA | B3: Quantidade Produzida - em Unidades
B4: ='Fórmulas Produção'!B3 -> Pão Francês | C4: ='Fórmulas Produção'!G3 -> Produto 2 | D4: ='Fórmulas Produção'!L3 -> Produto 3 | E4: ='Fórmulas Produção'!B21 -> Produto 4 | F4: ='Fórmulas Produção'!G21 -> Produto 5 | G4: ='Fórmulas Produção'!L21 -> Produto 6 | H4: ='Fórmulas Produção'!B39 -> Produto 7 | I4: ='Fórmulas Produção'!G39 -> Produto 8 | J4: ='Fórmulas Produção'!L39 -> Produto 9
A5: 43586 | B5: 0 | C5: 0 | D5: 0 | E5: 0 | F5: 0 | G5: 0 | H5: 0 | I5: 0 | J5: 0
A6: 43587 | B6: 0 | C6: 0 | D6: 0 | E6: 0 | F6: 0 | G6: 0 | H6: 0 | I6: 0 | J6: 0
A7: 43588 | B7: 0 | C7: 0 | D7: 0 | E7: 0 | F7: 0 | G7: 0 | H7: 0 | I7: 0 | J7: 0
A8: 43589 | B8: 0 | C8: 0 | D8: 0 | E8: 0 | F8: 0 | G8: 0 | H8: 0 | I8: 0 | J8: 0
A9: 43590 | B9: 0 | C9: 0 | D9: 0 | E9: 0 | F9: 0 | G9: 0 | H9: 0 | I9: 0 | J9: 0
A10: 43591 | B10: 0 | C10: 0 | D10: 0 | E10: 0 | F10: 0 | G10: 0 | H10: 0 | I10: 0 | J10: 0
A11: 43592 | B11: 0 | C11: 0 | D11: 0 | E11: 0 | F11: 0 | G11: 0 | H11: 0 | I11: 0 | J11: 0
A12: 43593 | B12: 0 | C12: 0 | D12: 0 | E12: 0 | F12: 0 | G12: 0 | H12: 0 | I12: 0 | J12: 0
A13: 43594 | B13: 0 | C13: 0 | D13: 0 | E13: 0 | F13: 0 | G13: 0 | H13: 0 | I13: 0 | J13: 0
A14: 43595 | B14: 0 | C14: 0 | D14: 0 | E14: 0 | F14: 0 | G14: 0 | H14: 0 | I14: 0 | J14: 0
A15: 43596 | B15: 0 | C15: 0 | D15: 0 | E15: 0 | F15: 0 | G15: 0 | H15: 0 | I15: 0 | J15: 0
A16: 43597 | B16: 0 | C16: 0 | D16: 0 | E16: 0 | F16: 0 | G16: 0 | H16: 0 | I16: 0 | J16: 0
... A35: 43616 | B35: 0 | C35: 0 | D35: 0 | E35: 0 | F35: 0 | G35: 0 | H35: 0 | I35: 0 | J35: 0
A36: TOTAL | B36: =SUM(B5:B35) -> 0 | C36: =SUM(C5:C35) -> 0 | D36: =SUM(D5:D35) -> 0 | E36: =SUM(E5:E35) -> 0 | F36: =SUM(F5:F35) -> 0 | G36: =SUM(G5:G35) -> 0 | H36: =SUM(H5:H35) -> 0 | I36: =SUM(I5:I35) -> 0 | J36: =SUM(J5:J35) -> 0

Sheet JUN
A1: Menu | B1: COMPRAS DE MP / SAÍDAS DE ESTOQUE - JUNHO
E2: //
A3: DATA | D3: ENTRADAS (Compras) | H3: SAÍDAS
B4: Nº | C4: Matéria-Prima | D4: Quantidade | F4: Nº | G4: Matéria-Prima | H4: Quantidade
A5: 43617 | B5: 1 | C5: ='Matérias-Primas'!C3 -> Farinha | D5: 0 | F5: 1 | G5: ='Matérias-Primas'!C3 -> Farinha | H5: =('Fórmulas Produção'!D5*'OP - JUN'!B$35)+('Fórmulas Produção'!I5*'OP - JUN'!C$35)+('Fórmulas Produção'!N5*'OP - JUN'!D$35)+('Fórmulas Produção'!D23*'OP - JUN'!E$35)+('Fórmulas Produção'!I23*'OP - JUN'!F$35)+('Fórmulas Produção'!N23*'OP - JUN'!G$35)+('Fórmulas Produção'!D41*'OP - JUN'!H$35)+('Fórmulas Produção'!I41*'OP - JUN'!I$35)+('Fórmulas Produção'!N41*'OP - JUN'!J$35) -> 0
B6: 2 | C6: ='Matérias-Primas'!C4 -> Fermento em pó | D6: 0 | F6: 2 | G6: ='Matérias-Primas'!C4 -> Fermento em pó | H6: =('Fórmulas Produção'!D6*'OP - JUN'!B$35)+('Fórmulas Produção'!I6*'OP - JUN'!C$35)+('Fórmulas Produção'!N6*'OP - JUN'!D$35)+('Fórmulas Produção'!D24*'OP - JUN'!E$35)+('Fórmulas Produção'!I24*'OP - JUN'!F$35)+('Fórmulas Produção'!N24*'OP - JUN'!G$35)+('Fórmulas Produção'!D42*'OP - JUN'!H$35)+('Fórmulas Produção'!I42*'OP - JUN'!I$35)+('Fórmulas Produção'!N42*'OP - JUN'!J$35) -> 0
