Workbook

Sheet MENU
A1: Planilha de Controle de Produção v 1.0
A8: Cadastro das Matérias-Primas utilizadas
A10: Fórmulas de Produção
A12: Compras de Matéria-Prima
A13: Jan | B13: Fev | C13: Mar | D13: Abr
A14: Mai | B14: Jun | C14: Jul | D14: Ago
A15: Set | B15: Out | C15: Nov | D15: Dez
A17: Ordens de Produção
A18: Jan | B18: Fev | C18: Mar | D18: Abr
A19: Mai | B19: Jun | C19: Jul | D19: Ago
A20: Set | B20: Out | C20: Nov | D20: Dez
A22: Estoque de Matéria-Prima Unificado
A24: Estoque de Produtos Fabricados Unificado

Sheet Matérias-Primas
A1: Menu | B1: MATÉRIAS-PRIMAS UTILIZADAS
B2: Nº | C2: Cadastro Matéria-Prima | D2: Un. de Medida
B3: 1 | C3: Farinha | D3: kg
B4: 2 | C4: Fermento em pó | D4: g
B5: 3 | C5: (Digite sua matéria-prima)
B6: 4 | C6: (Digite sua matéria-prima)
B7: 5 | C7: (Digite sua matéria-prima)
B8: 6 | C8: (Digite sua matéria-prima)
B9: 7 | C9: (Digite sua matéria-prima)
B10: 8 | C10: (Digite sua matéria-prima)
B11: 9 | C11: (Digite sua matéria-prima)
B12: 10 | C12: (Digite sua matéria-prima)
B13: 11 | C13: (Digite sua matéria-prima)
B14: 12 | C14: (Digite sua matéria-prima)
B15: 13 | C15: (Digite sua matéria-prima)
B16: 14 | C16: (Digite sua matéria-prima)
B17: 15 | C17: (Digite sua matéria-prima)

Sheet Fórmulas Produção
B1: Menu | C1: PRODUTOS FABRICADOS PARA COMERCIALIZAÇÃO
E2: // | J2: //
B3: Pão Francês | C3: Composição (1 Unidade) | G3: Produto 2 | H3: Composição (1 Unidade) | L3: Produto 3 | M3: Composição (1 Unidade)
A4: Nº | B4: Matérias-primas cadastradas | C4: É utilizado? | D4: Quanto? | F4: Nº | G4: Matérias-primas cadastradas | H4: É utilizado? | I4: Quanto? | K4: Nº | L4: Matérias-primas cadastradas | M4: É utilizado? | N4: Quanto?
A5: 1 | B5: ='Matérias-Primas'!$C$3 -> Farinha | C5: Sim | D5: 0.12 | F5: 1 | G5: ='Matérias-Primas'!$C$3 -> Farinha | I5: 0 | K5: 1 | L5: ='Matérias-Primas'!$C$3 -> Farinha | N5: 0
A6: 2 | B6: ='Matérias-Primas'!$C$4 -> Fermento em pó | C6: Sim | D6: 15 | F6: 2 | G6: ='Matérias-Primas'!$C$4 -> Fermento em pó | I6: 0 | K6: 2 | L6: ='Matérias-Primas'!$C$4 -> Fermento em pó | N6: 0
A7: 3 | B7: ='Matérias-Primas'!$C$5 -> (Digite sua matéria-prima) | D7: 0 | F7: 3 | G7: ='Matérias-Primas'!$C$5 -> (Digite sua matéria-prima) | I7: 0 | K7: 3 | L7: ='Matérias-Primas'!$C$5 -> (Digite sua matéria-prima) | N7: 0
A8: 4 | B8: ='Matérias-Primas'!$C$6 -> (Digite sua matéria-prima) | D8: 0 | F8: 4 | G8: ='Matérias-Primas'!$C$6 -> (Digite sua matéria-prima) | I8: 0 | K8: 4 | L8: ='Matérias-Primas'!$C$6 -> (Digite sua matéria-prima) | N8: 0
A9: 5 | B9: ='Matérias-Primas'!$C$7 -> (Digite sua matéria-prima) | D9: 0 | F9: 5 | G9: ='Matérias-Primas'!$C$7 -> (Digite sua matéria-prima) | I9: 0 | K9: 5 | L9: ='Matérias-Primas'!$C$7 -> (Digite sua matéria-prima) | N9: 0
A10: 6 | B10: ='Matérias-Primas'!$C$8 -> (Digite sua matéria-prima) | D10: 0 | F10: 6 | G10: ='Matérias-Primas'!$C$8 -> (Digite sua matéria-prima) | I10: 0 | K10: 6 | L10: ='Matérias-Primas'!$C$8 -> (Digite sua matéria-prima) | N10: 0
A11: 7 | B11: ='Matérias-Primas'!$C$9 -> (Digite sua matéria-prima) | D11: 0 | F11: 7 | G11: ='Matérias-Primas'!$C$9 -> (Digite sua matéria-prima) | I11: 0 | K11: 7 | L11: ='Matérias-Primas'!$C$9 -> (Digite sua matéria-prima) | N11: 0
A12: 8 | B12: ='Matérias-Primas'!$C$10 -> (Digite sua matéria-prima) | D12: 0 | F12: 8 | G12: ='Matérias-Primas'!$C$10 -> (Digite sua matéria-prima) | I12: 0 | K12: 8 | L12: ='Matérias-Primas'!$C$10 -> (Digite sua matéria-prima) | N12: 0
A13: 9 | B13: ='Matérias-Primas'!$C$11 -> (Digite sua matéria-prima) | D13: 0 | F13: 9 | G13: ='Matérias-Primas'!$C$11 -> (Digite sua matéria-prima) | I13: 0 | K13: 9 | L13: ='Matérias-Primas'!$C$11 -> (Digite sua matéria-prima) | N13: 0
A14: 10 | B14: ='Matérias-Primas'!$C$12 -> (Digite sua matéria-prima) | D14: 0 | F14: 10 | G14: ='Matérias-Primas'!$C$12 -> (Digite sua matéria-prima) | I14: 0 | K14: 10 | L14: ='Matérias-Primas'!$C$12 -> (Digite sua matéria-prima) | N14: 0
A15: 11 | B15: ='Matérias-Primas'!$C$13 -> (Digite sua matéria-prima) | D15: 0 | F15: 11 | G15: ='Matérias-Primas'!$C$13 -> (Digite sua matéria-prima) | I15: 0 | K15: 11 | L15: ='Matérias-Primas'!$C$13 -> (Digite sua matéria-prima) | N15: 0
A16: 12 | B16: ='Matérias-Primas'!$C$14 -> (Digite sua matéria-prima) | D16: 0 | F16: 12 | G16: ='Matérias-Primas'!$C$14 -> (Digite sua matéria-prima) | I16: 0 | K16: 12 | L16: ='Matérias-Primas'!$C$14 -> (Digite sua matéria-prima) | N16: 0
A17: 13 | B17: ='Matérias-Primas'!$C$15 -> (Digite sua matéria-prima) | D17: 0 | F17: 13 | G17: ='Matérias-Primas'!$C$15 -> (Digite sua matéria-prima) | I17: 0 | K17: 13 | L17: ='Matérias-Primas'!$C$15 -> (Digite sua matéria-prima) | N17: 0
A18: 14 | B18: ='Matérias-Primas'!$C$16 -> (Digite sua matéria-prima) | D18: 0 | F18: 14 | G18: ='Matérias-Primas'!$C$16 -> (Digite sua matéria-prima) | I18: 0 | K18: 14 | L18: ='Matérias-Primas'!$C$16 -> (Digite sua matéria-prima) | N18: 0
A19: 15 | B19: ='Matérias-Primas'!$C$17 -> (Digite sua matéria-prima) | D19: 0 | F19: 15 | G19: ='Matérias-Primas'!$C$17 -> (Digite sua matéria-prima) | I19: 0 | K19: 15 | L19: ='Matérias-Primas'!$C$17 -> (Digite sua matéria-prima) | N19: 0
B21: Produto 4 | C21: Composição (1 Unidade) | G21: Produto 5 | H21: Composição (1 Unidade) | L21: Produto 6 | M21: Composição (1 Unidade)
A22: Nº | B22: Matérias-primas cadastradas | C22: É utilizado? | D22: Quanto? | F22: Nº | G22: Matérias-primas cadastradas | H22: É utilizado? | I22: Quanto? | K22: Nº | L22: Matérias-primas cadastradas | M22: É utilizado? | N22: Quanto?
A23: 1 | B23: ='Matérias-Primas'!$C$3 -> Farinha | D23: 0 | F23: 1 | G23: ='Matérias-Primas'!$C$3 -> Farinha | I23: 0 | K23: 1 | L23: ='Matérias-Primas'!$C$3 -> Farinha | N23: 0
A24: 2 | B24: ='Matérias-Primas'!$C$4 -> Fermento em pó | D24: 0 | F24: 2 | G24: ='Matérias-Primas'!$C$4 -> Fermento em pó | I24: 0 | K24: 2 | L24: ='Matérias-Primas'!$C$4 -> Fermento em pó | N24: 0
A25: 3 | B25: ='Matérias-Primas'!$C$5 -> (Digite sua matéria-prima) | D25: 0 | F25: 3 | G25: ='Matérias-Primas'!$C$5 -> (Digite sua matéria-prima) | I25: 0 | K25: 3 | L25: ='Matérias-Primas'!$C$5 -> (Digite sua matéria-prima) | N25: 0
A26: 4 | B26: ='Matérias-Primas'!$C$6 -> (Digite sua matéria-prima) | D26: 0 | F26: 4 | G26: ='Matérias-Primas'!$C$6 -> (Digite sua matéria-prima) | I26: 0 | K26: 4 | L26: ='Matérias-Primas'!$C$6 -> (Digite sua matéria-prima) | N26: 0
A27: 5 | B27: ='Matérias-Primas'!$C$7 -> (Digite sua matéria-prima) | D27: 0 | F27: 5 | G27: ='Matérias-Primas'!$C$7 -> (Digite sua matéria-prima) | I27: 0 | K27: 5 | L27: ='Matérias-Primas'!$C$7 -> (Digite sua matéria-prima) | N27: 0
A28: 6 | B28: ='Matérias-Primas'!$C$8 -> (Digite sua matéria-prima) | D28: 0 | F28: 6 | G28: ='Matérias-Primas'!$C$8 -> (Digite sua matéria-prima) | I28: 0 | K28: 6 | L28: ='Matérias-Primas'!$C$8 -> (Digite sua matéria-prima) | N28: 0
A29: 7 | B29: ='Matérias-Primas'!$C$9 -> (Digite sua matéria-prima) | D29: 0 | F29: 7 | G29: ='Matérias-Primas'!$C$9 -> (Digite sua matéria-prima) | I29: 0 | K29: 7 | L29: ='Matérias-Primas'!$C$9 -> (Digite sua matéria-prima) | N29: 0
A30: 8 | B30: ='Matérias-Primas'!$C$10 -> (Digite sua matéria-prima) | D30: 0 | F30: 8 | G30: ='Matérias-Primas'!$C$10 -> (Digite sua matéria-prima) | I30: 0 | K30: 8 | L30: ='Matérias-Primas'!$C$10 -> (Digite sua matéria-prima) | N30: 0
A31: 9 | B31: ='Matérias-Primas'!$C$11 -> (Digite sua matéria-prima) | D31: 0 | F31: 9 | G31: ='Matérias-Primas'!$C$11 -> (Digite sua matéria-prima) | I31: 0 | K31: 9 | L31: ='Matérias-Primas'!$C$11 -> (Digite sua matéria-prima) | N31: 0
A32: 10 | B32: ='Matérias-Primas'!$C$12 -> (Digite sua matéria-prima) | D32: 0 | F32: 10 | G32: ='Matérias-Primas'!$C$12 -> (Digite sua matéria-prima) | I32: 0 | K32: 10 | L32: ='Matérias-Primas'!$C$12 -> (Digite sua matéria-prima) | N32: 0
A33: 11 | B33: ='Matérias-Primas'!$C$13 -> (Digite sua matéria-prima) | D33: 0 | F33: 11 | G33: ='Matérias-Primas'!$C$13 -> (Digite sua matéria-prima) | I33: 0 | K33: 11 | L33: ='Matérias-Primas'!$C$13 -> (Digite sua matéria-prima) | N33: 0
A34: 12 | B34: ='Matérias-Primas'!$C$14 -> (Digite sua matéria-prima) | D34: 0 | F34: 12 | G34: ='Matérias-Primas'!$C$14 -> (Digite sua matéria-prima) | I34: 0 | K34: 12 | L34: ='Matérias-Primas'!$C$14 -> (Digite sua matéria-prima) | N34: 0
A35: 13 | B35: ='Matérias-Primas'!$C$15 -> (Digite sua matéria-prima) | D35: 0 | F35: 13 | G35: ='Matérias-Primas'!$C$15 -> (Digite sua matéria-prima) | I35: 0 | K35: 13 | L35: ='Matérias-Primas'!$C$15 -> (Digite sua matéria-prima) | N35: 0
A36: 14 | B36: ='Matérias-Primas'!$C$16 -> (Digite sua matéria-prima) | D36: 0 | F36: 14 | G36: ='Matérias-Primas'!$C$16 -> (Digite sua matéria-prima) | I36: 0 | K36: 14 | L36: ='Matérias-Primas'!$C$16 -> (Digite sua matéria-prima) | N36: 0
A37: 15 | B37: ='Matérias-Primas'!$C$17 -> (Digite sua matéria-prima) | D37: 0 | F37: 15 | G37: ='Matérias-Primas'!$C$17 -> (Digite sua matéria-prima) | I37: 0 | K37: 15 | L37: ='Matérias-Primas'!$C$17 -> (Digite sua matéria-prima) | N37: 0
B39: Produto 7 | C39: Composição (1 Unidade) | G39: Produto 8 | H39: Composição (1 Unidade) | L39: Produto 9 | M39: Composição (1 Unidade)
A40: Nº | B40: Matérias-primas cadastradas | C40: É utilizado? | D40: Quanto? | F40: Nº | G40: Matérias-primas cadastradas | H40: É utilizado? | I40: Quanto? | K40: Nº | L40: Matérias-primas cadastradas | M40: É utilizado? | N40: Quanto?
A41: 1 | B41: ='Matérias-Primas'!$C$3 -> Farinha | D41: 0 | F41: 1 | G41: ='Matérias-Primas'!$C$3 -> Farinha | I41: 0 | K41: 1 | L41: ='Matérias-Primas'!$C$3 -> Farinha | N41: 0
A42: 2 | B42: ='Matérias-Primas'!$C$4 -> Fermento em pó | D42: 0 | F42: 2 | G42: ='Matérias-Primas'!$C$4 -> Fermento em pó | I42: 0 | K42: 2 | L42: ='Matérias-Primas'!$C$4 -> Fermento em pó | N42: 0
A43: 3 | B43: ='Matérias-Primas'!$C$5 -> (Digite sua matéria-prima) | D43: 0 | F43: 3 | G43: ='Matérias-Primas'!$C$5 -> (Digite sua matéria-prima) | I43: 0 | K43: 3 | L43: ='Matérias-Primas'!$C$5 -> (Digite sua matéria-prima) | N43: 0
A44: 4 | B44: ='Matérias-Primas'!$C$6 -> (Digite sua matéria-prima) | D44: 0 | F44: 4 | G44: ='Matérias-Primas'!$C$6 -> (Digite sua matéria-prima) | I44: 0 | K44: 4 | L44: ='Matérias-Primas'!$C$6 -> (Digite sua matéria-prima) | N44: 0
A45: 5 | B45: ='Matérias-Primas'!$C$7 -> (Digite sua matéria-prima) | D45: 0 | F45: 5 | G45: ='Matérias-Primas'!$C$7 -> (Digite sua matéria-prima) | I45: 0 | K45: 5 | L45: ='Matérias-Primas'!$C$7 -> (Digite sua matéria-prima) | N45: 0
A46: 6 | B46: ='Matérias-Primas'!$C$8 -> (Digite sua matéria-prima) | D46: 0 | F46: 6 | G46: ='Matérias-Primas'!$C$8 -> (Digite sua matéria-prima) | I46: 0 | K46: 6 | L46: ='Matérias-Primas'!$C$8 -> (Digite sua matéria-prima) | N46: 0
A47: 7 | B47: ='Matérias-Primas'!$C$9 -> (Digite sua matéria-prima) | D47: 0 | F47: 7 | G47: ='Matérias-Primas'!$C$9 -> (Digite sua matéria-prima) | I47: 0 | K47: 7 | L47: ='Matérias-Primas'!$C$9 -> (Digite sua matéria-prima) | N47: 0
A48: 8 | B48: ='Matérias-Primas'!$C$10 -> (Digite sua matéria-prima) | D48: 0 | F48: 8 | G48: ='Matérias-Primas'!$C$10 -> (Digite sua matéria-prima) | I48: 0 | K48: 8 | L48: ='Matérias-Primas'!$C$10 -> (Digite sua matéria-prima) | N48: 0
A49: 9 | B49: ='Matérias-Primas'!$C$11 -> (Digite sua matéria-prima) | D49: 0 | F49: 9 | G49: ='Matérias-Primas'!$C$11 -> (Digite sua matéria-prima) | I49: 0 | K49: 9 | L49: ='Matérias-Primas'!$C$11 -> (Digite sua matéria-prima) | N49: 0
A50: 10 | B50: ='Matérias-Primas'!$C$12 -> (Digite sua matéria-prima) | D50: 0 | F50: 10 | G50: ='Matérias-Primas'!$C$12 -> (Digite sua matéria-prima) | I50: 0 | K50: 10 | L50: ='Matérias-Primas'!$C$12 -> (Digite sua matéria-prima) | N50: 0
A51: 11 | B51: ='Matérias-Primas'!$C$13 -> (Digite sua matéria-prima) | D51: 0 | F51: 11 | G51: ='Matérias-Primas'!$C$13 -> (Digite sua matéria-prima) | I51: 0 | K51: 11 | L51: ='Matérias-Primas'!$C$13 -> (Digite sua matéria-prima) | N51: 0
A52: 12 | B52: ='Matérias-Primas'!$C$14 -> (Digite sua matéria-prima) | D52: 0 | F52: 12 | G52: ='Matérias-Primas'!$C$14 -> (Digite sua matéria-prima) | I52: 0 | K52: 12 | L52: ='Matérias-Primas'!$C$14 -> (Digite sua matéria-prima) | N52: 0
A53: 13 | B53: ='Matérias-Primas'!$C$15 -> (Digite sua matéria-prima) | D53: 0 | F53: 13 | G53: ='Matérias-Primas'!$C$15 -> (Digite sua matéria-prima) | I53: 0 | K53: 13 | L53: ='Matérias-Primas'!$C$15 -> (Digite sua matéria-prima) | N53: 0
A54: 14 | B54: ='Matérias-Primas'!$C$16 -> (Digite sua matéria-prima) | D54: 0 | F54: 14 | G54: ='Matérias-Primas'!$C$16 -> (Digite sua matéria-prima) | I54: 0 | K54: 14 | L54: ='Matérias-Primas'!$C$16 -> (Digite sua matéria-prima) | N54: 0
A55: 15 | B55: ='Matérias-Primas'!$C$17 -> (Digite sua matéria-prima) | D55: 0 | F55: 15 | G55: ='Matérias-Primas'!$C$17 -> (Digite sua matéria-prima) | I55: 0 | K55: 15 | L55: ='Matérias-Primas'!$C$17 -> (Digite sua matéria-prima) | N55: 0

Sheet JAN
A1: Menu | B1: COMPRAS DE MP / SAÍDAS DE ESTOQUE - JANEIRO
E2: //
A3: DATA | D3: ENTRADAS (Compras) | H3: SAÍDAS
B4: Nº | C4: Matéria-Prima | D4: Quantidade | F4: Nº | G4: Matéria-Prima | H4: Quantidade
A5: 43466 | B5: 1 | C5: ='Matérias-Primas'!C3 -> Farinha | D5: 10 | F5: 1 | G5: ='Matérias-Primas'!C3 -> Farinha | H5: =('Fórmulas Produção'!D5*'OP - JAN'!B$36)+('Fórmulas Produção'!I5*'OP - JAN'!C$36)+('Fórmulas Produção'!N5*'OP - JAN'!D$36)+('Fórmulas Produção'!D23*'OP - JAN'!E$36)+('Fórmulas Produção'!I23*'OP - JAN'!F$36)+('Fórmulas Produção'!N23*'OP - JAN'!G$36)+('Fórmulas Produção'!D41*'OP - JAN'!H$36)+('Fórmulas Produção'!I41*'OP - JAN'!I$36)+('Fórmulas Produção'!N41*'OP - JAN'!J$36) -> 0.48
A6: 43472 | B6: 2 | C6: ='Matérias-Primas'!C4 -> Fermento em pó | D6: 800 | F6: 2 | G6: ='Matérias-Primas'!C4 -> Fermento em pó | H6: =('Fórmulas Produção'!D6*'OP - JAN'!B$36)+('Fórmulas Produção'!I6*'OP - JAN'!C$36)+('Fórmulas Produção'!N6*'OP - JAN'!D$36)+('Fórmulas Produção'!D24*'OP - JAN'!E$36)+('Fórmulas Produção'!I24*'OP - JAN'!F$36)+('Fórmulas Produção'!N24*'OP - JAN'!G$36)+('Fórmulas Produção'!D42*'OP - JAN'!H$36)+('Fórmulas Produção'!I42*'OP - JAN'!I$36)+('Fórmulas Produção'!N42*'OP - JAN'!J$36) -> 60
B7: 3 | C7: ='Matérias-Primas'!C5 -> (Digite sua matéria-prima) | D7: 0 | F7: 3 | G7: ='Matérias-Primas'!C5 -> (Digite sua matéria-prima) | H7: =('Fórmulas Produção'!D7*'OP - JAN'!B$36)+('Fórmulas Produção'!I7*'OP - JAN'!C$36)+('Fórmulas Produção'!N7*'OP - JAN'!D$36)+('Fórmulas Produção'!D25*'OP - JAN'!E$36)+('Fórmulas Produção'!I25*'OP - JAN'!F$36)+('Fórmulas Produção'!N25*'OP - JAN'!G$36)+('Fórmulas Produção'!D43*'OP - JAN'!H$36)+('Fórmulas Produção'!I43*'OP - JAN'!I$36)+('Fórmulas Produção'!N43*'OP - JAN'!J$36) -> 0
B8: 4 | C8: ='Matérias-Primas'!C6 -> (Digite sua matéria-prima) | D8: 0 | F8: 4 | G8: ='Matérias-Primas'!C6 -> (Digite sua matéria-prima) | H8: =('Fórmulas Produção'!D8*'OP - JAN'!B$36)+('Fórmulas Produção'!I8*'OP - JAN'!C$36)+('Fórmulas Produção'!N8*'OP - JAN'!D$36)+('Fórmulas Produção'!D26*'OP - JAN'!E$36)+('Fórmulas Produção'!I26*'OP - JAN'!F$36)+('Fórmulas Produção'!N26*'OP - JAN'!G$36)+('Fórmulas Produção'!D44*'OP - JAN'!H$36)+('Fórmulas Produção'!I44*'OP - JAN'!I$36)+('Fórmulas Produção'!N44*'OP - JAN'!J$36) -> 0
B9: 5 | C9: ='Matérias-Primas'!C7 -> (Digite sua matéria-prima) | D9: 0 | F9: 5 | G9: ='Matérias-Primas'!C7 -> (Digite sua matéria-prima) | H9: =('Fórmulas Produção'!D9*'OP - JAN'!B$36)+('Fórmulas Produção'!I9*'OP - JAN'!C$36)+('Fórmulas Produção'!N9*'OP - JAN'!D$36)+('Fórmulas Produção'!D27*'OP - JAN'!E$36)+('Fórmulas Produção'!I27*'OP - JAN'!F$36)+('Fórmulas Produção'!N27*'OP - JAN'!G$36)+('Fórmulas Produção'!D45*'OP - JAN'!H$36)+('Fórmulas Produção'!I45*'OP - JAN'!I$36)+('Fórmulas Produção'!N45*'OP - JAN'!J$36) -> 0
B10: 6 | C10: ='Matérias-Primas'!C8 -> (Digite sua matéria-prima) | D10: 0 | F10: 6 | G10: ='Matérias-Primas'!C8 -> (Digite sua matéria-prima) | H10: =('Fórmulas Produção'!D10*'OP - JAN'!B$36)+('Fórmulas Produção'!I10*'OP - JAN'!C$36)+('Fórmulas Produção'!N10*'OP - JAN'!D$36)+('Fórmulas Produção'!D28*'OP - JAN'!E$36)+('Fórmulas Produção'!I28*'OP - JAN'!F$36)+('Fórmulas Produção'!N28*'OP - JAN'!G$36)+('Fórmulas Produção'!D46*'OP - JAN'!H$36)+('Fórmulas Produção'!I46*'OP - JAN'!I$36)+('Fórmulas Produção'!N46*'OP - JAN'!J$36) -> 0
B11: 7 | C11: ='Matérias-Primas'!C9 -> (Digite sua matéria-prima) | D11: 0 | F11: 7 | G11: ='Matérias-Primas'!C9 -> (Digite sua matéria-prima) | H11: =('Fórmulas Produção'!D11*'OP - JAN'!B$36)+('Fórmulas Produção'!I11*'OP - JAN'!C$36)+('Fórmulas Produção'!N11*'OP - JAN'!D$36)+('Fórmulas Produção'!D29*'OP - JAN'!E$36)+('Fórmulas Produção'!I29*'OP - JAN'!F$36)+('Fórmulas Produção'!N29*'OP - JAN'!G$36)+('Fórmulas Produção'!D47*'OP - JAN'!H$36)+('Fórmulas Produção'!I47*'OP - JAN'!I$36)+('Fórmulas Produção'!N47*'OP - JAN'!J$36) -> 0
B12: 8 | C12: ='Matérias-Primas'!C10 -> (Digite sua matéria-prima) | D12: 0 | F12: 8 | G12: ='Matérias-Primas'!C10 -> (Digite sua matéria-prima) | H12: =('Fórmulas Produção'!D12*'OP - JAN'!B$36)+('Fórmulas Produção'!I12*'OP - JAN'!C$36)+('Fórmulas Produção'!N12*'OP - JAN'!D$36)+('Fórmulas Produção'!D30*'OP - JAN'!E$36)+('Fórmulas Produção'!I30*'OP - JAN'!F$36)+('Fórmulas Produção'!N30*'OP - JAN'!G$36)+('Fórmulas Produção'!D48*'OP - JAN'!H$36)+('Fórmulas Produção'!I48*'OP - JAN'!I$36)+('Fórmulas Produção'!N48*'OP - JAN'!J$36) -> 0
B13: 9 | C13: ='Matérias-Primas'!C11 -> (Digite sua matéria-prima) | D13: 0 | F13: 9 | G13: ='Matérias-Primas'!C11 -> (Digite sua matéria-prima) | H13: =('Fórmulas Produção'!D13*'OP - JAN'!B$36)+('Fórmulas Produção'!I13*'OP - JAN'!C$36)+('Fórmulas Produção'!N13*'OP - JAN'!D$36)+('Fórmulas Produção'!D31*'OP - JAN'!E$36)+('Fórmulas Produção'!I31*'OP - JAN'!F$36)+('Fórmulas Produção'!N31*'OP - JAN'!G$36)+('Fórmulas Produção'!D49*'OP - JAN'!H$36)+('Fórmulas Produção'!I49*'OP - JAN'!I$36)+('Fórmulas Produção'!N49*'OP - JAN'!J$36) -> 0
B14: 10 | C14: ='Matérias-Primas'!C12 -> (Digite sua matéria-prima) | D14: 0 | F14: 10 | G14: ='Matérias-Primas'!C12 -> (Digite sua matéria-prima) | H14: =('Fórmulas Produção'!D14*'OP - JAN'!B$36)+('Fórmulas Produção'!I14*'OP - JAN'!C$36)+('Fórmulas Produção'!N14*'OP - JAN'!D$36)+('Fórmulas Produção'!D32*'OP - JAN'!E$36)+('Fórmulas Produção'!I32*'OP - JAN'!F$36)+('Fórmulas Produção'!N32*'OP - JAN'!G$36)+('Fórmulas Produção'!D50*'OP - JAN'!H$36)+('Fórmulas Produção'!I50*'OP - JAN'!I$36)+('Fórmulas Produção'!N50*'OP - JAN'!J$36) -> 0
B15: 11 | C15: ='Matérias-Primas'!C13 -> (Digite sua matéria-prima) | D15: 0 | F15: 11 | G15: ='Matérias-Primas'!C13 -> (Digite sua matéria-prima) | H15: =('Fórmulas Produção'!D15*'OP - JAN'!B$36)+('Fórmulas Produção'!I15*'OP - JAN'!C$36)+('Fórmulas Produção'!N15*'OP - JAN'!D$36)+('Fórmulas Produção'!D33*'OP - JAN'!E$36)+('Fórmulas Produção'!I33*'OP - JAN'!F$36)+('Fórmulas Produção'!N33*'OP - JAN'!G$36)+('Fórmulas Produção'!D51*'OP - JAN'!H$36)+('Fórmulas Produção'!I51*'OP - JAN'!I$36)+('Fórmulas Produção'!N51*'OP - JAN'!J$36) -> 0
B16: 12 | C16: ='Matérias-Primas'!C14 -> (Digite sua matéria-prima) | D16: 0 | F16: 12 | G16: ='Matérias-Primas'!C14 -> (Digite sua matéria-prima) | H16: =('Fórmulas Produção'!D16*'OP - JAN'!B$36)+('Fórmulas Produção'!I16*'OP - JAN'!C$36)+('Fórmulas Produção'!N16*'OP - JAN'!D$36)+('Fórmulas Produção'!D34*'OP - JAN'!E$36)+('Fórmulas Produção'!I34*'OP - JAN'!F$36)+('Fórmulas Produção'!N34*'OP - JAN'!G$36)+('Fórmulas Produção'!D52*'OP - JAN'!H$36)+('Fórmulas Produção'!I52*'OP - JAN'!I$36)+('Fórmulas Produção'!N52*'OP - JAN'!J$36) -> 0
B17: 13 | C17: ='Matérias-Primas'!C15 -> (Digite sua matéria-prima) | D17: 0 | F17: 13 | G17: ='Matérias-Primas'!C15 -> (Digite sua matéria-prima) | H17: =('Fórmulas Produção'!D17*'OP - JAN'!B$36)+('Fórmulas Produção'!I17*'OP - JAN'!C$36)+('Fórmulas Produção'!N17*'OP - JAN'!D$36)+('Fórmulas Produção'!D35*'OP - JAN'!E$36)+('Fórmulas Produção'!I35*'OP - JAN'!F$36)+('Fórmulas Produção'!N35*'OP - JAN'!G$36)+('Fórmulas Produção'!D53*'OP - JAN'!H$36)+('Fórmulas Produção'!I53*'OP - JAN'!I$36)+('Fórmulas Produção'!N53*'OP - JAN'!J$36) -> 0
B18: 14 | C18: ='Matérias-Primas'!C16 -> (Digite sua matéria-prima) | D18: 0 | F18: 14 | G18: ='Matérias-Primas'!C16 -> (Digite sua matéria-prima) | H18: =('Fórmulas Produção'!D18*'OP - JAN'!B$36)+('Fórmulas Produção'!I18*'OP - JAN'!C$36)+('Fórmulas Produção'!N18*'OP - JAN'!D$36)+('Fórmulas Produção'!D36*'OP - JAN'!E$36)+('Fórmulas Produção'!I36*'OP - JAN'!F$36)+('Fórmulas Produção'!N36*'OP - JAN'!G$36)+('Fórmulas Produção'!D54*'OP - JAN'!H$36)+('Fórmulas Produção'!I54*'OP - JAN'!I$36)+('Fórmulas Produção'!N54*'OP - JAN'!J$36) -> 0
B19: 15 | C19: ='Matérias-Primas'!C17 -> (Digite sua matéria-prima) | D19: 0 | F19: 15 | G19: ='Matérias-Primas'!C17 -> (Digite sua matéria-prima) | H19: =('Fórmulas Produção'!D19*'OP - JAN'!B$36)+('Fórmulas Produção'!I19*'OP - JAN'!C$36)+('Fórmulas Produção'!N19*'OP - JAN'!D$36)+('Fórmulas Produção'!D37*'OP - JAN'!E$36)+('Fórmulas Produção'!I37*'OP - JAN'!F$36)+('Fórmulas Produção'!N37*'OP - JAN'!G$36)+('Fórmulas Produção'!D55*'OP - JAN'!H$36)+('Fórmulas Produção'!I55*'OP - JAN'!I$36)+('Fórmulas Produção'!N55*'OP - JAN'!J$36) -> 0

Sheet OP - JAN
A1: Menu | B1: ORDENS DE PRODUÇÃO - JANEIRO
A3: DATA | B3: Quantidade Produzida - em Unidades
B4: ='Fórmulas Produção'!B3 -> Pão Francês | C4: ='Fórmulas Produção'!G3 -> Produto 2 | D4: ='Fórmulas Produção'!L3 -> Produto 3 | E4: ='Fórmulas Produção'!B21 -> Produto 4 | F4: ='Fórmulas Produção'!G21 -> Produto 5 | G4: ='Fórmulas Produção'!L21 -> Produto 6 | H4: ='Fórmulas Produção'!B39 -> Produto 7 | I4: ='Fórmulas Produção'!G39 -> Produto 8 | J4: ='Fórmulas Produção'!L39 -> Produto 9
A5: 43466 | B5: 4 | C5: 0 | D5: 0 | E5: 0 | F5: 0 | G5: 0 | H5: 0 | I5: 0 | J5: 0
A6: 43467 | B6: 0 | C6: 0 | D6: 0 | E6: 0 | F6: 0 | G6: 0 | H6: 0 | I6: 0 | J6: 0
A7: 43468 | B7: 0 | C7: 0 | D7: 0 | E7: 0 | F7: 0 | G7: 0 | H7: 0 | I7: 0 | J7: 0
A8: 43469 | B8: 0 | C8: 0 | D8: 0 | E8: 0 | F8: 0 | G8: 0 | H8: 0 | I8: 0 | J8: 0
A9: 43470 | B9: 0 | C9: 0 | D9: 0 | E9: 0 | F9: 0 | G9: 0 | H9: 0 | I9: 0 | J9: 0
A10: 43471 | B10: 0 | C10: 0 | D10: 0 | E10: 0 | F10: 0 | G10: 0 | H10: 0 | I10: 0 | J10: 0
A11: 43472 | B11: 0 | C11: 0 | D11: 0 | E11: 0 | F11: 0 | G11: 0 | H11: 0 | I11: 0 | J11: 0
A12: 43473 | B12: 0 | C12: 0 | D12: 0 | E12: 0 | F12: 0 | G12: 0 | H12: 0 | I12: 0 | J12: 0
A13: 43474 | B13: 0 | C13: 0 | D13: 0 | E13: 0 | F13: 0 | G13: 0 | H13: 0 | I13: 0 | J13: 0
A14: 43475 | B14: 0 | C14: 0 | D14: 0 | E14: 0 | F14: 0 | G14: 0 | H14: 0 | I14: 0 | J14: 0
A15: 43476 | B15: 0 | C15: 0 | D15: 0 | E15: 0 | F15: 0 | G15: 0 | H15: 0 | I15: 0 | J15: 0
A16: 43477 | B16: 0 | C16: 0 | D16: 0 | E16: 0 | F16: 0 | G16: 0 | H16: 0 | I16: 0 | J16: 0
... A35: 43496 | B35: 0 | C35: 0 | D35: 0 | E35: 0 | F35: 0 | G35: 0 | H35: 0 | I35: 0 | J35: 0
A36: TOTAL | B36: =SUM(B5:B35) -> 4 | C36: =SUM(C5:C35) -> 0 | D36: =SUM(D5:D35) -> 0 | E36: =SUM(E5:E35) -> 0 | F36: =SUM(F5:F35) -> 0 | G36: =SUM(G5:G35) -> 0 | H36: =SUM(H5:H35) -> 0 | I36: =SUM(I5:I35) -> 0 | J36: =SUM(J5:J35) -> 0

Sheet FEV
A1: Menu | B1: COMPRAS DE MP / SAÍDAS DE ESTOQUE - FEVEREIRO
E2: //
A3: DATA | D3: ENTRADAS (Compras) | H3: SAÍDAS
B4: Nº | C4: Matéria-Prima | D4: Quantidade | F4: Nº | G4: Matéria-Prima | H4: Quantidade
A5: 43497 | B5: 1 | C5: ='Matérias-Primas'!C3 -> Farinha | D5: 0 | F5: 1 | G5: ='Matérias-Primas'!C3 -> Farinha | H5: =('Fórmulas Produção'!D5*'OP - FEV'!B$33)+('Fórmulas Produção'!I5*'OP - FEV'!C$33)+('Fórmulas Produção'!N5*'OP - FEV'!D$33)+('Fórmulas Produção'!D23*'OP - FEV'!E$33)+('Fórmulas Produção'!I23*'OP - FEV'!F33)+('Fórmulas Produção'!N23*'OP - FEV'!G$33)+('Fórmulas Produção'!D41*'OP - FEV'!H$33)+('Fórmulas Produção'!I41*'OP - FEV'!I$33)+('Fórmulas Produção'!N41*'OP - FEV'!J$33) -> 0.36
A6: 43500 | B6: 2 | C6: ='Matérias-Primas'!C4 -> Fermento em pó | D6: 0 | F6: 2 | G6: ='Matérias-Primas'!C4 -> Fermento em pó | H6: =('Fórmulas Produção'!D6*'OP - FEV'!B$33)+('Fórmulas Produção'!I6*'OP - FEV'!C$33)+('Fórmulas Produção'!N6*'OP - FEV'!D$33)+('Fórmulas Produção'!D24*'OP - FEV'!E$33)+('Fórmulas Produção'!I24*'OP - FEV'!F34)+('Fórmulas Produção'!N24*'OP - FEV'!G$33)+('Fórmulas Produção'!D42*'OP - FEV'!H$33)+('Fórmulas Produção'!I42*'OP - FEV'!I$33)+('Fórmulas Produção'!N42*'OP - FEV'!J$33) -> 45
B7: 3 | C7: ='Matérias-Primas'!C5 -> (Digite sua matéria-prima) | D7: 0 | F7: 3 | G7: ='Matérias-Primas'!C5 -> (Digite sua matéria-prima) | H7: =('Fórmulas Produção'!D7*'OP - FEV'!B$33)+('Fórmulas Produção'!I7*'OP - FEV'!C$33)+('Fórmulas Produção'!N7*'OP - FEV'!D$33)+('Fórmulas Produção'!D25*'OP - FEV'!E$33)+('Fórmulas Produção'!I25*'OP - FEV'!F35)+('Fórmulas Produção'!N25*'OP - FEV'!G$33)+('Fórmulas Produção'!D43*'OP - FEV'!H$33)+('Fórmulas Produção'!I43*'OP - FEV'!I$33)+('Fórmulas Produção'!N43*'OP - FEV'!J$33) -> 0
B8: 4 | C8: ='Matérias-Primas'!C6 -> (Digite sua matéria-prima) | D8: 0 | F8: 4 | G8: ='Matérias-Primas'!C6 -> (Digite sua matéria-prima) | H8: =('Fórmulas Produção'!D8*'OP - FEV'!B$33)+('Fórmulas Produção'!I8*'OP - FEV'!C$33)+('Fórmulas Produção'!N8*'OP - FEV'!D$33)+('Fórmulas Produção'!D26*'OP - FEV'!E$33)+('Fórmulas Produção'!I26*'OP - FEV'!F36)+('Fórmulas Produção'!N26*'OP - FEV'!G$33)+('Fórmulas Produção'!D44*'OP - FEV'!H$33)+('Fórmulas Produção'!I44*'OP - FEV'!I$33)+('Fórmulas Produção'!N44*'OP - FEV'!J$33) -> 0
B9: 5 | C9: ='Matérias-Primas'!C7 -> (Digite sua matéria-prima) | D9: 0 | F9: 5 | G9: ='Matérias-Primas'!C7 -> (Digite sua matéria-prima) | H9: =('Fórmulas Produção'!D9*'OP - FEV'!B$33)+('Fórmulas Produção'!I9*'OP - FEV'!C$33)+('Fórmulas Produção'!N9*'OP - FEV'!D$33)+('Fórmulas Produção'!D27*'OP - FEV'!E$33)+('Fórmulas Produção'!I27*'OP - FEV'!F37)+('Fórmulas Produção'!N27*'OP - FEV'!G$33)+('Fórmulas Produção'!D45*'OP - FEV'!H$33)+('Fórmulas Produção'!I45*'OP - FEV'!I$33)+('Fórmulas Produção'!N45*'OP - FEV'!J$33) -> 0
B10: 6 | C10: ='Matérias-Primas'!C8 -> (Digite sua matéria-prima) | D10: 0 | F10: 6 | G10: ='Matérias-Primas'!C8 -> (Digite sua matéria-prima) | H10: =('Fórmulas Produção'!D10*'OP - FEV'!B$33)+('Fórmulas Produção'!I10*'OP - FEV'!C$33)+('Fórmulas Produção'!N10*'OP - FEV'!D$33)+('Fórmulas Produção'!D28*'OP - FEV'!E$33)+('Fórmulas Produção'!I28*'OP - FEV'!F38)+('Fórmulas Produção'!N28*'OP - FEV'!G$33)+('Fórmulas Produção'!D46*'OP - FEV'!H$33)+('Fórmulas Produção'!I46*'OP - FEV'!I$33)+('Fórmulas Produção'!N46*'OP - FEV'!J$33) -> 0
B11: 7 | C11: ='Matérias-Primas'!C9 -> (Digite sua matéria-prima) | D11: 0 | F11: 7 | G11: ='Matérias-Primas'!C9 -> (Digite sua matéria-prima) | H11: =('Fórmulas Produção'!D11*'OP - FEV'!B$33)+('Fórmulas Produção'!I11*'OP - FEV'!C$33)+('Fórmulas Produção'!N11*'OP - FEV'!D$33)+('Fórmulas Produção'!D29*'OP - FEV'!E$33)+('Fórmulas Produção'!I29*'OP - FEV'!F39)+('Fórmulas Produção'!N29*'OP - FEV'!G$33)+('Fórmulas Produção'!D47*'OP - FEV'!H$33)+('Fórmulas Produção'!I47*'OP - FEV'!I$33)+('Fórmulas Produção'!N47*'OP - FEV'!J$33) -> 0
B12: 8 | C12: ='Matérias-Primas'!C10 -> (Digite sua matéria-prima) | D12: 0 | F12: 8 | G12: ='Matérias-Primas'!C10 -> (Digite sua matéria-prima) | H12: =('Fórmulas Produção'!D12*'OP - FEV'!B$33)+('Fórmulas Produção'!I12*'OP - FEV'!C$33)+('Fórmulas Produção'!N12*'OP - FEV'!D$33)+('Fórmulas Produção'!D30*'OP - FEV'!E$33)+('Fórmulas Produção'!I30*'OP - FEV'!F40)+('Fórmulas Produção'!N30*'OP - FEV'!G$33)+('Fórmulas Produção'!D48*'OP - FEV'!H$33)+('Fórmulas Produção'!I48*'OP - FEV'!I$33)+('Fórmulas Produção'!N48*'OP - FEV'!J$33) -> 0
B13: 9 | C13: ='Matérias-Primas'!C11 -> (Digite sua matéria-prima) | D13: 0 | F13: 9 | G13: ='Matérias-Primas'!C11 -> (Digite sua matéria-prima) | H13: =('Fórmulas Produção'!D13*'OP - FEV'!B$33)+('Fórmulas Produção'!I13*'OP - FEV'!C$33)+('Fórmulas Produção'!N13*'OP - FEV'!D$33)+('Fórmulas Produção'!D31*'OP - FEV'!E$33)+('Fórmulas Produção'!I31*'OP - FEV'!F41)+('Fórmulas Produção'!N31*'OP - FEV'!G$33)+('Fórmulas Produção'!D49*'OP - FEV'!H$33)+('Fórmulas Produção'!I49*'OP - FEV'!I$33)+('Fórmulas Produção'!N49*'OP - FEV'!J$33) -> 0
B14: 10 | C14: ='Matérias-Primas'!C12 -> (Digite sua matéria-prima) | D14: 0 | F14: 10 | G14: ='Matérias-Primas'!C12 -> (Digite sua matéria-prima) | H14: =('Fórmulas Produção'!D14*'OP - FEV'!B$33)+('Fórmulas Produção'!I14*'OP - FEV'!C$33)+('Fórmulas Produção'!N14*'OP - FEV'!D$33)+('Fórmulas Produção'!D32*'OP - FEV'!E$33)+('Fórmulas Produção'!I32*'OP - FEV'!F42)+('Fórmulas Produção'!N32*'OP - FEV'!G$33)+('Fórmulas Produção'!D50*'OP - FEV'!H$33)+('Fórmulas Produção'!I50*'OP - FEV'!I$33)+('Fórmulas Produção'!N50*'OP - FEV'!J$33) -> 0
B15: 11 | C15: ='Matérias-Primas'!C13 -> (Digite sua matéria-prima) | D15: 0 | F15: 11 | G15: ='Matérias-Primas'!C13 -> (Digite sua matéria-prima) | H15: =('Fórmulas Produção'!D15*'OP - FEV'!B$33)+('Fórmulas Produção'!I15*'OP - FEV'!C$33)+('Fórmulas Produção'!N15*'OP - FEV'!D$33)+('Fórmulas Produção'!D33*'OP - FEV'!E$33)+('Fórmulas Produção'!I33*'OP - FEV'!F43)+('Fórmulas Produção'!N33*'OP - FEV'!G$33)+('Fórmulas Produção'!D51*'OP - FEV'!H$33)+('Fórmulas Produção'!I51*'OP - FEV'!I$33)+('Fórmulas Produção'!N51*'OP - FEV'!J$33) -> 0
B16: 12 | C16: ='Matérias-Primas'!C14 -> (Digite sua matéria-prima) | D16: 0 | F16: 12 | G16: ='Matérias-Primas'!C14 -> (Digite sua matéria-prima) | H16: =('Fórmulas Produção'!D16*'OP - FEV'!B$33)+('Fórmulas Produção'!I16*'OP - FEV'!C$33)+('Fórmulas Produção'!N16*'OP - FEV'!D$33)+('Fórmulas Produção'!D34*'OP - FEV'!E$33)+('Fórmulas Produção'!I34*'OP - FEV'!F44)+('Fórmulas Produção'!N34*'OP - FEV'!G$33)+('Fórmulas Produção'!D52*'OP - FEV'!H$33)+('Fórmulas Produção'!I52*'OP - FEV'!I$33)+('Fórmulas Produção'!N52*'OP - FEV'!J$33) -> 0
B17: 13 | C17: ='Matérias-Primas'!C15 -> (Digite sua matéria-prima) | D17: 0 | F17: 13 | G17: ='Matérias-Primas'!C15 -> (Digite sua matéria-prima) | H17: =('Fórmulas Produção'!D17*'OP - FEV'!B$33)+('Fórmulas Produção'!I17*'OP - FEV'!C$33)+('Fórmulas Produção'!N17*'OP - FEV'!D$33)+('Fórmulas Produção'!D35*'OP - FEV'!E$33)+('Fórmulas Produção'!I35*'OP - FEV'!F45)+('Fórmulas Produção'!N35*'OP - FEV'!G$33)+('Fórmulas Produção'!D53*'OP - FEV'!H$33)+('Fórmulas Produção'!I53*'OP - FEV'!I$33)+('Fórmulas Produção'!N53*'OP - FEV'!J$33) -> 0
B18: 14 | C18: ='Matérias-Primas'!C16 -> (Digite sua matéria-prima) | D18: 0 | F18: 14 | G18: ='Matérias-Primas'!C16 -> (Digite sua matéria-prima) | H18: =('Fórmulas Produção'!D18*'OP - FEV'!B$33)+('Fórmulas Produção'!I18*'OP - FEV'!C$33)+('Fórmulas Produção'!N18*'OP - FEV'!D$33)+('Fórmulas Produção'!D36*'OP - FEV'!E$33)+('Fórmulas Produção'!I36*'OP - FEV'!F46)+('Fórmulas Produção'!N36*'OP - FEV'!G$33)+('Fórmulas Produção'!D54*'OP - FEV'!H$33)+('Fórmulas Produção'!I54*'OP - FEV'!I$33)+('Fórmulas Produção'!N54*'OP - FEV'!J$33) -> 0
B19: 15 | C19: ='Matérias-Primas'!C17 -> (Digite sua matéria-prima) | D19: 0 | F19: 15 | G19: ='Matérias-Primas'!C17 -> (Digite sua matéria-prima) | H19: =('Fórmulas Produção'!D19*'OP - FEV'!B$33)+('Fórmulas Produção'!I19*'OP - FEV'!C$33)+('Fórmulas Produção'!N19*'OP - FEV'!D$33)+('Fórmulas Produção'!D37*'OP - FEV'!E$33)+('Fórmulas Produção'!I37*'OP - FEV'!F47)+('Fórmulas Produção'!N37*'OP - FEV'!G$33)+('Fórmulas Produção'!D55*'OP - FEV'!H$33)+('Fórmulas Produção'!I55*'OP - FEV'!I$33)+('Fórmulas Produção'!N55*'OP - FEV'!J$33) -> 0

Sheet OP - FEV
A1: Menu | B1: ORDENS DE PRODUÇÃO - FEVEREIRO
A3: DATA | B3: Quantidade Produzida - em Unidades
B4: ='Fórmulas Produção'!B3 -> Pão Francês | C4: ='Fórmulas Produção'!G3 -> Produto 2 | D4: ='Fórmulas Produção'!L3 -> Produto 3 | E4: ='Fórmulas Produção'!B21 -> Produto 4 | F4: ='Fórmulas Produção'!G21 -> Produto 5 | G4: ='Fórmulas Produção'!L21 -> Produto 6 | H4: ='Fórmulas Produção'!B39 -> Produto 7 | I4: ='Fórmulas Produção'!G39 -> Produto 8 | J4: ='Fórmulas Produção'!L39 -> Produto 9
A5: 43497 | B5: 3 | C5: 0 | D5: 0 | E5: 0 | F5: 0 | G5: 0 | H5: 0 | I5: 0 | J5: 0
A6: 43498 | B6: 0 | C6: 0 | D6: 0 | E6: 0 | F6: 0 | G6: 0 | H6: 0 | I6: 0 | J6: 0
A7: 43499 | B7: 0 | C7: 0 | D7: 0 | E7: 0 | F7: 0 | G7: 0 | H7: 0 | I7: 0 | J7: 0
A8: 43500 | B8: 0 | C8: 0 | D8: 0 | E8: 0 | F8: 0 | G8: 0 | H8: 0 | I8: 0 | J8: 0
A9: 43501 | B9: 0 | C9: 0 | D9: 0 | E9: 0 | F9: 0 | G9: 0 | H9: 0 | I9: 0 | J9: 0
A10: 43502 | B10: 0 | C10: 0 | D10: 0 | E10: 0 | F10: 0 | G10: 0 | H10: 0 | I10: 0 | J10: 0
A11: 43503 | B11: 0 | C11: 0 | D11: 0 | E11: 0 | F11: 0 | G11: 0 | H11: 0 | I11: 0 | J11: 0
A12: 43504 | B12: 0 | C12: 0 | D12: 0 | E12: 0 | F12: 0 | G12: 0 | H12: 0 | I12: 0 | J12: 0
A13: 43505 | B13: 0 | C13: 0 | D13: 0 | E13: 0 | F13: 0 | G13: 0 | H13: 0 | I13: 0 | J13: 0
A14: 43506 | B14: 0 | C14: 0 | D14: 0 | E14: 0 | F14: 0 | G14: 0 | H14: 0 | I14: 0 | J14: 0
A15: 43507 | B15: 0 | C15: 0 | D15: 0 | E15: 0 | F15: 0 | G15: 0 | H15: 0 | I15: 0 | J15: 0
A16: 43508 | B16: 0 | C16: 0 | D16: 0 | E16: 0 | F16: 0 | G16: 0 | H16: 0 | I16: 0 | J16: 0
... A32: 43524 | B32: 0 | C32: 0 | D32: 0 | E32: 0 | F32: 0 | G32: 0 | H32: 0 | I32: 0 | J32: 0
A33: TOTAL | B33: =SUM(B5:B32) -> 3 | C33: =SUM(C5:C32) -> 0 | D33: =SUM(D5:D32) -> 0 | E33: =SUM(E5:E32) -> 0 | F33: =SUM(F5:F32) -> 0 | G33: =SUM(G5:G32) -> 0 | H33: =SUM(H5:H32) -> 0 | I33: =SUM(I5:I32) -> 0 | J33: =SUM(J5:J32) -> 0

Sheet MAR
A1: Menu | B1: COMPRAS DE MP / SAÍDAS DE ESTOQUE - MARÇO
E2: //
A3: DATA | D3: ENTRADAS (Compras) | H3: SAÍDAS
B4: Nº | C4: Matéria-Prima | D4: Quantidade | F4: Nº | G4: Matéria-Prima | H4: Quantidade
A5: 43525 | B5: 1 | C5: ='Matérias-Primas'!C3 -> Farinha | D5: 0 | F5: 1 | G5: ='Matérias-Primas'!C3 -> Farinha | H5: =('Fórmulas Produção'!D5*'OP - MAR'!B$36)+('Fórmulas Produção'!I5*'OP - MAR'!C$36)+('Fórmulas Produção'!N5*'OP - MAR'!D$36)+('Fórmulas Produção'!D23*'OP - MAR'!E$36)+('Fórmulas Produção'!I23*'OP - MAR'!F$36)+('Fórmulas Produção'!N23*'OP - MAR'!G$36)+('Fórmulas Produção'!D41*'OP - MAR'!H$36)+('Fórmulas Produção'!I41*'OP - MAR'!I$36)+('Fórmulas Produção'!N41*'OP - MAR'!J$36) -> 0
B6: 2 | C6: ='Matérias-Primas'!C4 -> Fermento em pó | D6: 0 | F6: 2 | G6: ='Matérias-Primas'!C4 -> Fermento em pó | H6: =('Fórmulas Produção'!D6*'OP - MAR'!B$36)+('Fórmulas Produção'!I6*'OP - MAR'!C$36)+('Fórmulas Produção'!N6*'OP - MAR'!D$36)+('Fórmulas Produção'!D24*'OP - MAR'!E$36)+('Fórmulas Produção'!I24*'OP - MAR'!F$36)+('Fórmulas Produção'!N24*'OP - MAR'!G$36)+('Fórmulas Produção'!D42*'OP - MAR'!H$36)+('Fórmulas Produção'!I42*'OP - MAR'!I$36)+('Fórmulas Produção'!N42*'OP - MAR'!J$36) -> 0
B7: 3 | C7: ='Matérias-Primas'!C5 -> (Digite sua matéria-prima) | D7: 0 | F7: 3 | G7: ='Matérias-Primas'!C5 -> (Digite sua matéria-prima) | H7: =('Fórmulas Produção'!D7*'OP - MAR'!B$36)+('Fórmulas Produção'!I7*'OP - MAR'!C$36)+('Fórmulas Produção'!N7*'OP - MAR'!D$36)+('Fórmulas Produção'!D25*'OP - MAR'!E$36)+('Fórmulas Produção'!I25*'OP - MAR'!F$36)+('Fórmulas Produção'!N25*'OP - MAR'!G$36)+('Fórmulas Produção'!D43*'OP - MAR'!H$36)+('Fórmulas Produção'!I43*'OP - MAR'!I$36)+('Fórmulas Produção'!N43*'OP - MAR'!J$36) -> 0
B8: 4 | C8: ='Matérias-Primas'!C6 -> (Digite sua matéria-prima) | D8: 0 | F8: 4 | G8: ='Matérias-Primas'!C6 -> (Digite sua matéria-prima) | H8: =('Fórmulas Produção'!D8*'OP - MAR'!B$36)+('Fórmulas Produção'!I8*'OP - MAR'!C$36)+('Fórmulas Produção'!N8*'OP - MAR'!D$36)+('Fórmulas Produção'!D26*'OP - MAR'!E$36)+('Fórmulas Produção'!I26*'OP - MAR'!F$36)+('Fórmulas Produção'!N26*'OP - MAR'!G$36)+('Fórmulas Produção'!D44*'OP - MAR'!H$36)+('Fórmulas Produção'!I44*'OP - MAR'!I$36)+('Fórmulas Produção'!N44*'OP - MAR'!J$36) -> 0
B9: 5 | C9: ='Matérias-Primas'!C7 -> (Digite sua matéria-prima) | D9: 0 | F9: 5 | G9: ='Matérias-Primas'!C7 -> (Digite sua matéria-prima) | H9: =('Fórmulas Produção'!D9*'OP - MAR'!B$36)+('Fórmulas Produção'!I9*'OP - MAR'!C$36)+('Fórmulas Produção'!N9*'OP - MAR'!D$36)+('Fórmulas Produção'!D27*'OP - MAR'!E$36)+('Fórmulas Produção'!I27*'OP - MAR'!F$36)+('Fórmulas Produção'!N27*'OP - MAR'!G$36)+('Fórmulas Produção'!D45*'OP - MAR'!H$36)+('Fórmulas Produção'!I45*'OP - MAR'!I$36)+('Fórmulas Produção'!N45*'OP - MAR'!J$36) -> 0
B10: 6 | C10: ='Matérias-Primas'!C8 -> (Digite sua matéria-prima) | D10: 0 | F10: 6 | G10: ='Matérias-Primas'!C8 -> (Digite sua matéria-prima) | H10: =('Fórmulas Produção'!D10*'OP - MAR'!B$36)+('Fórmulas Produção'!I10*'OP - MAR'!C$36)+('Fórmulas Produção'!N10*'OP - MAR'!D$36)+('Fórmulas Produção'!D28*'OP - MAR'!E$36)+('Fórmulas Produção'!I28*'OP - MAR'!F$36)+('Fórmulas Produção'!N28*'OP - MAR'!G$36)+('Fórmulas Produção'!D46*'OP - MAR'!H$36)+('Fórmulas Produção'!I46*'OP - MAR'!I$36)+('Fórmulas Produção'!N46*'OP - MAR'!J$36) -> 0
B11: 7 | C11: ='Matérias-Primas'!C9 -> (Digite sua matéria-prima) | D11: 0 | F11: 7 | G11: ='Matérias-Primas'!C9 -> (Digite sua matéria-prima) | H11: =('Fórmulas Produção'!D11*'OP - MAR'!B$36)+('Fórmulas Produção'!I11*'OP - MAR'!C$36)+('Fórmulas Produção'!N11*'OP - MAR'!D$36)+('Fórmulas Produção'!D29*'OP - MAR'!E$36)+('Fórmulas Produção'!I29*'OP - MAR'!F$36)+('Fórmulas Produção'!N29*'OP - MAR'!G$36)+('Fórmulas Produção'!D47*'OP - MAR'!H$36)+('Fórmulas Produção'!I47*'OP - MAR'!I$36)+('Fórmulas Produção'!N47*'OP - MAR'!J$36) -> 0
B12: 8 | C12: ='Matérias-Primas'!C10 -> (Digite sua matéria-prima) | D12: 0 | F12: 8 | G12: ='Matérias-Primas'!C10 -> (Digite sua matéria-prima) | H12: =('Fórmulas Produção'!D12*'OP - MAR'!B$36)+('Fórmulas Produção'!I12*'OP - MAR'!C$36)+('Fórmulas Produção'!N12*'OP - MAR'!D$36)+('Fórmulas Produção'!D30*'OP - MAR'!E$36)+('Fórmulas Produção'!I30*'OP - MAR'!F$36)+('Fórmulas Produção'!N30*'OP - MAR'!G$36)+('Fórmulas Produção'!D48*'OP - MAR'!H$36)+('Fórmulas Produção'!I48*'OP - MAR'!I$36)+('Fórmulas Produção'!N48*'OP - MAR'!J$36) -> 0
B13: 9 | C13: ='Matérias-Primas'!C11 -> (Digite sua matéria-prima) | D13: 0 | F13: 9 | G13: ='Matérias-Primas'!C11 -> (Digite sua matéria-prima) | H13: =('Fórmulas Produção'!D13*'OP - MAR'!B$36)+('Fórmulas Produção'!I13*'OP - MAR'!C$36)+('Fórmulas Produção'!N13*'OP - MAR'!D$36)+('Fórmulas Produção'!D31*'OP - MAR'!E$36)+('Fórmulas Produção'!I31*'OP - MAR'!F$36)+('Fórmulas Produção'!N31*'OP - MAR'!G$36)+('Fórmulas Produção'!D49*'OP - MAR'!H$36)+('Fórmulas Produção'!I49*'OP - MAR'!I$36)+('Fórmulas Produção'!N49*'OP - MAR'!J$36) -> 0
B14: 10 | C14: ='Matérias-Primas'!C12 -> (Digite sua matéria-prima) | D14: 0 | F14: 10 | G14: ='Matérias-Primas'!C12 -> (Digite sua matéria-prima) | H14: =('Fórmulas Produção'!D14*'OP - MAR'!B$36)+('Fórmulas Produção'!I14*'OP - MAR'!C$36)+('Fórmulas Produção'!N14*'OP - MAR'!D$36)+('Fórmulas Produção'!D32*'OP - MAR'!E$36)+('Fórmulas Produção'!I32*'OP - MAR'!F$36)+('Fórmulas Produção'!N32*'OP - MAR'!G$36)+('Fórmulas Produção'!D50*'OP - MAR'!H$36)+('Fórmulas Produção'!I50*'OP - MAR'!I$36)+('Fórmulas Produção'!N50*'OP - MAR'!J$36) -> 0
B15: 11 | C15: ='Matérias-Primas'!C13 -> (Digite sua matéria-prima) | D15: 0 | F15: 11 | G15: ='Matérias-Primas'!C13 -> (Digite sua matéria-prima) | H15: =('Fórmulas Produção'!D15*'OP - MAR'!B$36)+('Fórmulas Produção'!I15*'OP - MAR'!C$36)+('Fórmulas Produção'!N15*'OP - MAR'!D$36)+('Fórmulas Produção'!D33*'OP - MAR'!E$36)+('Fórmulas Produção'!I33*'OP - MAR'!F$36)+('Fórmulas Produção'!N33*'OP - MAR'!G$36)+('Fórmulas Produção'!D51*'OP - MAR'!H$36)+('Fórmulas Produção'!I51*'OP - MAR'!I$36)+('Fórmulas Produção'!N51*'OP - MAR'!J$36) -> 0
B16: 12 | C16: ='Matérias-Primas'!C14 -> (Digite sua matéria-prima) | D16: 0 | F16: 12 | G16: ='Matérias-Primas'!C14 -> (Digite sua matéria-prima) | H16: =('Fórmulas Produção'!D16*'OP - MAR'!B$36)+('Fórmulas Produção'!I16*'OP - MAR'!C$36)+('Fórmulas Produção'!N16*'OP - MAR'!D$36)+('Fórmulas Produção'!D34*'OP - MAR'!E$36)+('Fórmulas Produção'!I34*'OP - MAR'!F$36)+('Fórmulas Produção'!N34*'OP - MAR'!G$36)+('Fórmulas Produção'!D52*'OP - MAR'!H$36)+('Fórmulas Produção'!I52*'OP - MAR'!I$36)+('Fórmulas Produção'!N52*'OP - MAR'!J$36) -> 0
B17: 13 | C17: ='Matérias-Primas'!C15 -> (Digite sua matéria-prima) | D17: 0 | F17: 13 | G17: ='Matérias-Primas'!C15 -> (Digite sua matéria-prima) | H17: =('Fórmulas Produção'!D17*'OP - MAR'!B$36)+('Fórmulas Produção'!I17*'OP - MAR'!C$36)+('Fórmulas Produção'!N17*'OP - MAR'!D$36)+('Fórmulas Produção'!D35*'OP - MAR'!E$36)+('Fórmulas Produção'!I35*'OP - MAR'!F$36)+('Fórmulas Produção'!N35*'OP - MAR'!G$36)+('Fórmulas Produção'!D53*'OP - MAR'!H$36)+('Fórmulas Produção'!I53*'OP - MAR'!I$36)+('Fórmulas Produção'!N53*'OP - MAR'!J$36) -> 0
... B19: 15 | C19: ='Matérias-Primas'!C17 -> (Digite sua matéria-prima) | D19: 0 | F19: 15 | G19: ='Matérias-Primas'!C17 -> (Digite sua matéria-prima) | H19: =('Fórmulas Produção'!D19*'OP - MAR'!B$36)+('Fórmulas Produção'!I19*'OP - MAR'!C$36)+('Fórmulas Produção'!N19*'OP - MAR'!D$36)+('Fórmulas Produção'!D37*'OP - MAR'!E$36)+('Fórmulas Produção'!I37*'OP - MAR'!F$36)+('Fórmulas Produção'!N37*'OP - MAR'!G$36)+('Fórmulas Produção'!D55*'OP - MAR'!H$36)+('Fórmulas Produção'!I55*'OP - MAR'!I$36)+('Fórmulas Produção'!N55*'OP - MAR'!J$36) -> 0

Sheet OP - MAR
A1: Menu | B1: ORDENS DE PRODUÇÃO - MARÇO
A3: DATA | B3: Quantidade Produzida - em Unidades
B4: ='Fórmulas Produção'!B3 -> Pão Francês | C4: ='Fórmulas Produção'!G3 -> Produto 2 | D4: ='Fórmulas Produção'!L3 -> Produto 3 | E4: ='Fórmulas Produção'!B21 -> Produto 4 | F4: ='Fórmulas Produção'!G21 -> Produto 5 | G4: ='Fórmulas Produção'!L21 -> Produto 6 | H4: ='Fórmulas Produção'!B39 -> Produto 7 | I4: ='Fórmulas Produção'!G39 -> Produto 8 | J4: ='Fórmulas Produção'!L39 -> Produto 9
A5: 43525 | B5: 0 | C5: 0 | D5: 0 | E5: 0 | F5: 0 | G5: 0 | H5: 0 | I5: 0 | J5: 0
A6: 43526 | B6: 0 | C6: 0 | D6: 0 | E6: 0 | F6: 0 | G6: 0 | H6: 0 | I6: 0 | J6: 0
A7: 43527 | B7: 0 | C7: 0 | D7: 0 | E7: 0 | F7: 0 | G7: 0 | H7: 0 | I7: 0 | J7: 0
A8: 43528 | B8: 0 | C8: 0 | D8: 0 | E8: 0 | F8: 0 | G8: 0 | H8: 0 | I8: 0 | J8: 0
A9: 43529 | B9: 0 | C9: 0 | D9: 0 | E9: 0 | F9: 0 | G9: 0 | H9: 0 | I9: 0 | J9: 0
A10: 43530 | B10: 0 | C10: 0 | D10: 0 | E10: 0 | F10: 0 | G10: 0 | H10: 0 | I10: 0 | J10: 0
A11: 43531 | B11: 0 | C11: 0 | D11: 0 | E11: 0 | F11: 0 | G11: 0 | H11: 0 | I11: 0 | J11: 0
A12: 43532 | B12: 0 | C12: 0 | D12: 0 | E12: 0 | F12: 0 | G12: 0 | H12: 0 | I12: 0 | J12: 0
A13: 43533 | B13: 0 | C13: 0 | D13: 0 | E13: 0 | F13: 0 | G13: 0 | H13: 0 | I13: 0 | J13: 0
A14: 43534 | B14: 0 | C14: 0 | D14: 0 | E14: 0 | F14: 0 | G14: 0 | H14: 0 | I14: 0 | J14: 0
A15: 43535 | B15: 0 | C15: 0 | D15: 0 | E15: 0 | F15: 0 | G15: 0 | H15: 0 | I15: 0 | J15: 0
A16: 43536 | B16: 0 | C16: 0 | D16: 0 | E16: 0 | F16: 0 | G16: 0 | H16: 0 | I16: 0 | J16: 0
... A35: 43555 | B35: 0 | C35: 0 | D35: 0 | E35: 0 | F35: 0 | G35: 0 | H35: 0 | I35: 0 | J35: 0
A36: TOTAL | B36: =SUM(B5:B35) -> 0 | C36: =SUM(C5:C35) -> 0 | D36: =SUM(D5:D35) -> 0 | E36: =SUM(E5:E35) -> 0 | F36: =SUM(F5:F35) -> 0 | G36: =SUM(G5:G35) -> 0 | H36: =SUM(H5:H35) -> 0 | I36: =SUM(I5:I35) -> 0 | J36: =SUM(J5:J35) -> 0

Sheet ABR
A1: Menu | B1: COMPRAS DE MP / SAÍDAS DE ESTOQUE - ABRIL
E2: //
A3: DATA | D3: ENTRADAS (Compras) | H3: SAÍDAS
B4: Nº | C4: Matéria-Prima | D4: Quantidade | F4: Nº | G4: Matéria-Prima | H4: Quantidade
A5: 43556 | B5: 1 | C5: ='Matérias-Primas'!C3 -> Farinha | D5: 0 | F5: 1 | G5: ='Matérias-Primas'!C3 -> Farinha | H5: =('Fórmulas Produção'!D5*'OP - ABR'!B$35)+('Fórmulas Produção'!I5*'OP - ABR'!C$35)+('Fórmulas Produção'!N5*'OP - ABR'!D$35)+('Fórmulas Produção'!D23*'OP - ABR'!E$35)+('Fórmulas Produção'!I23*'OP - ABR'!F$35)+('Fórmulas Produção'!N23*'OP - ABR'!G$35)+('Fórmulas Produção'!D41*'OP - ABR'!H$35)+('Fórmulas Produção'!I41*'OP - ABR'!I$35)+('Fórmulas Produção'!N41*'OP - ABR'!J$35) -> 0
B6: 2 | C6: ='Matérias-Primas'!C4 -> Fermento em pó | D6: 0 | F6: 2 | G6: ='Matérias-Primas'!C4 -> Fermento em pó | H6: =('Fórmulas Produção'!D6*'OP - ABR'!B$35)+('Fórmulas Produção'!I6*'OP - ABR'!C$35)+('Fórmulas Produção'!N6*'OP - ABR'!D$35)+('Fórmulas Produção'!D24*'OP - ABR'!E$35)+('Fórmulas Produção'!I24*'OP - ABR'!F$35)+('Fórmulas Produção'!N24*'OP - ABR'!G$35)+('Fórmulas Produção'!D42*'OP - ABR'!H$35)+('Fórmulas Produção'!I42*'OP - ABR'!I$35)+('Fórmulas Produção'!N42*'OP - ABR'!J$35) -> 0
B7: 3 | C7: ='Matérias-Primas'!C5 -> (Digite sua matéria-prima) | D7: 0 | F7: 3 | G7: ='Matérias-Primas'!C5 -> (Digite sua matéria-prima) | H7: =('Fórmulas Produção'!D7*'OP - ABR'!B$35)+('Fórmulas Produção'!I7*'OP - ABR'!C$35)+('Fórmulas Produção'!N7*'OP - ABR'!D$35)+('Fórmulas Produção'!D25*'OP - ABR'!E$35)+('Fórmulas Produção'!I25*'OP - ABR'!F$35)+('Fórmulas Produção'!N25*'OP - ABR'!G$35)+('Fórmulas Produção'!D43*'OP - ABR'!H$35)+('Fórmulas Produção'!I43*'OP - ABR'!I$35)+('Fórmulas Produção'!N43*'OP - ABR'!J$35) -> 0
B8: 4 | C8: ='Matérias-Primas'!C6 -> (Digite sua matéria-prima) | D8: 0 | F8: 4 | G8: ='Matérias-Primas'!C6 -> (Digite sua matéria-prima) | H8: =('Fórmulas Produção'!D8*'OP - ABR'!B$35)+('Fórmulas Produção'!I8*'OP - ABR'!C$35)+('Fórmulas Produção'!N8*'OP - ABR'!D$35)+('Fórmulas Produção'!D26*'OP - ABR'!E$35)+('Fórmulas Produção'!I26*'OP - ABR'!F$35)+('Fórmulas Produção'!N26*'OP - ABR'!G$35)+('Fórmulas Produção'!D44*'OP - ABR'!H$35)+('Fórmulas Produção'!I44*'OP - ABR'!I$35)+('Fórmulas Produção'!N44*'OP - ABR'!J$35) -> 0
B9: 5 | C9: ='Matérias-Primas'!C7 -> (Digite sua matéria-prima) | D9: 0 | F9: 5 | G9: ='Matérias-Primas'!C7 -> (Digite sua matéria-prima) | H9: =('Fórmulas Produção'!D9*'OP - ABR'!B$35)+('Fórmulas Produção'!I9*'OP - ABR'!C$35)+('Fórmulas Produção'!N9*'OP - ABR'!D$35)+('Fórmulas Produção'!D27*'OP - ABR'!E$35)+('Fórmulas Produção'!I27*'OP - ABR'!F$35)+('Fórmulas Produção'!N27*'OP - ABR'!G$35)+('Fórmulas Produção'!D45*'OP - ABR'!H$35)+('Fórmulas Produção'!I45*'OP - ABR'!I$35)+('Fórmulas Produção'!N45*'OP - ABR'!J$35) -> 0
B10: 6 | C10: ='Matérias-Primas'!C8 -> (Digite sua matéria-prima) | D10: 0 | F10: 6 | G10: ='Matérias-Primas'!C8 -> (Digite sua matéria-prima) | H10: =('Fórmulas Produção'!D10*'OP - ABR'!B$35)+('Fórmulas Produção'!I10*'OP - ABR'!C$35)+('Fórmulas Produção'!N10*'OP - ABR'!D$35)+('Fórmulas Produção'!D28*'OP - ABR'!E$35)+('Fórmulas Produção'!I28*'OP - ABR'!F$35)+('Fórmulas Produção'!N28*'OP - ABR'!G$35)+('Fórmulas Produção'!D46*'OP - ABR'!H$35)+('Fórmulas Produção'!I46*'OP - ABR'!I$35)+('Fórmulas Produção'!N46*'OP - ABR'!J$35) -> 0
B11: 7 | C11: ='Matérias-Primas'!C9 -> (Digite sua matéria-prima) | D11: 0 | F11: 7 | G11: ='Matérias-Primas'!C9 -> (Digite sua matéria-prima) | H11: =('Fórmulas Produção'!D11*'OP - ABR'!B$35)+('Fórmulas Produção'!I11*'OP - ABR'!C$35)+('Fórmulas Produção'!N11*'OP - ABR'!D$35)+('Fórmulas Produção'!D29*'OP - ABR'!E$35)+('Fórmulas Produção'!I29*'OP - ABR'!F$35)+('Fórmulas Produção'!N29*'OP - ABR'!G$35)+('Fórmulas Produção'!D47*'OP - ABR'!H$35)+('Fórmulas Produção'!I47*'OP - ABR'!I$35)+('Fórmulas Produção'!N47*'OP - ABR'!J$35) -> 0
B12: 8 | C12: ='Matérias-Primas'!C10 -> (Digite sua matéria-prima) | D12: 0 | F12: 8 | G12: ='Matérias-Primas'!C10 -> (Digite sua matéria-prima) | H12: =('Fórmulas Produção'!D12*'OP - ABR'!B$35)+('Fórmulas Produção'!I12*'OP - ABR'!C$35)+('Fórmulas Produção'!N12*'OP - ABR'!D$35)+('Fórmulas Produção'!D30*'OP - ABR'!E$35)+('Fórmulas Produção'!I30*'OP - ABR'!F$35)+('Fórmulas Produção'!N30*'OP - ABR'!G$35)+('Fórmulas Produção'!D48*'OP - ABR'!H$35)+('Fórmulas Produção'!I48*'OP - ABR'!I$35)+('Fórmulas Produção'!N48*'OP - ABR'!J$35) -> 0
B13: 9 | C13: ='Matérias-Primas'!C11 -> (Digite sua matéria-prima) | D13: 0 | F13: 9 | G13: ='Matérias-Primas'!C11 -> (Digite sua matéria-prima) | H13: =('Fórmulas Produção'!D13*'OP - ABR'!B$35)+('Fórmulas Produção'!I13*'OP - ABR'!C$35)+('Fórmulas Produção'!N13*'OP - ABR'!D$35)+('Fórmulas Produção'!D31*'OP - ABR'!E$35)+('Fórmulas Produção'!I31*'OP - ABR'!F$35)+('Fórmulas Produção'!N31*'OP - ABR'!G$35)+('Fórmulas Produção'!D49*'OP - ABR'!H$35)+('Fórmulas Produção'!I49*'OP - ABR'!I$35)+('Fórmulas Produção'!N49*'OP - ABR'!J$35) -> 0
B14: 10 | C14: ='Matérias-Primas'!C12 -> (Digite sua matéria-prima) | D14: 0 | F14: 10 | G14: ='Matérias-Primas'!C12 -> (Digite sua matéria-prima) | H14: =('Fórmulas Produção'!D14*'OP - ABR'!B$35)+('Fórmulas Produção'!I14*'OP - ABR'!C$35)+('Fórmulas Produção'!N14*'OP - ABR'!D$35)+('Fórmulas Produção'!D32*'OP - ABR'!E$35)+('Fórmulas Produção'!I32*'OP - ABR'!F$35)+('Fórmulas Produção'!N32*'OP - ABR'!G$35)+('Fórmulas Produção'!D50*'OP - ABR'!H$35)+('Fórmulas Produção'!I50*'OP - ABR'!I$35)+('Fórmulas Produção'!N50*'OP - ABR'!J$35) -> 0
B15: 11 | C15: ='Matérias-Primas'!C13 -> (Digite sua matéria-prima) | D15: 0 | F15: 11 | G15: ='Matérias-Primas'!C13 -> (Digite sua matéria-prima) | H15: =('Fórmulas Produção'!D15*'OP - ABR'!B$35)+('Fórmulas Produção'!I15*'OP - ABR'!C$35)+('Fórmulas Produção'!N15*'OP - ABR'!D$35)+('Fórmulas Produção'!D33*'OP - ABR'!E$35)+('Fórmulas Produção'!I33*'OP - ABR'!F$35)+('Fórmulas Produção'!N33*'OP - ABR'!G$35)+('Fórmulas Produção'!D51*'OP - ABR'!H$35)+('Fórmulas Produção'!I51*'OP - ABR'!I$35)+('Fórmulas Produção'!N51*'OP - ABR'!J$35) -> 0
B16: 12 | C16: ='Matérias-Primas'!C14 -> (Digite sua matéria-prima) | D16: 0 | F16: 12 | G16: ='Matérias-Primas'!C14 -> (Digite sua matéria-prima) | H16: =('Fórmulas Produção'!D16*'OP - ABR'!B$35)+('Fórmulas Produção'!I16*'OP - ABR'!C$35)+('Fórmulas Produção'!N16*'OP - ABR'!D$35)+('Fórmulas Produção'!D34*'OP - ABR'!E$35)+('Fórmulas Produção'!I34*'OP - ABR'!F$35)+('Fórmulas Produção'!N34*'OP - ABR'!G$35)+('Fórmulas Produção'!D52*'OP - ABR'!H$35)+('Fórmulas Produção'!I52*'OP - ABR'!I$35)+('Fórmulas Produção'!N52*'OP - ABR'!J$35) -> 0
B17: 13 | C17: ='Matérias-Primas'!C15 -> (Digite sua matéria-prima) | D17: 0 | F17: 13 | G17: ='Matérias-Primas'!C15 -> (Digite sua matéria-prima) | H17: =('Fórmulas Produção'!D17*'OP - ABR'!B$35)+('Fórmulas Produção'!I17*'OP - ABR'!C$35)+('Fórmulas Produção'!N17*'OP - ABR'!D$35)+('Fórmulas Produção'!D35*'OP - ABR'!E$35)+('Fórmulas Produção'!I35*'OP - ABR'!F$35)+('Fórmulas Produção'!N35*'OP - ABR'!G$35)+('Fórmulas Produção'!D53*'OP - ABR'!H$35)+('Fórmulas Produção'!I53*'OP - ABR'!I$35)+('Fórmulas Produção'!N53*'OP - ABR'!J$35) -> 0
... B19: 15 | C19: ='Matérias-Primas'!C17 -> (Digite sua matéria-prima) | D19: 0 | F19: 15 | G19: ='Matérias-Primas'!C17 -> (Digite sua matéria-prima) | H19: =('Fórmulas Produção'!D19*'OP - ABR'!B$35)+('Fórmulas Produção'!I19*'OP - ABR'!C$35)+('Fórmulas Produção'!N19*'OP - ABR'!D$35)+('Fórmulas Produção'!D37*'OP - ABR'!E$35)+('Fórmulas Produção'!I37*'OP - ABR'!F$35)+('Fórmulas Produção'!N37*'OP - ABR'!G$35)+('Fórmulas Produção'!D55*'OP - ABR'!H$35)+('Fórmulas Produção'!I55*'OP - ABR'!I$35)+('Fórmulas Produção'!N55*'OP - ABR'!J$35) -> 0

Sheet OP - ABR
A1: Menu | B1: ORDENS DE PRODUÇÃO - ABRIL
A3: DATA | B3: Quantidade Produzida - em Unidades
B4: ='Fórmulas Produção'!B3 -> Pão Francês | C4: ='Fórmulas Produção'!G3 -> Produto 2 | D4: ='Fórmulas Produção'!L3 -> Produto 3 | E4: ='Fórmulas Produção'!B21 -> Produto 4 | F4: ='Fórmulas Produção'!G21 -> Produto 5 | G4: ='Fórmulas Produção'!L21 -> Produto 6 | H4: ='Fórmulas Produção'!B39 -> Produto 7 | I4: ='Fórmulas Produção'!G39 -> Produto 8 | J4: ='Fórmulas Produção'!L39 -> Produto 9
A5: 43556 | B5: 0 | C5: 0 | D5: 0 | E5: 0 | F5: 0 | G5: 0 | H5: 0 | I5: 0 | J5: 0
A6: 43557 | B6: 0 | C6: 0 | D6: 0 | E6: 0 | F6: 0 | G6: 0 | H6: 0 | I6: 0 | J6: 0
A7: 43558 | B7: 0 | C7: 0 | D7: 0 | E7: 0 | F7: 0 | G7: 0 | H7: 0 | I7: 0 | J7: 0
A8: 43559 | B8: 0 | C8: 0 | D8: 0 | E8: 0 | F8: 0 | G8: 0 | H8: 0 | I8: 0 | J8: 0
A9: 43560 | B9: 0 | C9: 0 | D9: 0 | E9: 0 | F9: 0 | G9: 0 | H9: 0 | I9: 0 | J9: 0
A10: 43561 | B10: 0 | C10: 0 | D10: 0 | E10: 0 | F10: 0 | G10: 0 | H10: 0 | I10: 0 | J10: 0
A11: 43562 | B11: 0 | C11: 0 | D11: 0 | E11: 0 | F11: 0 | G11: 0 | H11: 0 | I11: 0 | J11: 0
A12: 43563 | B12: 0 | C12: 0 | D12: 0 | E12: 0 | F12: 0 | G12: 0 | H12: 0 | I12: 0 | J12: 0
A13: 43564 | B13: 0 | C13: 0 | D13: 0 | E13: 0 | F13: 0 | G13: 0 | H13: 0 | I13: 0 | J13: 0
A14: 43565 | B14: 0 | C14: 0 | D14: 0 | E14: 0 | F14: 0 | G14: 0 | H14: 0 | I14: 0 | J14: 0
A15: 43566 | B15: 0 | C15: 0 | D15: 0 | E15: 0 | F15: 0 | G15: 0 | H15: 0 | I15: 0 | J15: 0
A16: 43567 | B16: 0 | C16: 0 | D16: 0 | E16: 0 | F16: 0 | G16: 0 | H16: 0 | I16: 0 | J16: 0
... A34: 43585 | B34: 0 | C34: 0 | D34: 0 | E34: 0 | F34: 0 | G34: 0 | H34: 0 | I34: 0 | J34: 0
A35: TOTAL | B35: =SUM(B5:B34) -> 0 | C35: =SUM(C5:C34) -> 0 | D35: =SUM(D5:D34) -> 0 | E35: =SUM(E5:E34) -> 0 | F35: =SUM(F5:F34) -> 0 | G35: =SUM(G5:G34) -> 0 | H35: =SUM(H5:H34) -> 0 | I35: =SUM(I5:I34) -> 0 | J35: =SUM(J5:J34) -> 0

Sheet MAI
A1: Menu | B1: COMPRAS DE MP / SAÍDAS DE ESTOQUE - MAIO
E2: //
A3: DATA | D3: ENTRADAS (Compras) | H3: SAÍDAS
B4: Nº | C4: Matéria-Prima | D4: Quantidade | F4: Nº | G4: Matéria-Prima | H4: Quantidade
A5: 43586 | B5: 1 | C5: ='Matérias-Primas'!C3 -> Farinha | D5: 0 | F5: 1 | G5: ='Matérias-Primas'!C3 -> Farinha | H5: =('Fórmulas Produção'!D5*'OP - MAI'!B$36)+('Fórmulas Produção'!I5*'OP - MAI'!C$36)+('Fórmulas Produção'!N5*'OP - MAI'!D$36)+('Fórmulas Produção'!D23*'OP - MAI'!E$36)+('Fórmulas Produção'!I23*'OP - MAI'!F$36)+('Fórmulas Produção'!N23*'OP - MAI'!G$36)+('Fórmulas Produção'!D41*'OP - MAI'!H$36)+('Fórmulas Produção'!I41*'OP - MAI'!I$36)+('Fórmulas Produção'!N41*'OP - MAI'!J$36) -> 0
B6: 2 | C6: ='Matérias-Primas'!C4 -> Fermento em pó | D6: 0 | F6: 2 | G6: ='Matérias-Primas'!C4 -> Fermento em pó | H6: =('Fórmulas Produção'!D6*'OP - MAI'!B$36)+('Fórmulas Produção'!I6*'OP - MAI'!C$36)+('Fórmulas Produção'!N6*'OP - MAI'!D$36)+('Fórmulas Produção'!D24*'OP - MAI'!E$36)+('Fórmulas Produção'!I24*'OP - MAI'!F$36)+('Fórmulas Produção'!N24*'OP - MAI'!G$36)+('Fórmulas Produção'!D42*'OP - MAI'!H$36)+('Fórmulas Produção'!I42*'OP - MAI'!I$36)+('Fórmulas Produção'!N42*'OP - MAI'!J$36) -> 0
B7: 3 | C7: ='Matérias-Primas'!C5 -> (Digite sua matéria-prima) | D7: 0 | F7: 3 | G7: ='Matérias-Primas'!C5 -> (Digite sua matéria-prima) | H7: =('Fórmulas Produção'!D7*'OP - MAI'!B$36)+('Fórmulas Produção'!I7*'OP - MAI'!C$36)+('Fórmulas Produção'!N7*'OP - MAI'!D$36)+('Fórmulas Produção'!D25*'OP - MAI'!E$36)+('Fórmulas Produção'!I25*'OP - MAI'!F$36)+('Fórmulas Produção'!N25*'OP - MAI'!G$36)+('Fórmulas Produção'!D43*'OP - MAI'!H$36)+('Fórmulas Produção'!I43*'OP - MAI'!I$36)+('Fórmulas Produção'!N43*'OP - MAI'!J$36) -> 0
B8: 4 | C8: ='Matérias-Primas'!C6 -> (Digite sua matéria-prima) | D8: 0 | F8: 4 | G8: ='Matérias-Primas'!C6 -> (Digite sua matéria-prima) | H8: =('Fórmulas Produção'!D8*'OP - MAI'!B$36)+('Fórmulas Produção'!I8*'OP - MAI'!C$36)+('Fórmulas Produção'!N8*'OP - MAI'!D$36)+('Fórmulas Produção'!D26*'OP - MAI'!E$36)+('Fórmulas Produção'!I26*'OP - MAI'!F$36)+('Fórmulas Produção'!N26*'OP - MAI'!G$36)+('Fórmulas Produção'!D44*'OP - MAI'!H$36)+('Fórmulas Produção'!I44*'OP - MAI'!I$36)+('Fórmulas Produção'!N44*'OP - MAI'!J$36) -> 0
B9: 5 | C9: ='Matérias-Primas'!C7 -> (Digite sua matéria-prima) | D9: 0 | F9: 5 | G9: ='Matérias-Primas'!C7 -> (Digite sua matéria-prima) | H9: =('Fórmulas Produção'!D9*'OP - MAI'!B$36)+('Fórmulas Produção'!I9*'OP - MAI'!C$36)+('Fórmulas Produção'!N9*'OP - MAI'!D$36)+('Fórmulas Produção'!D27*'OP - MAI'!E$36)+('Fórmulas Produção'!I27*'OP - MAI'!F$36)+('Fórmulas Produção'!N27*'OP - MAI'!G$36)+('Fórmulas Produção'!D45*'OP - MAI'!H$36)+('Fórmulas Produção'!I45*'OP - MAI'!I$36)+('Fórmulas Produção'!N45*'OP - MAI'!J$36) -> 0
B10: 6 | C10: ='Matérias-Primas'!C8 -> (Digite sua matéria-prima) | D10: 0 | F10: 6 | G10: ='Matérias-Primas'!C8 -> (Digite sua matéria-prima) | H10: =('Fórmulas Produção'!D10*'OP - MAI'!B$36)+('Fórmulas Produção'!I10*'OP - MAI'!C$36)+('Fórmulas Produção'!N10*'OP - MAI'!D$36)+('Fórmulas Produção'!D28*'OP - MAI'!E$36)+('Fórmulas Produção'!I28*'OP - MAI'!F$36)+('Fórmulas Produção'!N28*'OP - MAI'!G$36)+('Fórmulas Produção'!D46*'OP - MAI'!H$36)+('Fórmulas Produção'!I46*'OP - MAI'!I$36)+('Fórmulas Produção'!N46*'OP - MAI'!J$36) -> 0
B11: 7 | C11: ='Matérias-Primas'!C9 -> (Digite sua matéria-prima) | D11: 0 | F11: 7 | G11: ='Matérias-Primas'!C9 -> (Digite sua matéria-prima) | H11: =('Fórmulas Produção'!D11*'OP - MAI'!B$36)+('Fórmulas Produção'!I11*'OP - MAI'!C$36)+('Fórmulas Produção'!N11*'OP - MAI'!D$36)+('Fórmulas Produção'!D29*'OP - MAI'!E$36)+('Fórmulas Produção'!I29*'OP - MAI'!F$36)+('Fórmulas Produção'!N29*'OP - MAI'!G$36)+('Fórmulas Produção'!D47*'OP - MAI'!H$36)+('Fórmulas Produção'!I47*'OP - MAI'!I$36)+('Fórmulas Produção'!N47*'OP - MAI'!J$36) -> 0
B12: 8 | C12: ='Matérias-Primas'!C10 -> (Digite sua matéria-prima) | D12: 0 | F12: 8 | G12: ='Matérias-Primas'!C10 -> (Digite sua matéria-prima) | H12: =('Fórmulas Produção'!D12*'OP - MAI'!B$36)+('Fórmulas Produção'!I12*'OP - MAI'!C$36)+('Fórmulas Produção'!N12*'OP - MAI'!D$36)+('Fórmulas Produção'!D30*'OP - MAI'!E$36)+('Fórmulas Produção'!I30*'OP - MAI'!F$36)+('Fórmulas Produção'!N30*'OP - MAI'!G$36)+('Fórmulas Produção'!D48*'OP - MAI'!H$36)+('Fórmulas Produção'!I48*'OP - MAI'!I$36)+('Fórmulas Produção'!N48*'OP - MAI'!J$36) -> 0
B13: 9 | C13: ='Matérias-Primas'!C11 -> (Digite sua matéria-prima) | D13: 0 | F13: 9 | G13: ='Matérias-Primas'!C11 -> (Digite sua matéria-prima) | H13: =('Fórmulas Produção'!D13*'OP - MAI'!B$36)+('Fórmulas Produção'!I13*'OP - MAI'!C$36)+('Fórmulas Produção'!N13*'OP - MAI'!D$36)+('Fórmulas Produção'!D31*'OP - MAI'!E$36)+('Fórmulas Produção'!I31*'OP - MAI'!F$36)+('Fórmulas Produção'!N31*'OP - MAI'!G$36)+('Fórmulas Produção'!D49*'OP - MAI'!H$36)+('Fórmulas Produção'!I49*'OP - MAI'!I$36)+('Fórmulas Produção'!N49*'OP - MAI'!J$36) -> 0
B14: 10 | C14: ='Matérias-Primas'!C12 -> (Digite sua matéria-prima) | D14: 0 | F14: 10 | G14: ='Matérias-Primas'!C12 -> (Digite sua matéria-prima) | H14: =('Fórmulas Produção'!D14*'OP - MAI'!B$36)+('Fórmulas Produção'!I14*'OP - MAI'!C$36)+('Fórmulas Produção'!N14*'OP - MAI'!D$36)+('Fórmulas Produção'!D32*'OP - MAI'!E$36)+('Fórmulas Produção'!I32*'OP - MAI'!F$36)+('Fórmulas Produção'!N32*'OP - MAI'!G$36)+('Fórmulas Produção'!D50*'OP - MAI'!H$36)+('Fórmulas Produção'!I50*'OP - MAI'!I$36)+('Fórmulas Produção'!N50*'OP - MAI'!J$36) -> 0
B15: 11 | C15: ='Matérias-Primas'!C13 -> (Digite sua matéria-prima) | D15: 0 | F15: 11 | G15: ='Matérias-Primas'!C13 -> (Digite sua matéria-prima) | H15: =('Fórmulas Produção'!D15*'OP - MAI'!B$36)+('Fórmulas Produção'!I15*'OP - MAI'!C$36)+('Fórmulas Produção'!N15*'OP - MAI'!D$36)+('Fórmulas Produção'!D33*'OP - MAI'!E$36)+('Fórmulas Produção'!I33*'OP - MAI'!F$36)+('Fórmulas Produção'!N33*'OP - MAI'!G$36)+('Fórmulas Produção'!D51*'OP - MAI'!H$36)+('Fórmulas Produção'!I51*'OP - MAI'!I$36)+('Fórmulas Produção'!N51*'OP - MAI'!J$36) -> 0
B16: 12 | C16: ='Matérias-Primas'!C14 -> (Digite sua matéria-prima) | D16: 0 | F16: 12 | G16: ='Matérias-Primas'!C14 -> (Digite sua matéria-prima) | H16: =('Fórmulas Produção'!D16*'OP - MAI'!B$36)+('Fórmulas Produção'!I16*'OP - MAI'!C$36)+('Fórmulas Produção'!N16*'OP - MAI'!D$36)+('Fórmulas Produção'!D34*'OP - MAI'!E$36)+('Fórmulas Produção'!I34*'OP - MAI'!F$36)+('Fórmulas Produção'!N34*'OP - MAI'!G$36)+('Fórmulas Produção'!D52*'OP - MAI'!H$36)+('Fórmulas Produção'!I52*'OP - MAI'!I$36)+('Fórmulas Produção'!N52*'OP - MAI'!J$36) -> 0
B17: 13 | C17: ='Matérias-Primas'!C15 -> (Digite sua matéria-prima) | D17: 0 | F17: 13 | G17: ='Matérias-Primas'!C15 -> (Digite sua matéria-prima) | H17: =('Fórmulas Produção'!D17*'OP - MAI'!B$36)+('Fórmulas Produção'!I17*'OP - MAI'!C$36)+('Fórmulas Produção'!N17*'OP - MAI'!D$36)+('Fórmulas Produção'!D35*'OP - MAI'!E$36)+('Fórmulas Produção'!I35*'OP - MAI'!F$36)+('Fórmulas Produção'!N35*'OP - MAI'!G$36)+('Fórmulas Produção'!D53*'OP - MAI'!H$36)+('Fórmulas Produção'!I53*'OP - MAI'!I$36)+('Fórmulas Produção'!N53*'OP - MAI'!J$36) -> 0
... B19: 15 | C19: ='Matérias-Primas'!C17 -> (Digite sua matéria-prima) | D19: 0 | F19: 15 | G19: ='Matérias-Primas'!C17 -> (Digite sua matéria-prima) | H19: =('Fórmulas Produção'!D19*'OP - MAI'!B$36)+('Fórmulas Produção'!I19*'OP - MAI'!C$36)+('Fórmulas Produção'!N19*'OP - MAI'!D$36)+('Fórmulas Produção'!D37*'OP - MAI'!E$36)+('Fórmulas Produção'!I37*'OP - MAI'!F$36)+('Fórmulas Produção'!N37*'OP - MAI'!G$36)+('Fórmulas Produção'!D55*'OP - MAI'!H$36)+('Fórmulas Produção'!I55*'OP - MAI'!I$36)+('Fórmulas Produção'!N55*'OP - MAI'!J$36) -> 0

Sheet OP - MAI
A1: Menu | B1: ORDENS DE PRODUÇÃO - MAIO
A3: DATA | B3: Quantidade Produzida - em Unidades
B4: ='Fórmulas Produção'!B3 -> Pão Francês | C4: ='Fórmulas Produção'!G3 -> Produto 2 | D4: ='Fórmulas Produção'!L3 -> Produto 3 | E4: ='Fórmulas Produção'!B21 -> Produto 4 | F4: ='Fórmulas Produção'!G21 -> Produto 5 | G4: ='Fórmulas Produção'!L21 -> Produto 6 | H4: ='Fórmulas Produção'!B39 -> Produto 7 | I4: ='Fórmulas Produção'!G39 -> Produto 8 | J4: ='Fórmulas Produção'!L39 -> Produto 9
A5: 43586 | B5: 0 | C5: 0 | D5: 0 | E5: 0 | F5: 0 | G5: 0 | H5: 0 | I5: 0 | J5: 0
A6: 43587 | B6: 0 | C6: 0 | D6: 0 | E6: 0 | F6: 0 | G6: 0 | H6: 0 | I6: 0 | J6: 0
A7: 43588 | B7: 0 | C7: 0 | D7: 0 | E7: 0 | F7: 0 | G7: 0 | H7: 0 | I7: 0 | J7: 0
A8: 43589 | B8: 0 | C8: 0 | D8: 0 | E8: 0 | F8: 0 | G8: 0 | H8: 0 | I8: 0 | J8: 0
A9: 43590 | B9: 0 | C9: 0 | D9: 0 | E9: 0 | F9: 0 | G9: 0 | H9: 0 | I9: 0 | J9: 0
A10: 43591 | B10: 0 | C10: 0 | D10: 0 | E10: 0 | F10: 0 | G10: 0 | H10: 0 | I10: 0 | J10: 0
A11: 43592 | B11: 0 | C11: 0 | D11: 0 | E11: 0 | F11: 0 | G11: 0 | H11: 0 | I11: 0 | J11: 0
A12: 43593 | B12: 0 | C12: 0 | D12: 0 | E12: 0 | F12: 0 | G12: 0 | H12: 0 | I12: 0 | J12: 0
A13: 43594 | B13: 0 | C13: 0 | D13: 0 | E13: 0 | F13: 0 | G13: 0 | H13: 0 | I13: 0 | J13: 0
A14: 43595 | B14: 0 | C14: 0 | D14: 0 | E14: 0 | F14: 0 | G14: 0 | H14: 0 | I14: 0 | J14: 0
A15: 43596 | B15: 0 | C15: 0 | D15: 0 | E15: 0 | F15: 0 | G15: 0 | H15: 0 | I15: 0 | J15: 0
A16: 43597 | B16: 0 | C16: 0 | D16: 0 | E16: 0 | F16: 0 | G16: 0 | H16: 0 | I16: 0 | J16: 0
... A35: 43616 | B35: 0 | C35: 0 | D35: 0 | E35: 0 | F35: 0 | G35: 0 | H35: 0 | I35: 0 | J35: 0
A36: TOTAL | B36: =SUM(B5:B35) -> 0 | C36: =SUM(C5:C35) -> 0 | D36: =SUM(D5:D35) -> 0 | E36: =SUM(E5:E35) -> 0 | F36: =SUM(F5:F35) -> 0 | G36: =SUM(G5:G35) -> 0 | H36: =SUM(H5:H35) -> 0 | I36: =SUM(I5:I35) -> 0 | J36: =SUM(J5:J35) -> 0

Sheet JUN
A1: Menu | B1: COMPRAS DE MP / SAÍDAS DE ESTOQUE - JUNHO
E2: //
A3: DATA | D3: ENTRADAS (Compras) | H3: SAÍDAS
B4: Nº | C4: Matéria-Prima | D4: Quantidade | F4: Nº | G4: Matéria-Prima | H4: Quantidade
A5: 43617 | B5: 1 | C5: ='Matérias-Primas'!C3 -> Farinha | D5: 0 | F5: 1 | G5: ='Matérias-Primas'!C3 -> Farinha | H5: =('Fórmulas Produção'!D5*'OP - JUN'!B$35)+('Fórmulas Produção'!I5*'OP - JUN'!C$35)+('Fórmulas Produção'!N5*'OP - JUN'!D$35)+('Fórmulas Produção'!D23*'OP - JUN'!E$35)+('Fórmulas Produção'!I23*'OP - JUN'!F$35)+('Fórmulas Produção'!N23*'OP - JUN'!G$35)+('Fórmulas Produção'!D41*'OP - JUN'!H$35)+('Fórmulas Produção'!I41*'OP - JUN'!I$35)+('Fórmulas Produção'!N41*'OP - JUN'!J$35) -> 0
B6: 2 | C6: ='Matérias-Primas'!C4 -> Fermento em pó | D6: 0 | F6: 2 | G6: ='Matérias-Primas'!C4 -> Fermento em pó | H6: =('Fórmulas Produção'!D6*'OP - JUN'!B$35)+('Fórmulas Produção'!I6*'OP - JUN'!C$35)+('Fórmulas Produção'!N6*'OP - JUN'!D$35)+('Fórmulas Produção'!D24*'OP - JUN'!E$35)+('Fórmulas Produção'!I24*'OP - JUN'!F$35)+('Fórmulas Produção'!N24*'OP - JUN'!G$35)+('Fórmulas Produção'!D42*'OP - JUN'!H$35)+('Fórmulas Produção'!I42*'OP - JUN'!I$35)+('Fórmulas Produção'!N42*'OP - JUN'!J$35) -> 0
B7: 3 | C7: ='Matérias-Primas'!C5 -> (Digite sua matéria-prima) | D7: 0 | F7: 3 | G7: ='Matérias-Primas'!C5 -> (Digite sua matéria-prima) | H7: =('Fórmulas Produção'!D7*'OP - JUN'!B$35)+('Fórmulas Produção'!I7*'OP - JUN'!C$35)+('Fórmulas Produção'!N7*'OP - JUN'!D$35)+('Fórmulas Produção'!D25*'OP - JUN'!E$35)+('Fórmulas Produção'!I25*'OP - JUN'!F$35)+('Fórmulas Produção'!N25*'OP - JUN'!G$35)+('Fórmulas Produção'!D43*'OP - JUN'!H$35)+('Fórmulas Produção'!I43*'OP - JUN'!I$35)+('Fórmulas Produção'!N43*'OP - JUN'!J$35) -> 0
B8: 4 | C8: ='Matérias-Primas'!C6 -> (Digite sua matéria-prima) | D8: 0 | F8: 4 | G8: ='Matérias-Primas'!C6 -> (Digite sua matéria-prima) | H8: =('Fórmulas Produção'!D8*'OP - JUN'!B$35)+('Fórmulas Produção'!I8*'OP - JUN'!C$35)+('Fórmulas Produção'!N8*'OP - JUN'!D$35)+('Fórmulas Produção'!D26*'OP - JUN'!E$35)+('Fórmulas Produção'!I26*'OP - JUN'!F$35)+('Fórmulas Produção'!N26*'OP - JUN'!G$35)+('Fórmulas Produção'!D44*'OP - JUN'!H$35)+('Fórmulas Produção'!I44*'OP - JUN'!I$35)+('Fórmulas Produção'!N44*'OP - JUN'!J$35) -> 0
B9: 5 | C9: ='Matérias-Primas'!C7 -> (Digite sua matéria-prima) | D9: 0 | F9: 5 | G9: ='Matérias-Primas'!C7 -> (Digite sua matéria-prima) | H9: =('Fórmulas Produção'!D9*'OP - JUN'!B$35)+('Fórmulas Produção'!I9*'OP - JUN'!C$35)+('Fórmulas Produção'!N9*'OP - JUN'!D$35)+('Fórmulas Produção'!D27*'OP - JUN'!E$35)+('Fórmulas Produção'!I27*'OP - JUN'!F$35)+('Fórmulas Produção'!N27*'OP - JUN'!G$35)+('Fórmulas Produção'!D45*'OP - JUN'!H$35)+('Fórmulas Produção'!I45*'OP - JUN'!I$35)+('Fórmulas Produção'!N45*'OP - JUN'!J$35) -> 0
B10: 6 | C10: ='Matérias-Primas'!C8 -> (Digite sua matéria-prima) | D10: 0 | F10: 6 | G10: ='Matérias-Primas'!C8 -> (Digite sua matéria-prima) | H10: =('Fórmulas Produção'!D10*'OP - JUN'!B$35)+('Fórmulas Produção'!I10*'OP - JUN'!C$35)+('Fórmulas Produção'!N10*'OP - JUN'!D$35)+('Fórmulas Produção'!D28*'OP - JUN'!E$35)+('Fórmulas Produção'!I28*'OP - JUN'!F$35)+('Fórmulas Produção'!N28*'OP - JUN'!G$35)+('Fórmulas Produção'!D46*'OP - JUN'!H$35)+('Fórmulas Produção'!I46*'OP - JUN'!I$35)+('Fórmulas Produção'!N46*'OP - JUN'!J$35) -> 0
B11: 7 | C11: ='Matérias-Primas'!C9 -> (Digite sua matéria-prima) | D11: 0 | F11: 7 | G11: ='Matérias-Primas'!C9 -> (Digite sua matéria-prima) | H11: =('Fórmulas Produção'!D11*'OP - JUN'!B$35)+('Fórmulas Produção'!I11*'OP - JUN'!C$35)+('Fórmulas Produção'!N11*'OP - JUN'!D$35)+('Fórmulas Produção'!D29*'OP - JUN'!E$35)+('Fórmulas Produção'!I29*'OP - JUN'!F$35)+('Fórmulas Produção'!N29*'OP - JUN'!G$35)+('Fórmulas Produção'!D47*'OP - JUN'!H$35)+('Fórmulas Produção'!I47*'OP - JUN'!I$35)+('Fórmulas Produção'!N47*'OP - JUN'!J$35) -> 0
B12: 8 | C12: ='Matérias-Primas'!C10 -> (Digite sua matéria-prima) | D12: 0 | F12: 8 | G12: ='Matérias-Primas'!C10 -> (Digite sua matéria-prima) | H12: =('Fórmulas Produção'!D12*'OP - JUN'!B$35)+('Fórmulas Produção'!I12*'OP - JUN'!C$35)+('Fórmulas Produção'!N12*'OP - JUN'!D$35)+('Fórmulas Produção'!D30*'OP - JUN'!E$35)+('Fórmulas Produção'!I30*'OP - JUN'!F$35)+('Fórmulas Produção'!N30*'OP - JUN'!G$35)+('Fórmulas Produção'!D48*'OP - JUN'!H$35)+('Fórmulas Produção'!I48*'OP - JUN'!I$35)+('Fórmulas Produção'!N48*'OP - JUN'!J$35) -> 0
B13: 9 | C13: ='Matérias-Primas'!C11 -> (Digite sua matéria-prima) | D13: 0 | F13: 9 | G13: ='Matérias-Primas'!C11 -> (Digite sua matéria-prima) | H13: =('Fórmulas Produção'!D13*'OP - JUN'!B$35)+('Fórmulas Produção'!I13*'OP - JUN'!C$35)+('Fórmulas Produção'!N13*'OP - JUN'!D$35)+('Fórmulas Produção'!D31*'OP - JUN'!E$35)+('Fórmulas Produção'!I31*'OP - JUN'!F$35)+('Fórmulas Produção'!N31*'OP - JUN'!G$35)+('Fórmulas Produção'!D49*'OP - JUN'!H$35)+('Fórmulas Produção'!I49*'OP - JUN'!I$35)+('Fórmulas Produção'!N49*'OP - JUN'!J$35) -> 0
B14: 10 | C14: ='Matérias-Primas'!C12 -> (Digite sua matéria-prima) | D14: 0 | F14: 10 | G14: ='Matérias-Primas'!C12 -> (Digite sua matéria-prima) | H14: =('Fórmulas Produção'!D14*'OP - JUN'!B$35)+('Fórmulas Produção'!I14*'OP - JUN'!C$35)+('Fórmulas Produção'!N14*'OP - JUN'!D$35)+('Fórmulas Produção'!D32*'OP - JUN'!E$35)+('Fórmulas Produção'!I32*'OP - JUN'!F$35)+('Fórmulas Produção'!N32*'OP - JUN'!G$35)+('Fórmulas Produção'!D50*'OP - JUN'!H$35)+('Fórmulas Produção'!I50*'OP - JUN'!I$35)+('Fórmulas Produção'!N50*'OP - JUN'!J$35) -> 0
B15: 11 | C15: ='Matérias-Primas'!C13 -> (Digite sua matéria-prima) | D15: 0 | F15: 11 | G15: ='Matérias-Primas'!C13 -> (Digite sua matéria-prima) | H15: =('Fórmulas Produção'!D15*'OP - JUN'!B$35)+('Fórmulas Produção'!I15*'OP - JUN'!C$35)+('Fórmulas Produção'!N15*'OP - JUN'!D$35)+('Fórmulas Produção'!D33*'OP - JUN'!E$35)+('Fórmulas Produção'!I33*'OP - JUN'!F$35)+('Fórmulas Produção'!N33*'OP - JUN'!G$35)+('Fórmulas Produção'!D51*'OP - JUN'!H$35)+('Fórmulas Produção'!I51*'OP - JUN'!I$35)+('Fórmulas Produção'!N51*'OP - JUN'!J$35) -> 0
B16: 12 | C16: ='Matérias-Primas'!C14 -> (Digite sua matéria-prima) | D16: 0 | F16: 12 | G16: ='Matérias-Primas'!C14 -> (Digite sua matéria-prima) | H16: =('Fórmulas Produção'!D16*'OP - JUN'!B$35)+('Fórmulas Produção'!I16*'OP - JUN'!C$35)+('Fórmulas Produção'!N16*'OP - JUN'!D$35)+('Fórmulas Produção'!D34*'OP - JUN'!E$35)+('Fórmulas Produção'!I34*'OP - JUN'!F$35)+('Fórmulas Produção'!N34*'OP - JUN'!G$35)+('Fórmulas Produção'!D52*'OP - JUN'!H$35)+('Fórmulas Produção'!I52*'OP - JUN'!I$35)+('Fórmulas Produção'!N52*'OP - JUN'!J$35) -> 0
B17: 13 | C17: ='Matérias-Primas'!C15 -> (Digite sua matéria-prima) | D17: 0 | F17: 13 | G17: ='Matérias-Primas'!C15 -> (Digite sua matéria-prima) | H17: =('Fórmulas Produção'!D17*'OP - JUN'!B$35)+('Fórmulas Produção'!I17*'OP - JUN'!C$35)+('Fórmulas Produção'!N17*'OP - JUN'!D$35)+('Fórmulas Produção'!D35*'OP - JUN'!E$35)+('Fórmulas Produção'!I35*'OP - JUN'!F$35)+('Fórmulas Produção'!N35*'OP - JUN'!G$35)+('Fórmulas Produção'!D53*'OP - JUN'!H$35)+('Fórmulas Produção'!I53*'OP - JUN'!I$35)+('Fórmulas Produção'!N53*'OP - JUN'!J$35) -> 0
... B19: 15 | C19: ='Matérias-Primas'!C17 -> (Digite sua matéria-prima) | D19: 0 | F19: 15 | G19: ='Matérias-Primas'!C17 -> (Digite sua matéria-prima) | H19: =('Fórmulas Produção'!D19*'OP - JUN'!B$35)+('Fórmulas Produção'!I19*'OP - JUN'!C$35)+('Fórmulas Produção'!N19*'OP - JUN'!D$35)+('Fórmulas Produção'!D37*'OP - JUN'!E$35)+('Fórmulas Produção'!I37*'OP - JUN'!F$35)+('Fórmulas Produção'!N37*'OP - JUN'!G$35)+('Fórmulas Produção'!D55*'OP - JUN'!H$35)+('Fórmulas Produção'!I55*'OP - JUN'!I$35)+('Fórmulas Produção'!N55*'OP - JUN'!J$35) -> 0

Sheet OP - JUN
A1: Menu | B1: ORDENS DE PRODUÇÃO - JUNHO
A3: DATA | B3: Quantidade Produzida - em Unidades
B4: ='Fórmulas Produção'!B3 -> Pão Francês | C4: ='Fórmulas Produção'!G3 -> Produto 2 | D4: ='Fórmulas Produção'!L3 -> Produto 3 | E4: ='Fórmulas Produção'!B21 -> Produto 4 | F4: ='Fórmulas Produção'!G21 -> Produto 5 | G4: ='Fórmulas Produção'!L21 -> Produto 6 | H4: ='Fórmulas Produção'!B39 -> Produto 7 | I4: ='Fórmulas Produção'!G39 -> Produto 8 | J4: ='Fórmulas Produção'!L39 -> Produto 9
A5: 43617 | B5: 0 | C5: 0 | D5: 0 | E5: 0 | F5: 0 | G5: 0 | H5: 0 | I5: 0 | J5: 0
A6: 43618 | B6: 0 | C6: 0 | D6: 0 | E6: 0 | F6: 0 | G6: 0 | H6: 0 | I6: 0 | J6: 0
A7: 43619 | B7: 0 | C7: 0 | D7: 0 | E7: 0 | F7: 0 | G7: 0 | H7: 0 | I7: 0 | J7: 0
A8: 43620 | B8: 0 | C8: 0 | D8: 0 | E8: 0 | F8: 0 | G8: 0 | H8: 0 | I8: 0 | J8: 0
A9: 43621 | B9: 0 | C9: 0 | D9: 0 | E9: 0 | F9: 0 | G9: 0 | H9: 0 | I9: 0 | J9: 0
A10: 43622 | B10: 0 | C10: 0 | D10: 0 | E10: 0 | F10: 0 | G10: 0 | H10: 0 | I10: 0 | J10: 0
A11: 43623 | B11: 0 | C11: 0 | D11: 0 | E11: 0 | F11: 0 | G11: 0 | H11: 0 | I11: 0 | J11: 0
A12: 43624 | B12: 0 | C12: 0 | D12: 0 | E12: 0 | F12: 0 | G12: 0 | H12: 0 | I12: 0 | J12: 0
A13: 43625 | B13: 0 | C13: 0 | D13: 0 | E13: 0 | F13: 0 | G13: 0 | H13: 0 | I13: 0 | J13: 0
A14: 43626 | B14: 0 | C14: 0 | D14: 0 | E14: 0 | F14: 0 | G14: 0 | H14: 0 | I14: 0 | J14: 0
A15: 43627 | B15: 0 | C15: 0 | D15: 0 | E15: 0 | F15: 0 | G15: 0 | H15: 0 | I15: 0 | J15: 0
A16: 43628 | B16: 0 | C16: 0 | D16: 0 | E16: 0 | F16: 0 | G16: 0 | H16: 0 | I16: 0 | J16: 0
... A34: 43646 | B34: 0 | C34: 0 | D34: 0 | E34: 0 | F34: 0 | G34: 0 | H34: 0 | I34: 0 | J34: 0
A35: TOTAL | B35: =SUM(B5:B34) -> 0 | C35: =SUM(C5:C34) -> 0 | D35: =SUM(D5:D34) -> 0 | E35: =SUM(E5:E34) -> 0 | F35: =SUM(F5:F34) -> 0 | G35: =SUM(G5:G34) -> 0 | H35: =SUM(H5:H34) -> 0 | I35: =SUM(I5:I34) -> 0 | J35: =SUM(J5:J34) -> 0

Sheet JUL
A1: Menu | B1: COMPRAS DE MP / SAÍDAS DE ESTOQUE - JULHO
E2: //
A3: DATA | D3: ENTRADAS (Compras) | H3: SAÍDAS
B4: Nº | C4: Matéria-Prima | D4: Quantidade | F4: Nº | G4: Matéria-Prima | H4: Quantidade
A5: 43647 | B5: 1 | C5: ='Matérias-Primas'!C3 -> Farinha | D5: 0 | F5: 1 | G5: ='Matérias-Primas'!C3 -> Farinha | H5: =('Fórmulas Produção'!D5*'OP - JUL'!B$36)+('Fórmulas Produção'!I5*'OP - JUL'!C$36)+('Fórmulas Produção'!N5*'OP - JUL'!D$36)+('Fórmulas Produção'!D23*'OP - JUL'!E$36)+('Fórmulas Produção'!I23*'OP - JUL'!F$36)+('Fórmulas Produção'!N23*'OP - JUL'!G$36)+('Fórmulas Produção'!D41*'OP - JUL'!H$36)+('Fórmulas Produção'!I41*'OP - JUL'!I$36)+('Fórmulas Produção'!N41*'OP - JUL'!J$36) -> 0
B6: 2 | C6: ='Matérias-Primas'!C4 -> Fermento em pó | D6: 0 | F6: 2 | G6: ='Matérias-Primas'!C4 -> Fermento em pó | H6: =('Fórmulas Produção'!D6*'OP - JUL'!B$36)+('Fórmulas Produção'!I6*'OP - JUL'!C$36)+('Fórmulas Produção'!N6*'OP - JUL'!D$36)+('Fórmulas Produção'!D24*'OP - JUL'!E$36)+('Fórmulas Produção'!I24*'OP - JUL'!F$36)+('Fórmulas Produção'!N24*'OP - JUL'!G$36)+('Fórmulas Produção'!D42*'OP - JUL'!H$36)+('Fórmulas Produção'!I42*'OP - JUL'!I$36)+('Fórmulas Produção'!N42*'OP - JUL'!J$36) -> 0
B7: 3 | C7: ='Matérias-Primas'!C5 -> (Digite sua matéria-prima) | D7: 0 | F7: 3 | G7: ='Matérias-Primas'!C5 -> (Digite sua matéria-prima) | H7: =('Fórmulas Produção'!D7*'OP - JUL'!B$36)+('Fórmulas Produção'!I7*'OP - JUL'!C$36)+('Fórmulas Produção'!N7*'OP - JUL'!D$36)+('Fórmulas Produção'!D25*'OP - JUL'!E$36)+('Fórmulas Produção'!I25*'OP - JUL'!F$36)+('Fórmulas Produção'!N25*'OP - JUL'!G$36)+('Fórmulas Produção'!D43*'OP - JUL'!H$36)+('Fórmulas Produção'!I43*'OP - JUL'!I$36)+('Fórmulas Produção'!N43*'OP - JUL'!J$36) -> 0
B8: 4 | C8: ='Matérias-Primas'!C6 -> (Digite sua matéria-prima) | D8: 0 | F8: 4 | G8: ='Matérias-Primas'!C6 -> (Digite sua matéria-prima) | H8: =('Fórmulas Produção'!D8*'OP - JUL'!B$36)+('Fórmulas Produção'!I8*'OP - JUL'!C$36)+('Fórmulas Produção'!N8*'OP - JUL'!D$36)+('Fórmulas Produção'!D26*'OP - JUL'!E$36)+('Fórmulas Produção'!I26*'OP - JUL'!F$36)+('Fórmulas Produção'!N26*'OP - JUL'!G$36)+('Fórmulas Produção'!D44*'OP - JUL'!H$36)+('Fórmulas Produção'!I44*'OP - JUL'!I$36)+('Fórmulas Produção'!N44*'OP - JUL'!J$36) -> 0
B9: 5 | C9: ='Matérias-Primas'!C7 -> (Digite sua matéria-prima) | D9: 0 | F9: 5 | G9: ='Matérias-Primas'!C7 -> (Digite sua matéria-prima) | H9: =('Fórmulas Produção'!D9*'OP - JUL'!B$36)+('Fórmulas Produção'!I9*'OP - JUL'!C$36)+('Fórmulas Produção'!N9*'OP - JUL'!D$36)+('Fórmulas Produção'!D27*'OP - JUL'!E$36)+('Fórmulas Produção'!I27*'OP - JUL'!F$36)+('Fórmulas Produção'!N27*'OP - JUL'!G$36)+('Fórmulas Produção'!D45*'OP - JUL'!H$36)+('Fórmulas Produção'!I45*'OP - JUL'!I$36)+('Fórmulas Produção'!N45*'OP - JUL'!J$36) -> 0
B10: 6 | C10: ='Matérias-Primas'!C8 -> (Digite sua matéria-prima) | D10: 0 | F10: 6 | G10: ='Matérias-Primas'!C8 -> (Digite sua matéria-prima) | H10: =('Fórmulas Produção'!D10*'OP - JUL'!B$36)+('Fórmulas Produção'!I10*'OP - JUL'!C$36)+('Fórmulas Produção'!N10*'OP - JUL'!D$36)+('Fórmulas Produção'!D28*'OP - JUL'!E$36)+('Fórmulas Produção'!I28*'OP - JUL'!F$36)+('Fórmulas Produção'!N28*'OP - JUL'!G$36)+('Fórmulas Produção'!D46*'OP - JUL'!H$36)+('Fórmulas Produção'!I46*'OP - JUL'!I$36)+('Fórmulas Produção'!N46*'OP - JUL'!J$36) -> 0
B11: 7 | C11: ='Matérias-Primas'!C9 -> (Digite sua matéria-prima) | D11: 0 | F11: 7 | G11: ='Matérias-Primas'!C9 -> (Digite sua matéria-prima) | H11: =('Fórmulas Produção'!D11*'OP - JUL'!B$36)+('Fórmulas Produção'!I11*'OP - JUL'!C$36)+('Fórmulas Produção'!N11*'OP - JUL'!D$36)+('Fórmulas Produção'!D29*'OP - JUL'!E$36)+('Fórmulas Produção'!I29*'OP - JUL'!F$36)+('Fórmulas Produção'!N29*'OP - JUL'!G$36)+('Fórmulas Produção'!D47*'OP - JUL'!H$36)+('Fórmulas Produção'!I47*'OP - JUL'!I$36)+('Fórmulas Produção'!N47*'OP - JUL'!J$36) -> 0
B12: 8 | C12: ='Matérias-Primas'!C10 -> (Digite sua matéria-prima) | D12: 0 | F12: 8 | G12: ='Matérias-Primas'!C10 -> (Digite sua matéria-prima) | H12: =('Fórmulas Produção'!D12*'OP - JUL'!B$36)+('Fórmulas Produção'!I12*'OP - JUL'!C$36)+('Fórmulas Produção'!N12*'OP - JUL'!D$36)+('Fórmulas Produção'!D30*'OP - JUL'!E$36)+('Fórmulas Produção'!I30*'OP - JUL'!F$36)+('Fórmulas Produção'!N30*'OP - JUL'!G$36)+('Fórmulas Produção'!D48*'OP - JUL'!H$36)+('Fórmulas Produção'!I48*'OP - JUL'!I$36)+('Fórmulas Produção'!N48*'OP - JUL'!J$36) -> 0
B13: 9 | C13: ='Matérias-Primas'!C11 -> (Digite sua matéria-prima) | D13: 0 | F13: 9 | G13: ='Matérias-Primas'!C11 -> (Digite sua matéria-prima) | H13: =('Fórmulas Produção'!D13*'OP - JUL'!B$36)+('Fórmulas Produção'!I13*'OP - JUL'!C$36)+('Fórmulas Produção'!N13*'OP - JUL'!D$36)+('Fórmulas Produção'!D31*'OP - JUL'!E$36)+('Fórmulas Produção'!I31*'OP - JUL'!F$36)+('Fórmulas Produção'!N31*'OP - JUL'!G$36)+('Fórmulas Produção'!D49*'OP - JUL'!H$36)+('Fórmulas Produção'!I49*'OP - JUL'!I$36)+('Fórmulas Produção'!N49*'OP - JUL'!J$36) -> 0
B14: 10 | C14: ='Matérias-Primas'!C12 -> (Digite sua matéria-prima) | D14: 0 | F14: 10 | G14: ='Matérias-Primas'!C12 -> (Digite sua matéria-prima) | H14: =('Fórmulas Produção'!D14*'OP - JUL'!B$36)+('Fórmulas Produção'!I14*'OP - JUL'!C$36)+('Fórmulas Produção'!N14*'OP - JUL'!D$36)+('Fórmulas Produção'!D32*'OP - JUL'!E$36)+('Fórmulas Produção'!I32*'OP - JUL'!F$36)+('Fórmulas Produção'!N32*'OP - JUL'!G$36)+('Fórmulas Produção'!D50*'OP - JUL'!H$36)+('Fórmulas Produção'!I50*'OP - JUL'!I$36)+('Fórmulas Produção'!N50*'OP - JUL'!J$36) -> 0
B15: 11 | C15: ='Matérias-Primas'!C13 -> (Digite sua matéria-prima) | D15: 0 | F15: 11 | G15: ='Matérias-Primas'!C13 -> (Digite sua matéria-prima) | H15: =('Fórmulas Produção'!D15*'OP - JUL'!B$36)+('Fórmulas Produção'!I15*'OP - JUL'!C$36)+('Fórmulas Produção'!N15*'OP - JUL'!D$36)+('Fórmulas Produção'!D33*'OP - JUL'!E$36)+('Fórmulas Produção'!I33*'OP - JUL'!F$36)+('Fórmulas Produção'!N33*'OP - JUL'!G$36)+('Fórmulas Produção'!D51*'OP - JUL'!H$36)+('Fórmulas Produção'!I51*'OP - JUL'!I$36)+('Fórmulas Produção'!N51*'OP - JUL'!J$36) -> 0
B16: 12 | C16: ='Matérias-Primas'!C14 -> (Digite sua matéria-prima) | D16: 0 | F16: 12 | G16: ='Matérias-Primas'!C14 -> (Digite sua matéria-prima) | H16: =('Fórmulas Produção'!D16*'OP - JUL'!B$36)+('Fórmulas Produção'!I16*'OP - JUL'!C$36)+('Fórmulas Produção'!N16*'OP - JUL'!D$36)+('Fórmulas Produção'!D34*'OP - JUL'!E$36)+('Fórmulas Produção'!I34*'OP - JUL'!F$36)+('Fórmulas Produção'!N34*'OP - JUL'!G$36)+('Fórmulas Produção'!D52*'OP - JUL'!H$36)+('Fórmulas Produção'!I52*'OP - JUL'!I$36)+('Fórmulas Produção'!N52*'OP - JUL'!J$36) -> 0
B17: 13 | C17: ='Matérias-Primas'!C15 -> (Digite sua matéria-prima) | D17: 0 | F17: 13 | G17: ='Matérias-Primas'!C15 -> (Digite sua matéria-prima) | H17: =('Fórmulas Produção'!D17*'OP - JUL'!B$36)+('Fórmulas Produção'!I17*'OP - JUL'!C$36)+('Fórmulas Produção'!N17*'OP - JUL'!D$36)+('Fórmulas Produção'!D35*'OP - JUL'!E$36)+('Fórmulas Produção'!I35*'OP - JUL'!F$36)+('Fórmulas Produção'!N35*'OP - JUL'!G$36)+('Fórmulas Produção'!D53*'OP - JUL'!H$36)+('Fórmulas Produção'!I53*'OP - JUL'!I$36)+('Fórmulas Produção'!N53*'OP - JUL'!J$36) -> 0
... B19: 15 | C19: ='Matérias-Primas'!C17 -> (Digite sua matéria-prima) | D19: 0 | F19: 15 | G19: ='Matérias-Primas'!C17 -> (Digite sua matéria-prima) | H19: =('Fórmulas Produção'!D19*'OP - JUL'!B$36)+('Fórmulas Produção'!I19*'OP - JUL'!C$36)+('Fórmulas Produção'!N19*'OP - JUL'!D$36)+('Fórmulas Produção'!D37*'OP - JUL'!E$36)+('Fórmulas Produção'!I37*'OP - JUL'!F$36)+('Fórmulas Produção'!N37*'OP - JUL'!G$36)+('Fórmulas Produção'!D55*'OP - JUL'!H$36)+('Fórmulas Produção'!I55*'OP - JUL'!I$36)+('Fórmulas Produção'!N55*'OP - JUL'!J$36) -> 0

Sheet OP - JUL
A1: Menu | B1: ORDENS DE PRODUÇÃO - JULHO
A3: DATA | B3: Quantidade Produzida - em Unidades
B4: ='Fórmulas Produção'!B3 -> Pão Francês | C4: ='Fórmulas Produção'!G3 -> Produto 2 | D4: ='Fórmulas Produção'!L3 -> Produto 3 | E4: ='Fórmulas Produção'!B21 -> Produto 4 | F4: ='Fórmulas Produção'!G21 -> Produto 5 | G4: ='Fórmulas Produção'!L21 -> Produto 6 | H4: ='Fórmulas Produção'!B39 -> Produto 7 | I4: ='Fórmulas Produção'!G39 -> Produto 8 | J4: ='Fórmulas Produção'!L39 -> Produto 9
A5: 43647 | B5: 0 | C5: 0 | D5: 0 | E5: 0 | F5: 0 | G5: 0 | H5: 0 | I5: 0 | J5: 0
A6: 43648 | B6: 0 | C6: 0 | D6: 0 | E6: 0 | F6: 0 | G6: 0 | H6: 0 | I6: 0 | J6: 0
A7: 43649 | B7: 0 | C7: 0 | D7: 0 | E7: 0 | F7: 0 | G7: 0 | H7: 0 | I7: 0 | J7: 0
A8: 43650 | B8: 0 | C8: 0 | D8: 0 | E8: 0 | F8: 0 | G8: 0 | H8: 0 | I8: 0 | J8: 0
A9: 43651 | B9: 0 | C9: 0 | D9: 0 | E9: 0 | F9: 0 | G9: 0 | H9: 0 | I9: 0 | J9: 0
A10: 43652 | B10: 0 | C10: 0 | D10: 0 | E10: 0 | F10: 0 | G10: 0 | H10: 0 | I10: 0 | J10: 0
A11: 43653 | B11: 0 | C11: 0 | D11: 0 | E11: 0 | F11: 0 | G11: 0 | H11: 0 | I11: 0 | J11: 0
A12: 43654 | B12: 0 | C12: 0 | D12: 0 | E12: 0 | F12: 0 | G12: 0 | H12: 0 | I12: 0 | J12: 0
A13: 43655 | B13: 0 | C13: 0 | D13: 0 | E13: 0 | F13: 0 | G13: 0 | H13: 0 | I13: 0 | J13: 0
A14: 43656 | B14: 0 | C14: 0 | D14: 0 | E14: 0 | F14: 0 | G14: 0 | H14: 0 | I14: 0 | J14: 0
A15: 43657 | B15: 0 | C15: 0 | D15: 0 | E15: 0 | F15: 0 | G15: 0 | H15: 0 | I15: 0 | J15: 0
A16: 43658 | B16: 0 | C16: 0 | D16: 0 | E16: 0 | F16: 0 | G16: 0 | H16: 0 | I16: 0 | J16: 0
... A35: 43677 | B35: 0 | C35: 0 | D35: 0 | E35: 0 | F35: 0 | G35: 0 | H35: 0 | I35: 0 | J35: 0
A36: TOTAL | B36: =SUM(B5:B35) -> 0 | C36: =SUM(C5:C35) -> 0 | D36: =SUM(D5:D35) -> 0 | E36: =SUM(E5:E35) -> 0 | F36: =SUM(F5:F35) -> 0 | G36: =SUM(G5:G35) -> 0 | H36: =SUM(H5:H35) -> 0 | I36: =SUM(I5:I35) -> 0 | J36: =SUM(J5:J35) -> 0

Sheet AGO
A1: Menu | B1: COMPRAS DE MP / SAÍDAS DE ESTOQUE - AGOSTO
A2: //
A3: DATA | D3: ENTRADAS (Compras) | H3: SAÍDAS
B4: Nº | C4: Matéria-Prima | D4: Quantidade | F4: Nº | G4: Matéria-Prima | H4: Quantidade
A5: 43678 | B5: 1 | C5: ='Matérias-Primas'!C3 -> Farinha | D5: 0 | F5: 1 | G5: ='Matérias-Primas'!C3 -> Farinha | H5: =('Fórmulas Produção'!D5*'OP - AGO'!B$36)+('Fórmulas Produção'!I5*'OP - AGO'!C$36)+('Fórmulas Produção'!N5*'OP - AGO'!D$36)+('Fórmulas Produção'!D23*'OP - AGO'!E$36)+('Fórmulas Produção'!I23*'OP - AGO'!F$36)+('Fórmulas Produção'!N23*'OP - AGO'!G$36)+('Fórmulas Produção'!D41*'OP - AGO'!H$36)+('Fórmulas Produção'!I41*'OP - AGO'!I$36)+('Fórmulas Produção'!N41*'OP - AGO'!J$36) -> 0
B6: 2 | C6: ='Matérias-Primas'!C4 -> Fermento em pó | D6: 0 | F6: 2 | G6: ='Matérias-Primas'!C4 -> Fermento em pó | H6: =('Fórmulas Produção'!D6*'OP - AGO'!B$36)+('Fórmulas Produção'!I6*'OP - AGO'!C$36)+('Fórmulas Produção'!N6*'OP - AGO'!D$36)+('Fórmulas Produção'!D24*'OP - AGO'!E$36)+('Fórmulas Produção'!I24*'OP - AGO'!F$36)+('Fórmulas Produção'!N24*'OP - AGO'!G$36)+('Fórmulas Produção'!D42*'OP - AGO'!H$36)+('Fórmulas Produção'!I42*'OP - AGO'!I$36)+('Fórmulas Produção'!N42*'OP - AGO'!J$36) -> 0
B7: 3 | C7: ='Matérias-Primas'!C5 -> (Digite sua matéria-prima) | D7: 0 | F7: 3 | G7: ='Matérias-Primas'!C5 -> (Digite sua matéria-prima) | H7: =('Fórmulas Produção'!D7*'OP - AGO'!B$36)+('Fórmulas Produção'!I7*'OP - AGO'!C$36)+('Fórmulas Produção'!N7*'OP - AGO'!D$36)+('Fórmulas Produção'!D25*'OP - AGO'!E$36)+('Fórmulas Produção'!I25*'OP - AGO'!F$36)+('Fórmulas Produção'!N25*'OP - AGO'!G$36)+('Fórmulas Produção'!D43*'OP - AGO'!H$36)+('Fórmulas Produção'!I43*'OP - AGO'!I$36)+('Fórmulas Produção'!N43*'OP - AGO'!J$36) -> 0
B8: 4 | C8: ='Matérias-Primas'!C6 -> (Digite sua matéria-prima) | D8: 0 | F8: 4 | G8: ='Matérias-Primas'!C6 -> (Digite sua matéria-prima) | H8: =('Fórmulas Produção'!D8*'OP - AGO'!B$36)+('Fórmulas Produção'!I8*'OP - AGO'!C$36)+('Fórmulas Produção'!N8*'OP - AGO'!D$36)+('Fórmulas Produção'!D26*'OP - AGO'!E$36)+('Fórmulas Produção'!I26*'OP - AGO'!F$36)+('Fórmulas Produção'!N26*'OP - AGO'!G$36)+('Fórmulas Produção'!D44*'OP - AGO'!H$36)+('Fórmulas Produção'!I44*'OP - AGO'!I$36)+('Fórmulas Produção'!N44*'OP - AGO'!J$36) -> 0
B9: 5 | C9: ='Matérias-Primas'!C7 -> (Digite sua matéria-prima) | D9: 0 | F9: 5 | G9: ='Matérias-Primas'!C7 -> (Digite sua matéria-prima) | H9: =('Fórmulas Produção'!D9*'OP - AGO'!B$36)+('Fórmulas Produção'!I9*'OP - AGO'!C$36)+('Fórmulas Produção'!N9*'OP - AGO'!D$36)+('Fórmulas Produção'!D27*'OP - AGO'!E$36)+('Fórmulas Produção'!I27*'OP - AGO'!F$36)+('Fórmulas Produção'!N27*'OP - AGO'!G$36)+('Fórmulas Produção'!D45*'OP - AGO'!H$36)+('Fórmulas Produção'!I45*'OP - AGO'!I$36)+('Fórmulas Produção'!N45*'OP - AGO'!J$36) -> 0
B10: 6 | C10: ='Matérias-Primas'!C8 -> (Digite sua matéria-prima) | D10: 0 | F10: 6 | G10: ='Matérias-Primas'!C8 -> (Digite sua matéria-prima) | H10: =('Fórmulas Produção'!D10*'OP - AGO'!B$36)+('Fórmulas Produção'!I10*'OP - AGO'!C$36)+('Fórmulas Produção'!N10*'OP - AGO'!D$36)+('Fórmulas Produção'!D28*'OP - AGO'!E$36)+('Fórmulas Produção'!I28*'OP - AGO'!F$36)+('Fórmulas Produção'!N28*'OP - AGO'!G$36)+('Fórmulas Produção'!D46*'OP - AGO'!H$36)+('Fórmulas Produção'!I46*'OP - AGO'!I$36)+('Fórmulas Produção'!N46*'OP - AGO'!J$36) -> 0
B11: 7 | C11: ='Matérias-Primas'!C9 -> (Digite sua matéria-prima) | D11: 0 | F11: 7 | G11: ='Matérias-Primas'!C9 -> (Digite sua matéria-prima) | H11: =('Fórmulas Produção'!D11*'OP - AGO'!B$36)+('Fórmulas Produção'!I11*'OP - AGO'!C$36)+('Fórmulas Produção'!N11*'OP - AGO'!D$36)+('Fórmulas Produção'!D29*'OP - AGO'!E$36)+('Fórmulas Produção'!I29*'OP - AGO'!F$36)+('Fórmulas Produção'!N29*'OP - AGO'!G$36)+('Fórmulas Produção'!D47*'OP - AGO'!H$36)+('Fórmulas Produção'!I47*'OP - AGO'!I$36)+('Fórmulas Produção'!N47*'OP - AGO'!J$36) -> 0
B12: 8 | C12: ='Matérias-Primas'!C10 -> (Digite sua matéria-prima) | D12: 0 | F12: 8 | G12: ='Matérias-Primas'!C10 -> (Digite sua matéria-prima) | H12: =('Fórmulas Produção'!D12*'OP - AGO'!B$36)+('Fórmulas Produção'!I12*'OP - AGO'!C$36)+('Fórmulas Produção'!N12*'OP - AGO'!D$36)+('Fórmulas Produção'!D30*'OP - AGO'!E$36)+('Fórmulas Produção'!I30*'OP - AGO'!F$36)+('Fórmulas Produção'!N30*'OP - AGO'!G$36)+('Fórmulas Produção'!D48*'OP - AGO'!H$36)+('Fórmulas Produção'!I48*'OP - AGO'!I$36)+('Fórmulas Produção'!N48*'OP - AGO'!J$36) -> 0
B13: 9 | C13: ='Matérias-Primas'!C11 -> (Digite sua matéria-prima) | D13: 0 | F13: 9 | G13: ='Matérias-Primas'!C11 -> (Digite sua matéria-prima) | H13: =('Fórmulas Produção'!D13*'OP - AGO'!B$36)+('Fórmulas Produção'!I13*'OP - AGO'!C$36)+('Fórmulas Produção'!N13*'OP - AGO'!D$36)+('Fórmulas Produção'!D31*'OP - AGO'!E$36)+('Fórmulas Produção'!I31*'OP - AGO'!F$36)+('Fórmulas Produção'!N31*'OP - AGO'!G$36)+('Fórmulas Produção'!D49*'OP - AGO'!H$36)+('Fórmulas Produção'!I49*'OP - AGO'!I$36)+('Fórmulas Produção'!N49*'OP - AGO'!J$36) -> 0
B14: 10 | C14: ='Matérias-Primas'!C12 -> (Digite sua matéria-prima) | D14: 0 | F14: 10 | G14: ='Matérias-Primas'!C12 -> (Digite sua matéria-prima) | H14: =('Fórmulas Produção'!D14*'OP - AGO'!B$36)+('Fórmulas Produção'!I14*'OP - AGO'!C$36)+('Fórmulas Produção'!N14*'OP - AGO'!D$36)+('Fórmulas Produção'!D32*'OP - AGO'!E$36)+('Fórmulas Produção'!I32*'OP - AGO'!F$36)+('Fórmulas Produção'!N32*'OP - AGO'!G$36)+('Fórmulas Produção'!D50*'OP - AGO'!H$36)+('Fórmulas Produção'!I50*'OP - AGO'!I$36)+('Fórmulas Produção'!N50*'OP - AGO'!J$36) -> 0
B15: 11 | C15: ='Matérias-Primas'!C13 -> (Digite sua matéria-prima) | D15: 0 | F15: 11 | G15: ='Matérias-Primas'!C13 -> (Digite sua matéria-prima) | H15: =('Fórmulas Produção'!D15*'OP - AGO'!B$36)+('Fórmulas Produção'!I15*'OP - AGO'!C$36)+('Fórmulas Produção'!N15*'OP - AGO'!D$36)+('Fórmulas Produção'!D33*'OP - AGO'!E$36)+('Fórmulas Produção'!I33*'OP - AGO'!F$36)+('Fórmulas Produção'!N33*'OP - AGO'!G$36)+('Fórmulas Produção'!D51*'OP - AGO'!H$36)+('Fórmulas Produção'!I51*'OP - AGO'!I$36)+('Fórmulas Produção'!N51*'OP - AGO'!J$36) -> 0
B16: 12 | C16: ='Matérias-Primas'!C14 -> (Digite sua matéria-prima) | D16: 0 | F16: 12 | G16: ='Matérias-Primas'!C14 -> (Digite sua matéria-prima) | H16: =('Fórmulas Produção'!D16*'OP - AGO'!B$36)+('Fórmulas Produção'!I16*'OP - AGO'!C$36)+('Fórmulas Produção'!N16*'OP - AGO'!D$36)+('Fórmulas Produção'!D34*'OP - AGO'!E$36)+('Fórmulas Produção'!I34*'OP - AGO'!F$36)+('Fórmulas Produção'!N34*'OP - AGO'!G$36)+('Fórmulas Produção'!D52*'OP - AGO'!H$36)+('Fórmulas Produção'!I52*'OP - AGO'!I$36)+('Fórmulas Produção'!N52*'OP - AGO'!J$36) -> 0
B17: 13 | C17: ='Matérias-Primas'!C15 -> (Digite sua matéria-prima) | D17: 0 | F17: 13 | G17: ='Matérias-Primas'!C15 -> (Digite sua matéria-prima) | H17: =('Fórmulas Produção'!D17*'OP - AGO'!B$36)+('Fórmulas Produção'!I17*'OP - AGO'!C$36)+('Fórmulas Produção'!N17*'OP - AGO'!D$36)+('Fórmulas Produção'!D35*'OP - AGO'!E$36)+('Fórmulas Produção'!I35*'OP - AGO'!F$36)+('Fórmulas Produção'!N35*'OP - AGO'!G$36)+('Fórmulas Produção'!D53*'OP - AGO'!H$36)+('Fórmulas Produção'!I53*'OP - AGO'!I$36)+('Fórmulas Produção'!N53*'OP - AGO'!J$36) -> 0
... B19: 15 | C19: ='Matérias-Primas'!C17 -> (Digite sua matéria-prima) | D19: 0 | F19: 15 | G19: ='Matérias-Primas'!C17 -> (Digite sua matéria-prima) | H19: =('Fórmulas Produção'!D19*'OP - AGO'!B$36)+('Fórmulas Produção'!I19*'OP - AGO'!C$36)+('Fórmulas Produção'!N19*'OP - AGO'!D$36)+('Fórmulas Produção'!D37*'OP - AGO'!E$36)+('Fórmulas Produção'!I37*'OP - AGO'!F$36)+('Fórmulas Produção'!N37*'OP - AGO'!G$36)+('Fórmulas Produção'!D55*'OP - AGO'!H$36)+('Fórmulas Produção'!I55*'OP - AGO'!I$36)+('Fórmulas Produção'!N55*'OP - AGO'!J$36) -> 0

Sheet OP - AGO
A1: Menu | B1: ORDENS DE PRODUÇÃO - AGOSTO
A3: DATA | B3: Quantidade Produzida - em Unidades
B4: ='Fórmulas Produção'!B3 -> Pão Francês | C4: ='Fórmulas Produção'!G3 -> Produto 2 | D4: ='Fórmulas Produção'!L3 -> Produto 3 | E4: ='Fórmulas Produção'!B21 -> Produto 4 | F4: ='Fórmulas Produção'!G21 -> Produto 5 | G4: ='Fórmulas Produção'!L21 -> Produto 6 | H4: ='Fórmulas Produção'!B39 -> Produto 7 | I4: ='Fórmulas Produção'!G39 -> Produto 8 | J4: ='Fórmulas Produção'!L39 -> Produto 9
A5: 43678 | B5: 0 | C5: 0 | D5: 0 | E5: 0 | F5: 0 | G5: 0 | H5: 0 | I5: 0 | J5: 0
A6: 43679 | B6: 0 | C6: 0 | D6: 0 | E6: 0 | F6: 0 | G6: 0 | H6: 0 | I6: 0 | J6: 0
A7: 43680 | B7: 0 | C7: 0 | D7: 0 | E7: 0 | F7: 0 | G7: 0 | H7: 0 | I7: 0 | J7: 0
A8: 43681 | B8: 0 | C8: 0 | D8: 0 | E8: 0 | F8: 0 | G8: 0 | H8: 0 | I8: 0 | J8: 0
A9: 43682 | B9: 0 | C9: 0 | D9: 0 | E9: 0 | F9: 0 | G9: 0 | H9: 0 | I9: 0 | J9: 0
A10: 43683 | B10: 0 | C10: 0 | D10: 0 | E10: 0 | F10: 0 | G10: 0 | H10: 0 | I10: 0 | J10: 0
A11: 43684 | B11: 0 | C11: 0 | D11: 0 | E11: 0 | F11: 0 | G11: 0 | H11: 0 | I11: 0 | J11: 0
A12: 43685 | B12: 0 | C12: 0 | D12: 0 | E12: 0 | F12: 0 | G12: 0 | H12: 0 | I12: 0 | J12: 0
A13: 43686 | B13: 0 | C13: 0 | D13: 0 | E13: 0 | F13: 0 | G13: 0 | H13: 0 | I13: 0 | J13: 0
A14: 43687 | B14: 0 | C14: 0 | D14: 0 | E14: 0 | F14: 0 | G14: 0 | H14: 0 | I14: 0 | J14: 0
A15: 43688 | B15: 0 | C15: 0 | D15: 0 | E15: 0 | F15: 0 | G15: 0 | H15: 0 | I15: 0 | J15: 0
A16: 43689 | B16: 0 | C16: 0 | D16: 0 | E16: 0 | F16: 0 | G16: 0 | H16: 0 | I16: 0 | J16: 0
... A35: 43708 | B35: 0 | C35: 0 | D35: 0 | E35: 0 | F35: 0 | G35: 0 | H35: 0 | I35: 0 | J35: 0
A36: TOTAL | B36: =SUM(B5:B35) -> 0 | C36: =SUM(C5:C35) -> 0 | D36: =SUM(D5:D35) -> 0 | E36: =SUM(E5:E35) -> 0 | F36: =SUM(F5:F35) -> 0 | G36: =SUM(G5:G35) -> 0 | H36: =SUM(H5:H35) -> 0 | I36: =SUM(I5:I35) -> 0 | J36: =SUM(J5:J35) -> 0

Sheet SET
A1: Menu | B1: COMPRAS DE MP / SAÍDAS DE ESTOQUE - SETEMBRO
E2: //
A3: DATA | D3: ENTRADAS (Compras) | H3: SAÍDAS
B4: Nº | C4: Matéria-Prima | D4: Quantidade | F4: Nº | G4: Matéria-Prima | H4: Quantidade
A5: 43709 | B5: 1 | C5: ='Matérias-Primas'!C3 -> Farinha | D5: 0 | F5: 1 | G5: ='Matérias-Primas'!C3 -> Farinha | H5: =('Fórmulas Produção'!D5*'OP - SET'!B$35)+('Fórmulas Produção'!I5*'OP - SET'!C$35)+('Fórmulas Produção'!N5*'OP - SET'!D$35)+('Fórmulas Produção'!D23*'OP - SET'!E$35)+('Fórmulas Produção'!I23*'OP - SET'!F$35)+('Fórmulas Produção'!N23*'OP - SET'!G$35)+('Fórmulas Produção'!D41*'OP - SET'!H$35)+('Fórmulas Produção'!I41*'OP - SET'!I$35)+('Fórmulas Produção'!N41*'OP - SET'!J$35) -> 0
B6: 2 | C6: ='Matérias-Primas'!C4 -> Fermento em pó | D6: 0 | F6: 2 | G6: ='Matérias-Primas'!C4 -> Fermento em pó | H6: =('Fórmulas Produção'!D6*'OP - SET'!B$35)+('Fórmulas Produção'!I6*'OP - SET'!C$35)+('Fórmulas Produção'!N6*'OP - SET'!D$35)+('Fórmulas Produção'!D24*'OP - SET'!E$35)+('Fórmulas Produção'!I24*'OP - SET'!F$35)+('Fórmulas Produção'!N24*'OP - SET'!G$35)+('Fórmulas Produção'!D42*'OP - SET'!H$35)+('Fórmulas Produção'!I42*'OP - SET'!I$35)+('Fórmulas Produção'!N42*'OP - SET'!J$35) -> 0
B7: 3 | C7: ='Matérias-Primas'!C5 -> (Digite sua matéria-prima) | D7: 0 | F7: 3 | G7: ='Matérias-Primas'!C5 -> (Digite sua matéria-prima) | H7: =('Fórmulas Produção'!D7*'OP - SET'!B$35)+('Fórmulas Produção'!I7*'OP - SET'!C$35)+('Fórmulas Produção'!N7*'OP - SET'!D$35)+('Fórmulas Produção'!D25*'OP - SET'!E$35)+('Fórmulas Produção'!I25*'OP - SET'!F$35)+('Fórmulas Produção'!N25*'OP - SET'!G$35)+('Fórmulas Produção'!D43*'OP - SET'!H$35)+('Fórmulas Produção'!I43*'OP - SET'!I$35)+('Fórmulas Produção'!N43*'OP - SET'!J$35) -> 0
B8: 4 | C8: ='Matérias-Primas'!C6 -> (Digite sua matéria-prima) | D8: 0 | F8: 4 | G8: ='Matérias-Primas'!C6 -> (Digite sua matéria-prima) | H8: =('Fórmulas Produção'!D8*'OP - SET'!B$35)+('Fórmulas Produção'!I8*'OP - SET'!C$35)+('Fórmulas Produção'!N8*'OP - SET'!D$35)+('Fórmulas Produção'!D26*'OP - SET'!E$35)+('Fórmulas Produção'!I26*'OP - SET'!F$35)+('Fórmulas Produção'!N26*'OP - SET'!G$35)+('Fórmulas Produção'!D44*'OP - SET'!H$35)+('Fórmulas Produção'!I44*'OP - SET'!I$35)+('Fórmulas Produção'!N44*'OP - SET'!J$35) -> 0
B9: 5 | C9: ='Matérias-Primas'!C7 -> (Digite sua matéria-prima) | D9: 0 | F9: 5 | G9: ='Matérias-Primas'!C7 -> (Digite sua matéria-prima) | H9: =('Fórmulas Produção'!D9*'OP - SET'!B$35)+('Fórmulas Produção'!I9*'OP - SET'!C$35)+('Fórmulas Produção'!N9*'OP - SET'!D$35)+('Fórmulas Produção'!D27*'OP - SET'!E$35)+('Fórmulas Produção'!I27*'OP - SET'!F$35)+('Fórmulas Produção'!N27*'OP - SET'!G$35)+('Fórmulas Produção'!D45*'OP - SET'!H$35)+('Fórmulas Produção'!I45*'OP - SET'!I$35)+('Fórmulas Produção'!N45*'OP - SET'!J$35) -> 0
B10: 6 | C10: ='Matérias-Primas'!C8 -> (Digite sua matéria-prima) | D10: 0 | F10: 6 | G10: ='Matérias-Primas'!C8 -> (Digite sua matéria-prima) | H10: =('Fórmulas Produção'!D10*'OP - SET'!B$35)+('Fórmulas Produção'!I10*'OP - SET'!C$35)+('Fórmulas Produção'!N10*'OP - SET'!D$35)+('Fórmulas Produção'!D28*'OP - SET'!E$35)+('Fórmulas Produção'!I28*'OP - SET'!F$35)+('Fórmulas Produção'!N28*'OP - SET'!G$35)+('Fórmulas Produção'!D46*'OP - SET'!H$35)+('Fórmulas Produção'!I46*'OP - SET'!I$35)+('Fórmulas Produção'!N46*'OP - SET'!J$35) -> 0
B11: 7 | C11: ='Matérias-Primas'!C9 -> (Digite sua matéria-prima) | D11: 0 | F11: 7 | G11: ='Matérias-Primas'!C9 -> (Digite sua matéria-prima) | H11: =('Fórmulas Produção'!D11*'OP - SET'!B$35)+('Fórmulas Produção'!I11*'OP - SET'!C$35)+('Fórmulas Produção'!N11*'OP - SET'!D$35)+('Fórmulas Produção'!D29*'OP - SET'!E$35)+('Fórmulas Produção'!I29*'OP - SET'!F$35)+('Fórmulas Produção'!N29*'OP - SET'!G$35)+('Fórmulas Produção'!D47*'OP - SET'!H$35)+('Fórmulas Produção'!I47*'OP - SET'!I$35)+('Fórmulas Produção'!N47*'OP - SET'!J$35) -> 0
B12: 8 | C12: ='Matérias-Primas'!C10 -> (Digite sua matéria-prima) | D12: 0 | F12: 8 | G12: ='Matérias-Primas'!C10 -> (Digite sua matéria-prima) | H12: =('Fórmulas Produção'!D12*'OP - SET'!B$35)+('Fórmulas Produção'!I12*'OP - SET'!C$35)+('Fórmulas Produção'!N12*'OP - SET'!D$35)+('Fórmulas Produção'!D30*'OP - SET'!E$35)+('Fórmulas Produção'!I30*'OP - SET'!F$35)+('Fórmulas Produção'!N30*'OP - SET'!G$35)+('Fórmulas Produção'!D48*'OP - SET'!H$35)+('Fórmulas Produção'!I48*'OP - SET'!I$35)+('Fórmulas Produção'!N48*'OP - SET'!J$35) -> 0
B13: 9 | C13: ='Matérias-Primas'!C11 -> (Digite sua matéria-prima) | D13: 0 | F13: 9 | G13: ='Matérias-Primas'!C11 -> (Digite sua matéria-prima) | H13: =('Fórmulas Produção'!D13*'OP - SET'!B$35)+('Fórmulas Produção'!I13*'OP - SET'!C$35)+('Fórmulas Produção'!N13*'OP - SET'!D$35)+('Fórmulas Produção'!D31*'OP - SET'!E$35)+('Fórmulas Produção'!I31*'OP - SET'!F$35)+('Fórmulas Produção'!N31*'OP - SET'!G$35)+('Fórmulas Produção'!D49*'OP - SET'!H$35)+('Fórmulas Produção'!I49*'OP - SET'!I$35)+('Fórmulas Produção'!N49*'OP - SET'!J$35) -> 0
B14: 10 | C14: ='Matérias-Primas'!C12 -> (Digite sua matéria-prima) | D14: 0 | F14: 10 | G14: ='Matérias-Primas'!C12 -> (Digite sua matéria-prima) | H14: =('Fórmulas Produção'!D14*'OP - SET'!B$35)+('Fórmulas Produção'!I14*'OP - SET'!C$35)+('Fórmulas Produção'!N14*'OP - SET'!D$35)+('Fórmulas Produção'!D32*'OP - SET'!E$35)+('Fórmulas Produção'!I32*'OP - SET'!F$35)+('Fórmulas Produção'!N32*'OP - SET'!G$35)+('Fórmulas Produção'!D50*'OP - SET'!H$35)+('Fórmulas Produção'!I50*'OP - SET'!I$35)+('Fórmulas Produção'!N50*'OP - SET'!J$35) -> 0
B15: 11 | C15: ='Matérias-Primas'!C13 -> (Digite sua matéria-prima) | D15: 0 | F15: 11 | G15: ='Matérias-Primas'!C13 -> (Digite sua matéria-prima) | H15: =('Fórmulas Produção'!D15*'OP - SET'!B$35)+('Fórmulas Produção'!I15*'OP - SET'!C$35)+('Fórmulas Produção'!N15*'OP - SET'!D$35)+('Fórmulas Produção'!D33*'OP - SET'!E$35)+('Fórmulas Produção'!I33*'OP - SET'!F$35)+('Fórmulas Produção'!N33*'OP - SET'!G$35)+('Fórmulas Produção'!D51*'OP - SET'!H$35)+('Fórmulas Produção'!I51*'OP - SET'!I$35)+('Fórmulas Produção'!N51*'OP - SET'!J$35) -> 0
B16: 12 | C16: ='Matérias-Primas'!C14 -> (Digite sua matéria-prima) | D16: 0 | F16: 12 | G16: ='Matérias-Primas'!C14 -> (Digite sua matéria-prima) | H16: =('Fórmulas Produção'!D16*'OP - SET'!B$35)+('Fórmulas Produção'!I16*'OP - SET'!C$35)+('Fórmulas Produção'!N16*'OP - SET'!D$35)+('Fórmulas Produção'!D34*'OP - SET'!E$35)+('Fórmulas Produção'!I34*'OP - SET'!F$35)+('Fórmulas Produção'!N34*'OP - SET'!G$35)+('Fórmulas Produção'!D52*'OP - SET'!H$35)+('Fórmulas Produção'!I52*'OP - SET'!I$35)+('Fórmulas Produção'!N52*'OP - SET'!J$35) -> 0
B17: 13 | C17: ='Matérias-Primas'!C15 -> (Digite sua matéria-prima) | D17: 0 | F17: 13 | G17: ='Matérias-Primas'!C15 -> (Digite sua matéria-prima) | H17: =('Fórmulas Produção'!D17*'OP - SET'!B$35)+('Fórmulas Produção'!I17*'OP - SET'!C$35)+('Fórmulas Produção'!N17*'OP - SET'!D$35)+('Fórmulas Produção'!D35*'OP - SET'!E$35)+('Fórmulas Produção'!I35*'OP - SET'!F$35)+('Fórmulas Produção'!N35*'OP - SET'!G$35)+('Fórmulas Produção'!D53*'OP - SET'!H$35)+('Fórmulas Produção'!I53*'OP - SET'!I$35)+('Fórmulas Produção'!N53*'OP - SET'!J$35) -> 0
... B19: 15 | C19: ='Matérias-Primas'!C17 -> (Digite sua matéria-prima) | D19: 0 | F19: 15 | G19: ='Matérias-Primas'!C17 -> (Digite sua matéria-prima) | H19: =('Fórmulas Produção'!D19*'OP - SET'!B$35)+('Fórmulas Produção'!I19*'OP - SET'!C$35)+('Fórmulas Produção'!N19*'OP - SET'!D$35)+('Fórmulas Produção'!D37*'OP - SET'!E$35)+('Fórmulas Produção'!I37*'OP - SET'!F$35)+('Fórmulas Produção'!N37*'OP - SET'!G$35)+('Fórmulas Produção'!D55*'OP - SET'!H$35)+('Fórmulas Produção'!I55*'OP - SET'!I$35)+('Fórmulas Produção'!N55*'OP - SET'!J$35) -> 0

Sheet OP - SET
A1: Menu | B1: ORDENS DE PRODUÇÃO - SETEMBRO
A3: DATA | B3: Quantidade Produzida - em Unidades
B4: ='Fórmulas Produção'!B3 -> Pão Francês | C4: ='Fórmulas Produção'!G3 -> Produto 2 | D4: ='Fórmulas Produção'!L3 -> Produto 3 | E4: ='Fórmulas Produção'!B21 -> Produto 4 | F4: ='Fórmulas Produção'!G21 -> Produto 5 | G4: ='Fórmulas Produção'!L21 -> Produto 6 | H4: ='Fórmulas Produção'!B39 -> Produto 7 | I4: ='Fórmulas Produção'!G39 -> Produto 8 | J4: ='Fórmulas Produção'!L39 -> Produto 9
A5: 43709 | B5: 0 | C5: 0 | D5: 0 | E5: 0 | F5: 0 | G5: 0 | H5: 0 | I5: 0 | J5: 0
A6: 43710 | B6: 0 | C6: 0 | D6: 0 | E6: 0 | F6: 0 | G6: 0 | H6: 0 | I6: 0 | J6: 0
A7: 43711 | B7: 0 | C7: 0 | D7: 0 | E7: 0 | F7: 0 | G7: 0 | H7: 0 | I7: 0 | J7: 0
A8: 43712 | B8: 0 | C8: 0 | D8: 0 | E8: 0 | F8: 0 | G8: 0 | H8: 0 | I8: 0 | J8: 0
A9: 43713 | B9: 0 | C9: 0 | D9: 0 | E9: 0 | F9: 0 | G9: 0 | H9: 0 | I9: 0 | J9: 0
A10: 43714 | B10: 0 | C10: 0 | D10: 0 | E10: 0 | F10: 0 | G10: 0 | H10: 0 | I10: 0 | J10: 0
A11: 43715 | B11: 0 | C11: 0 | D11: 0 | E11: 0 | F11: 0 | G11: 0 | H11: 0 | I11: 0 | J11: 0
A12: 43716 | B12: 0 | C12: 0 | D12: 0 | E12: 0 | F12: 0 | G12: 0 | H12: 0 | I12: 0 | J12: 0
A13: 43717 | B13: 0 | C13: 0 | D13: 0 | E13: 0 | F13: 0 | G13: 0 | H13: 0 | I13: 0 | J13: 0
A14: 43718 | B14: 0 | C14: 0 | D14: 0 | E14: 0 | F14: 0 | G14: 0 | H14: 0 | I14: 0 | J14: 0
A15: 43719 | B15: 0 | C15: 0 | D15: 0 | E15: 0 | F15: 0 | G15: 0 | H15: 0 | I15: 0 | J15: 0
A16: 43720 | B16: 0 | C16: 0 | D16: 0 | E16: 0 | F16: 0 | G16: 0 | H16: 0 | I16: 0 | J16: 0
... A34: 43738 | B34: 0 | C34: 0 | D34: 0 | E34: 0 | F34: 0 | G34: 0 | H34: 0 | I34: 0 | J34: 0
A35: TOTAL | B35: =SUM(B5:B34) -> 0 | C35: =SUM(C5:C34) -> 0 | D35: =SUM(D5:D34) -> 0 | E35: =SUM(E5:E34) -> 0 | F35: =SUM(F5:F34) -> 0 | G35: =SUM(G5:G34) -> 0 | H35: =SUM(H5:H34) -> 0 | I35: =SUM(I5:I34) -> 0 | J35: =SUM(J5:J34) -> 0

Sheet OUT
A1: Menu | B1: COMPRAS DE MP / SAÍDAS DE ESTOQUE - OUTUBRO
E2: //
A3: DATA | D3: ENTRADAS (Compras) | H3: SAÍDAS
B4: Nº | C4: Matéria-Prima | D4: Quantidade | F4: Nº | G4: Matéria-Prima | H4: Quantidade
A5: 43739 | B5: 1 | C5: ='Matérias-Primas'!C3 -> Farinha | D5: 0 | F5: 1 | G5: ='Matérias-Primas'!C3 -> Farinha | H5: =('Fórmulas Produção'!D5*'OP - OUT'!B$36)+('Fórmulas Produção'!I5*'OP - OUT'!C$36)+('Fórmulas Produção'!N5*'OP - OUT'!D$36)+('Fórmulas Produção'!D23*'OP - OUT'!E$36)+('Fórmulas Produção'!I23*'OP - OUT'!F$36)+('Fórmulas Produção'!N23*'OP - OUT'!G$36)+('Fórmulas Produção'!D41*'OP - OUT'!H$36)+('Fórmulas Produção'!I41*'OP - OUT'!I$36)+('Fórmulas Produção'!N41*'OP - OUT'!J$36) -> 0
B6: 2 | C6: ='Matérias-Primas'!C4 -> Fermento em pó | D6: 0 | F6: 2 | G6: ='Matérias-Primas'!C4 -> Fermento em pó | H6: =('Fórmulas Produção'!D6*'OP - OUT'!B$36)+('Fórmulas Produção'!I6*'OP - OUT'!C$36)+('Fórmulas Produção'!N6*'OP - OUT'!D$36)+('Fórmulas Produção'!D24*'OP - OUT'!E$36)+('Fórmulas Produção'!I24*'OP - OUT'!F$36)+('Fórmulas Produção'!N24*'OP - OUT'!G$36)+('Fórmulas Produção'!D42*'OP - OUT'!H$36)+('Fórmulas Produção'!I42*'OP - OUT'!I$36)+('Fórmulas Produção'!N42*'OP - OUT'!J$36) -> 0
B7: 3 | C7: ='Matérias-Primas'!C5 -> (Digite sua matéria-prima) | D7: 0 | F7: 3 | G7: ='Matérias-Primas'!C5 -> (Digite sua matéria-prima) | H7: =('Fórmulas Produção'!D7*'OP - OUT'!B$36)+('Fórmulas Produção'!I7*'OP - OUT'!C$36)+('Fórmulas Produção'!N7*'OP - OUT'!D$36)+('Fórmulas Produção'!D25*'OP - OUT'!E$36)+('Fórmulas Produção'!I25*'OP - OUT'!F$36)+('Fórmulas Produção'!N25*'OP - OUT'!G$36)+('Fórmulas Produção'!D43*'OP - OUT'!H$36)+('Fórmulas Produção'!I43*'OP - OUT'!I$36)+('Fórmulas Produção'!N43*'OP - OUT'!J$36) -> 0
B8: 4 | C8: ='Matérias-Primas'!C6 -> (Digite sua matéria-prima) | D8: 0 | F8: 4 | G8: ='Matérias-Primas'!C6 -> (Digite sua matéria-prima) | H8: =('Fórmulas Produção'!D8*'OP - OUT'!B$36)+('Fórmulas Produção'!I8*'OP - OUT'!C$36)+('Fórmulas Produção'!N8*'OP - OUT'!D$36)+('Fórmulas Produção'!D26*'OP - OUT'!E$36)+('Fórmulas Produção'!I26*'OP - OUT'!F$36)+('Fórmulas Produção'!N26*'OP - OUT'!G$36)+('Fórmulas Produção'!D44*'OP - OUT'!H$36)+('Fórmulas Produção'!I44*'OP - OUT'!I$36)+('Fórmulas Produção'!N44*'OP - OUT'!J$36) -> 0
B9: 5 | C9: ='Matérias-Primas'!C7 -> (Digite sua matéria-prima) | D9: 0 | F9: 5 | G9: ='Matérias-Primas'!C7 -> (Digite sua matéria-prima) | H9: =('Fórmulas Produção'!D9*'OP - OUT'!B$36)+('Fórmulas Produção'!I9*'OP - OUT'!C$36)+('Fórmulas Produção'!N9*'OP - OUT'!D$36)+('Fórmulas Produção'!D27*'OP - OUT'!E$36)+('Fórmulas Produção'!I27*'OP - OUT'!F$36)+('Fórmulas Produção'!N27*'OP - OUT'!G$36)+('Fórmulas Produção'!D45*'OP - OUT'!H$36)+('Fórmulas Produção'!I45*'OP - OUT'!I$36)+('Fórmulas Produção'!N45*'OP - OUT'!J$36) -> 0
B10: 6 | C10: ='Matérias-Primas'!C8 -> (Digite sua matéria-prima) | D10: 0 | F10: 6 | G10: ='Matérias-Primas'!C8 -> (Digite sua matéria-prima) | H10: =('Fórmulas Produção'!D10*'OP - OUT'!B$36)+('Fórmulas Produção'!I10*'OP - OUT'!C$36)+('Fórmulas Produção'!N10*'OP - OUT'!D$36)+('Fórmulas Produção'!D28*'OP - OUT'!E$36)+('Fórmulas Produção'!I28*'OP - OUT'!F$36)+('Fórmulas Produção'!N28*'OP - OUT'!G$36)+('Fórmulas Produção'!D46*'OP - OUT'!H$36)+('Fórmulas Produção'!I46*'OP - OUT'!I$36)+('Fórmulas Produção'!N46*'OP - OUT'!J$36) -> 0
B11: 7 | C11: ='Matérias-Primas'!C9 -> (Digite sua matéria-prima) | D11: 0 | F11: 7 | G11: ='Matérias-Primas'!C9 -> (Digite sua matéria-prima) | H11: =('Fórmulas Produção'!D11*'OP - OUT'!B$36)+('Fórmulas Produção'!I11*'OP - OUT'!C$36)+('Fórmulas Produção'!N11*'OP - OUT'!D$36)+('Fórmulas Produção'!D29*'OP - OUT'!E$36)+('Fórmulas Produção'!I29*'OP - OUT'!F$36)+('Fórmulas Produção'!N29*'OP - OUT'!G$36)+('Fórmulas Produção'!D47*'OP - OUT'!H$36)+('Fórmulas Produção'!I47*'OP - OUT'!I$36)+('Fórmulas Produção'!N47*'OP - OUT'!J$36) -> 0
B12: 8 | C12: ='Matérias-Primas'!C10 -> (Digite sua matéria-prima) | D12: 0 | F12: 8 | G12: ='Matérias-Primas'!C10 -> (Digite sua matéria-prima) | H12: =('Fórmulas Produção'!D12*'OP - OUT'!B$36)+('Fórmulas Produção'!I12*'OP - OUT'!C$36)+('Fórmulas Produção'!N12*'OP - OUT'!D$36)+('Fórmulas Produção'!D30*'OP - OUT'!E$36)+('Fórmulas Produção'!I30*'OP - OUT'!F$36)+('Fórmulas Produção'!N30*'OP - OUT'!G$36)+('Fórmulas Produção'!D48*'OP - OUT'!H$36)+('Fórmulas Produção'!I48*'OP - OUT'!I$36)+('Fórmulas Produção'!N48*'OP - OUT'!J$36) -> 0
B13: 9 | C13: ='Matérias-Primas'!C11 -> (Digite sua matéria-prima) | D13: 0 | F13: 9 | G13: ='Matérias-Primas'!C11 -> (Digite sua matéria-prima) | H13: =('Fórmulas Produção'!D13*'OP - OUT'!B$36)+('Fórmulas Produção'!I13*'OP - OUT'!C$36)+('Fórmulas Produção'!N13*'OP - OUT'!D$36)+('Fórmulas Produção'!D31*'OP - OUT'!E$36)+('Fórmulas Produção'!I31*'OP - OUT'!F$36)+('Fórmulas Produção'!N31*'OP - OUT'!G$36)+('Fórmulas Produção'!D49*'OP - OUT'!H$36)+('Fórmulas Produção'!I49*'OP - OUT'!I$36)+('Fórmulas Produção'!N49*'OP - OUT'!J$36) -> 0
B14: 10 | C14: ='Matérias-Primas'!C12 -> (Digite sua matéria-prima) | D14: 0 | F14: 10 | G14: ='Matérias-Primas'!C12 -> (Digite sua matéria-prima) | H14: =('Fórmulas Produção'!D14*'OP - OUT'!B$36)+('Fórmulas Produção'!I14*'OP - OUT'!C$36)+('Fórmulas Produção'!N14*'OP - OUT'!D$36)+('Fórmulas Produção'!D32*'OP - OUT'!E$36)+('Fórmulas Produção'!I32*'OP - OUT'!F$36)+('Fórmulas Produção'!N32*'OP - OUT'!G$36)+('Fórmulas Produção'!D50*'OP - OUT'!H$36)+('Fórmulas Produção'!I50*'OP - OUT'!I$36)+('Fórmulas Produção'!N50*'OP - OUT'!J$36) -> 0
B15: 11 | C15: ='Matérias-Primas'!C13 -> (Digite sua matéria-prima) | D15: 0 | F15: 11 | G15: ='Matérias-Primas'!C13 -> (Digite sua matéria-prima) | H15: =('Fórmulas Produção'!D15*'OP - OUT'!B$36)+('Fórmulas Produção'!I15*'OP - OUT'!C$36)+('Fórmulas Produção'!N15*'OP - OUT'!D$36)+('Fórmulas Produção'!D33*'OP - OUT'!E$36)+('Fórmulas Produção'!I33*'OP - OUT'!F$36)+('Fórmulas Produção'!N33*'OP - OUT'!G$36)+('Fórmulas Produção'!D51*'OP - OUT'!H$36)+('Fórmulas Produção'!I51*'OP - OUT'!I$36)+('Fórmulas Produção'!N51*'OP - OUT'!J$36) -> 0
B16: 12 | C16: ='Matérias-Primas'!C14 -> (Digite sua matéria-prima) | D16: 0 | F16: 12 | G16: ='Matérias-Primas'!C14 -> (Digite sua matéria-prima) | H16: =('Fórmulas Produção'!D16*'OP - OUT'!B$36)+('Fórmulas Produção'!I16*'OP - OUT'!C$36)+('Fórmulas Produção'!N16*'OP - OUT'!D$36)+('Fórmulas Produção'!D34*'OP - OUT'!E$36)+('Fórmulas Produção'!I34*'OP - OUT'!F$36)+('Fórmulas Produção'!N34*'OP - OUT'!G$36)+('Fórmulas Produção'!D52*'OP - OUT'!H$36)+('Fórmulas Produção'!I52*'OP - OUT'!I$36)+('Fórmulas Produção'!N52*'OP - OUT'!J$36) -> 0
B17: 13 | C17: ='Matérias-Primas'!C15 -> (Digite sua matéria-prima) | D17: 0 | F17: 13 | G17: ='Matérias-Primas'!C15 -> (Digite sua matéria-prima) | H17: =('Fórmulas Produção'!D17*'OP - OUT'!B$36)+('Fórmulas Produção'!I17*'OP - OUT'!C$36)+('Fórmulas Produção'!N17*'OP - OUT'!D$36)+('Fórmulas Produção'!D35*'OP - OUT'!E$36)+('Fórmulas Produção'!I35*'OP - OUT'!F$36)+('Fórmulas Produção'!N35*'OP - OUT'!G$36)+('Fórmulas Produção'!D53*'OP - OUT'!H$36)+('Fórmulas Produção'!I53*'OP - OUT'!I$36)+('Fórmulas Produção'!N53*'OP - OUT'!J$36) -> 0
... B19: 15 | C19: ='Matérias-Primas'!C17 -> (Digite sua matéria-prima) | D19: 0 | F19: 15 | G19: ='Matérias-Primas'!C17 -> (Digite sua matéria-prima) | H19: =('Fórmulas Produção'!D19*'OP - OUT'!B$36)+('Fórmulas Produção'!I19*'OP - OUT'!C$36)+('Fórmulas Produção'!N19*'OP - OUT'!D$36)+('Fórmulas Produção'!D37*'OP - OUT'!E$36)+('Fórmulas Produção'!I37*'OP - OUT'!F$36)+('Fórmulas Produção'!N37*'OP - OUT'!G$36)+('Fórmulas Produção'!D55*'OP - OUT'!H$36)+('Fórmulas Produção'!I55*'OP - OUT'!I$36)+('Fórmulas Produção'!N55*'OP - OUT'!J$36) -> 0

Sheet OP - OUT
A1: Menu | B1: ORDENS DE PRODUÇÃO - OUTUBRO
A3: DATA | B3: Quantidade Produzida - em Unidades
B4: ='Fórmulas Produção'!B3 -> Pão Francês | C4: ='Fórmulas Produção'!G3 -> Produto 2 | D4: ='Fórmulas Produção'!L3 -> Produto 3 | E4: ='Fórmulas Produção'!B21 -> Produto 4 | F4: ='Fórmulas Produção'!G21 -> Produto 5 | G4: ='Fórmulas Produção'!L21 -> Produto 6 | H4: ='Fórmulas Produção'!B39 -> Produto 7 | I4: ='Fórmulas Produção'!G39 -> Produto 8 | J4: ='Fórmulas Produção'!L39 -> Produto 9
A5: 43739 | B5: 0 | C5: 0 | D5: 0 | E5: 0 | F5: 0 | G5: 0 | H5: 0 | I5: 0 | J5: 0
A6: 43740 | B6: 0 | C6: 0 | D6: 0 | E6: 0 | F6: 0 | G6: 0 | H6: 0 | I6: 0 | J6: 0
A7: 43741 | B7: 0 | C7: 0 | D7: 0 | E7: 0 | F7: 0 | G7: 0 | H7: 0 | I7: 0 | J7: 0
A8: 43742 | B8: 0 | C8: 0 | D8: 0 | E8: 0 | F8: 0 | G8: 0 | H8: 0 | I8: 0 | J8: 0
A9: 43743 | B9: 0 | C9: 0 | D9: 0 | E9: 0 | F9: 0 | G9: 0 | H9: 0 | I9: 0 | J9: 0
A10: 43744 | B10: 0 | C10: 0 | D10: 0 | E10: 0 | F10: 0 | G10: 0 | H10: 0 | I10: 0 | J10: 0
A11: 43745 | B11: 0 | C11: 0 | D11: 0 | E11: 0 | F11: 0 | G11: 0 | H11: 0 | I11: 0 | J11: 0
A12: 43746 | B12: 0 | C12: 0 | D12: 0 | E12: 0 | F12: 0 | G12: 0 | H12: 0 | I12: 0 | J12: 0
A13: 43747 | B13: 0 | C13: 0 | D13: 0 | E13: 0 | F13: 0 | G13: 0 | H13: 0 | I13: 0 | J13: 0
A14: 43748 | B14: 0 | C14: 0 | D14: 0 | E14: 0 | F14: 0 | G14: 0 | H14: 0 | I14: 0 | J14: 0
A15: 43749 | B15: 0 | C15: 0 | D15: 0 | E15: 0 | F15: 0 | G15: 0 | H15: 0 | I15: 0 | J15: 0
A16: 43750 | B16: 0 | C16: 0 | D16: 0 | E16: 0 | F16: 0 | G16: 0 | H16: 0 | I16: 0 | J16: 0
... A35: 43769 | B35: 0 | C35: 0 | D35: 0 | E35: 0 | F35: 0 | G35: 0 | H35: 0 | I35: 0 | J35: 0
A36: TOTAL | B36: =SUM(B5:B35) -> 0 | C36: =SUM(C5:C35) -> 0 | D36: =SUM(D5:D35) -> 0 | E36: =SUM(E5:E35) -> 0 | F36: =SUM(F5:F35) -> 0 | G36: =SUM(G5:G35) -> 0 | H36: =SUM(H5:H35) -> 0 | I36: =SUM(I5:I35) -> 0 | J36: =SUM(J5:J35) -> 0

Sheet NOV
A1: Menu | B1: COMPRAS DE MP / SAÍDAS DE ESTOQUE - NOVEMBRO
E2: //
A3: DATA | D3: ENTRADAS (Compras) | H3: SAÍDAS
B4: Nº | C4: Matéria-Prima | D4: Quantidade | F4: Nº | G4: Matéria-Prima | H4: Quantidade
A5: 43770 | B5: 1 | C5: ='Matérias-Primas'!C3 -> Farinha | D5: 0 | F5: 1 | G5: ='Matérias-Primas'!C3 -> Farinha | H5: =('Fórmulas Produção'!D5*'OP - NOV'!B$35)+('Fórmulas Produção'!I5*'OP - NOV'!C$35)+('Fórmulas Produção'!N5*'OP - NOV'!D$35)+('Fórmulas Produção'!D23*'OP - NOV'!E$35)+('Fórmulas Produção'!I23*'OP - NOV'!F$35)+('Fórmulas Produção'!N23*'OP - NOV'!G$35)+('Fórmulas Produção'!D41*'OP - NOV'!H$35)+('Fórmulas Produção'!I41*'OP - NOV'!I$35)+('Fórmulas Produção'!N41*'OP - NOV'!J$35) -> 0
B6: 2 | C6: ='Matérias-Primas'!C4 -> Fermento em pó | D6: 0 | F6: 2 | G6: ='Matérias-Primas'!C4 -> Fermento em pó | H6: =('Fórmulas Produção'!D6*'OP - NOV'!B$35)+('Fórmulas Produção'!I6*'OP - NOV'!C$35)+('Fórmulas Produção'!N6*'OP - NOV'!D$35)+('Fórmulas Produção'!D24*'OP - NOV'!E$35)+('Fórmulas Produção'!I24*'OP - NOV'!F$35)+('Fórmulas Produção'!N24*'OP - NOV'!G$35)+('Fórmulas Produção'!D42*'OP - NOV'!H$35)+('Fórmulas Produção'!I42*'OP - NOV'!I$35)+('Fórmulas Produção'!N42*'OP - NOV'!J$35) -> 0
B7: 3 | C7: ='Matérias-Primas'!C5 -> (Digite sua matéria-prima) | D7: 0 | F7: 3 | G7: ='Matérias-Primas'!C5 -> (Digite sua matéria-prima) | H7: =('Fórmulas Produção'!D7*'OP - NOV'!B$35)+('Fórmulas Produção'!I7*'OP - NOV'!C$35)+('Fórmulas Produção'!N7*'OP - NOV'!D$35)+('Fórmulas Produção'!D25*'OP - NOV'!E$35)+('Fórmulas Produção'!I25*'OP - NOV'!F$35)+('Fórmulas Produção'!N25*'OP - NOV'!G$35)+('Fórmulas Produção'!D43*'OP - NOV'!H$35)+('Fórmulas Produção'!I43*'OP - NOV'!I$35)+('Fórmulas Produção'!N43*'OP - NOV'!J$35) -> 0
B8: 4 | C8: ='Matérias-Primas'!C6 -> (Digite sua matéria-prima) | D8: 0 | F8: 4 | G8: ='Matérias-Primas'!C6 -> (Digite sua matéria-prima) | H8: =('Fórmulas Produção'!D8*'OP - NOV'!B$35)+('Fórmulas Produção'!I8*'OP - NOV'!C$35)+('Fórmulas Produção'!N8*'OP - NOV'!D$35)+('Fórmulas Produção'!D26*'OP - NOV'!E$35)+('Fórmulas Produção'!I26*'OP - NOV'!F$35)+('Fórmulas Produção'!N26*'OP - NOV'!G$35)+('Fórmulas Produção'!D44*'OP - NOV'!H$35)+('Fórmulas Produção'!I44*'OP - NOV'!I$35)+('Fórmulas Produção'!N44*'OP - NOV'!J$35) -> 0
B9: 5 | C9: ='Matérias-Primas'!C7 -> (Digite sua matéria-prima) | D9: 0 | F9: 5 | G9: ='Matérias-Primas'!C7 -> (Digite sua matéria-prima) | H9: =('Fórmulas Produção'!D9*'OP - NOV'!B$35)+('Fórmulas Produção'!I9*'OP - NOV'!C$35)+('Fórmulas Produção'!N9*'OP - NOV'!D$35)+('Fórmulas Produção'!D27*'OP - NOV'!E$35)+('Fórmulas Produção'!I27*'OP - NOV'!F$35)+('Fórmulas Produção'!N27*'OP - NOV'!G$35)+('Fórmulas Produção'!D45*'OP - NOV'!H$35)+('Fórmulas Produção'!I45*'OP - NOV'!I$35)+('Fórmulas Produção'!N45*'OP - NOV'!J$35) -> 0
B10: 6 | C10: ='Matérias-Primas'!C8 -> (Digite sua matéria-prima) | D10: 0 | F10: 6 | G10: ='Matérias-Primas'!C8 -> (Digite sua matéria-prima) | H10: =('Fórmulas Produção'!D10*'OP - NOV'!B$35)+('Fórmulas Produção'!I10*'OP - NOV'!C$35)+('Fórmulas Produção'!N10*'OP - NOV'!D$35)+('Fórmulas Produção'!D28*'OP - NOV'!E$35)+('Fórmulas Produção'!I28*'OP - NOV'!F$35)+('Fórmulas Produção'!N28*'OP - NOV'!G$35)+('Fórmulas Produção'!D46*'OP - NOV'!H$35)+('Fórmulas Produção'!I46*'OP - NOV'!I$35)+('Fórmulas Produção'!N46*'OP - NOV'!J$35) -> 0
B11: 7 | C11: ='Matérias-Primas'!C9 -> (Digite sua matéria-prima) | D11: 0 | F11: 7 | G11: ='Matérias-Primas'!C9 -> (Digite sua matéria-prima) | H11: =('Fórmulas Produção'!D11*'OP - NOV'!B$35)+('Fórmulas Produção'!I11*'OP - NOV'!C$35)+('Fórmulas Produção'!N11*'OP - NOV'!D$35)+('Fórmulas Produção'!D29*'OP - NOV'!E$35)+('Fórmulas Produção'!I29*'OP - NOV'!F$35)+('Fórmulas Produção'!N29*'OP - NOV'!G$35)+('Fórmulas Produção'!D47*'OP - NOV'!H$35)+('Fórmulas Produção'!I47*'OP - NOV'!I$35)+('Fórmulas Produção'!N47*'OP - NOV'!J$35) -> 0
B12: 8 | C12: ='Matérias-Primas'!C10 -> (Digite sua matéria-prima) | D12: 0 | F12: 8 | G12: ='Matérias-Primas'!C10 -> (Digite sua matéria-prima) | H12: =('Fórmulas Produção'!D12*'OP - NOV'!B$35)+('Fórmulas Produção'!I12*'OP - NOV'!C$35)+('Fórmulas Produção'!N12*'OP - NOV'!D$35)+('Fórmulas Produção'!D30*'OP - NOV'!E$35)+('Fórmulas Produção'!I30*'OP - NOV'!F$35)+('Fórmulas Produção'!N30*'OP - NOV'!G$35)+('Fórmulas Produção'!D48*'OP - NOV'!H$35)+('Fórmulas Produção'!I48*'OP - NOV'!I$35)+('Fórmulas Produção'!N48*'OP - NOV'!J$35) -> 0
B13: 9 | C13: ='Matérias-Primas'!C11 -> (Digite sua matéria-prima) | D13: 0 | F13: 9 | G13: ='Matérias-Primas'!C11 -> (Digite sua matéria-prima) | H13: =('Fórmulas Produção'!D13*'OP - NOV'!B$35)+('Fórmulas Produção'!I13*'OP - NOV'!C$35)+('Fórmulas Produção'!N13*'OP - NOV'!D$35)+('Fórmulas Produção'!D31*'OP - NOV'!E$35)+('Fórmulas Produção'!I31*'OP - NOV'!F$35)+('Fórmulas Produção'!N31*'OP - NOV'!G$35)+('Fórmulas Produção'!D49*'OP - NOV'!H$35)+('Fórmulas Produção'!I49*'OP - NOV'!I$35)+('Fórmulas Produção'!N49*'OP - NOV'!J$35) -> 0
B14: 10 | C14: ='Matérias-Primas'!C12 -> (Digite sua matéria-prima) | D14: 0 | F14: 10 | G14: ='Matérias-Primas'!C12 -> (Digite sua matéria-prima) | H14: =('Fórmulas Produção'!D14*'OP - NOV'!B$35)+('Fórmulas Produção'!I14*'OP - NOV'!C$35)+('Fórmulas Produção'!N14*'OP - NOV'!D$35)+('Fórmulas Produção'!D32*'OP - NOV'!E$35)+('Fórmulas Produção'!I32*'OP - NOV'!F$35)+('Fórmulas Produção'!N32*'OP - NOV'!G$35)+('Fórmulas Produção'!D50*'OP - NOV'!H$35)+('Fórmulas Produção'!I50*'OP - NOV'!I$35)+('Fórmulas Produção'!N50*'OP - NOV'!J$35) -> 0
B15: 11 | C15: ='Matérias-Primas'!C13 -> (Digite sua matéria-prima) | D15: 0 | F15: 11 | G15: ='Matérias-Primas'!C13 -> (Digite sua matéria-prima) | H15: =('Fórmulas Produção'!D15*'OP - NOV'!B$35)+('Fórmulas Produção'!I15*'OP - NOV'!C$35)+('Fórmulas Produção'!N15*'OP - NOV'!D$35)+('Fórmulas Produção'!D33*'OP - NOV'!E$35)+('Fórmulas Produção'!I33*'OP - NOV'!F$35)+('Fórmulas Produção'!N33*'OP - NOV'!G$35)+('Fórmulas Produção'!D51*'OP - NOV'!H$35)+('Fórmulas Produção'!I51*'OP - NOV'!I$35)+('Fórmulas Produção'!N51*'OP - NOV'!J$35) -> 0
B16: 12 | C16: ='Matérias-Primas'!C14 -> (Digite sua matéria-prima) | D16: 0 | F16: 12 | G16: ='Matérias-Primas'!C14 -> (Digite sua matéria-prima) | H16: =('Fórmulas Produção'!D16*'OP - NOV'!B$35)+('Fórmulas Produção'!I16*'OP - NOV'!C$35)+('Fórmulas Produção'!N16*'OP - NOV'!D$35)+('Fórmulas Produção'!D34*'OP - NOV'!E$35)+('Fórmulas Produção'!I34*'OP - NOV'!F$35)+('Fórmulas Produção'!N34*'OP - NOV'!G$35)+('Fórmulas Produção'!D52*'OP - NOV'!H$35)+('Fórmulas Produção'!I52*'OP - NOV'!I$35)+('Fórmulas Produção'!N52*'OP - NOV'!J$35) -> 0
B17: 13 | C17: ='Matérias-Primas'!C15 -> (Digite sua matéria-prima) | D17: 0 | F17: 13 | G17: ='Matérias-Primas'!C15 -> (Digite sua matéria-prima) | H17: =('Fórmulas Produção'!D17*'OP - NOV'!B$35)+('Fórmulas Produção'!I17*'OP - NOV'!C$35)+('Fórmulas Produção'!N17*'OP - NOV'!D$35)+('Fórmulas Produção'!D35*'OP - NOV'!E$35)+('Fórmulas Produção'!I35*'OP - NOV'!F$35)+('Fórmulas Produção'!N35*'OP - NOV'!G$35)+('Fórmulas Produção'!D53*'OP - NOV'!H$35)+('Fórmulas Produção'!I53*'OP - NOV'!I$35)+('Fórmulas Produção'!N53*'OP - NOV'!J$35) -> 0
... B19: 15 | C19: ='Matérias-Primas'!C17 -> (Digite sua matéria-prima) | D19: 0 | F19: 15 | G19: ='Matérias-Primas'!C17 -> (Digite sua matéria-prima) | H19: =('Fórmulas Produção'!D19*'OP - NOV'!B$35)+('Fórmulas Produção'!I19*'OP - NOV'!C$35)+('Fórmulas Produção'!N19*'OP - NOV'!D$35)+('Fórmulas Produção'!D37*'OP - NOV'!E$35)+('Fórmulas Produção'!I37*'OP - NOV'!F$35)+('Fórmulas Produção'!N37*'OP - NOV'!G$35)+('Fórmulas Produção'!D55*'OP - NOV'!H$35)+('Fórmulas Produção'!I55*'OP - NOV'!I$35)+('Fórmulas Produção'!N55*'OP - NOV'!J$35) -> 0

Sheet OP - NOV
A1: Menu | B1: ORDENS DE PRODUÇÃO - NOVEMBRO
A3: DATA | B3: Quantidade Produzida - em Unidades
B4: ='Fórmulas Produção'!B3 -> Pão Francês | C4: ='Fórmulas Produção'!G3 -> Produto 2 | D4: ='Fórmulas Produção'!L3 -> Produto 3 | E4: ='Fórmulas Produção'!B21 -> Produto 4 | F4: ='Fórmulas Produção'!G21 -> Produto 5 | G4: ='Fórmulas Produção'!L21 -> Produto 6 | H4: ='Fórmulas Produção'!B39 -> Produto 7 | I4: ='Fórmulas Produção'!G39 -> Produto 8 | J4: ='Fórmulas Produção'!L39 -> Produto 9
A5: 43770 | B5: 0 | C5: 0 | D5: 0 | E5: 0 | F5: 0 | G5: 0 | H5: 0 | I5: 0 | J5: 0
A6: 43771 | B6: 0 | C6: 0 | D6: 0 | E6: 0 | F6: 0 | G6: 0 | H6: 0 | I6: 0 | J6: 0
A7: 43772 | B7: 0 | C7: 0 | D7: 0 | E7: 0 | F7: 0 | G7: 0 | H7: 0 | I7: 0 | J7: 0
A8: 43773 | B8: 0 | C8: 0 | D8: 0 | E8: 0 | F8: 0 | G8: 0 | H8: 0 | I8: 0 | J8: 0
A9: 43774 | B9: 0 | C9: 0 | D9: 0 | E9: 0 | F9: 0 | G9: 0 | H9: 0 | I9: 0 | J9: 0
A10: 43775 | B10: 0 | C10: 0 | D10: 0 | E10: 0 | F10: 0 | G10: 0 | H10: 0 | I10: 0 | J10: 0
A11: 43776 | B11: 0 | C11: 0 | D11: 0 | E11: 0 | F11: 0 | G11: 0 | H11: 0 | I11: 0 | J11: 0
A12: 43777 | B12: 0 | C12: 0 | D12: 0 | E12: 0 | F12: 0 | G12: 0 | H12: 0 | I12: 0 | J12: 0
A13: 43778 | B13: 0 | C13: 0 | D13: 0 | E13: 0 | F13: 0 | G13: 0 | H13: 0 | I13: 0 | J13: 0
A14: 43779 | B14: 0 | C14: 0 | D14: 0 | E14: 0 | F14: 0 | G14: 0 | H14: 0 | I14: 0 | J14: 0
A15: 43780 | B15: 0 | C15: 0 | D15: 0 | E15: 0 | F15: 0 | G15: 0 | H15: 0 | I15: 0 | J15: 0
A16: 43781 | B16: 0 | C16: 0 | D16: 0 | E16: 0 | F16: 0 | G16: 0 | H16: 0 | I16: 0 | J16: 0
... A34: 43799 | B34: 0 | C34: 0 | D34: 0 | E34: 0 | F34: 0 | G34: 0 | H34: 0 | I34: 0 | J34: 0
A35: TOTAL | B35: =SUM(B5:B34) -> 0 | C35: =SUM(C5:C34) -> 0 | D35: =SUM(D5:D34) -> 0 | E35: =SUM(E5:E34) -> 0 | F35: =SUM(F5:F34) -> 0 | G35: =SUM(G5:G34) -> 0 | H35: =SUM(H5:H34) -> 0 | I35: =SUM(I5:I34) -> 0 | J35: =SUM(J5:J34) -> 0

Sheet DEZ
A1: Menu | B1: COMPRAS DE MP / SAÍDAS DE ESTOQUE - DEZEMBRO
E2: //
A3: DATA | D3: ENTRADAS (Compras) | H3: SAÍDAS
B4: Nº | C4: Matéria-Prima | D4: Quantidade | F4: Nº | G4: Matéria-Prima | H4: Quantidade
A5: 43800 | B5: 1 | C5: ='Matérias-Primas'!C3 -> Farinha | D5: 0 | F5: 1 | G5: ='Matérias-Primas'!C3 -> Farinha | H5: =('Fórmulas Produção'!D5*'OP - DEZ'!B$36)+('Fórmulas Produção'!I5*'OP - DEZ'!C$36)+('Fórmulas Produção'!N5*'OP - DEZ'!D$36)+('Fórmulas Produção'!D23*'OP - DEZ'!E$36)+('Fórmulas Produção'!I23*'OP - DEZ'!F$36)+('Fórmulas Produção'!N23*'OP - DEZ'!G$36)+('Fórmulas Produção'!D41*'OP - DEZ'!H$36)+('Fórmulas Produção'!I41*'OP - DEZ'!I$36)+('Fórmulas Produção'!N41*'OP - DEZ'!J$36) -> 0
B6: 2 | C6: ='Matérias-Primas'!C4 -> Fermento em pó | D6: 0 | F6: 2 | G6: ='Matérias-Primas'!C4 -> Fermento em pó | H6: =('Fórmulas Produção'!D6*'OP - DEZ'!B$36)+('Fórmulas Produção'!I6*'OP - DEZ'!C$36)+('Fórmulas Produção'!N6*'OP - DEZ'!D$36)+('Fórmulas Produção'!D24*'OP - DEZ'!E$36)+('Fórmulas Produção'!I24*'OP - DEZ'!F$36)+('Fórmulas Produção'!N24*'OP - DEZ'!G$36)+('Fórmulas Produção'!D42*'OP - DEZ'!H$36)+('Fórmulas Produção'!I42*'OP - DEZ'!I$36)+('Fórmulas Produção'!N42*'OP - DEZ'!J$36) -> 0
B7: 3 | C7: ='Matérias-Primas'!C5 -> (Digite sua matéria-prima) | D7: 0 | F7: 3 | G7: ='Matérias-Primas'!C5 -> (Digite sua matéria-prima) | H7: =('Fórmulas Produção'!D7*'OP - DEZ'!B$36)+('Fórmulas Produção'!I7*'OP - DEZ'!C$36)+('Fórmulas Produção'!N7*'OP - DEZ'!D$36)+('Fórmulas Produção'!D25*'OP - DEZ'!E$36)+('Fórmulas Produção'!I25*'OP - DEZ'!F$36)+('Fórmulas Produção'!N25*'OP - DEZ'!G$36)+('Fórmulas Produção'!D43*'OP - DEZ'!H$36)+('Fórmulas Produção'!I43*'OP - DEZ'!I$36)+('Fórmulas Produção'!N43*'OP - DEZ'!J$36) -> 0
B8: 4 | C8: ='Matérias-Primas'!C6 -> (Digite sua matéria-prima) | D8: 0 | F8: 4 | G8: ='Matérias-Primas'!C6 -> (Digite sua matéria-prima) | H8: =('Fórmulas Produção'!D8*'OP - DEZ'!B$36)+('Fórmulas Produção'!I8*'OP - DEZ'!C$36)+('Fórmulas Produção'!N8*'OP - DEZ'!D$36)+('Fórmulas Produção'!D26*'OP - DEZ'!E$36)+('Fórmulas Produção'!I26*'OP - DEZ'!F$36)+('Fórmulas Produção'!N26*'OP - DEZ'!G$36)+('Fórmulas Produção'!D44*'OP - DEZ'!H$36)+('Fórmulas Produção'!I44*'OP - DEZ'!I$36)+('Fórmulas Produção'!N44*'OP - DEZ'!J$36) -> 0
B9: 5 | C9: ='Matérias-Primas'!C7 -> (Digite sua matéria-prima) | D9: 0 | F9: 5 | G9: ='Matérias-Primas'!C7 -> (Digite sua matéria-prima) | H9: =('Fórmulas Produção'!D9*'OP - DEZ'!B$36)+('Fórmulas Produção'!I9*'OP - DEZ'!C$36)+('Fórmulas Produção'!N9*'OP - DEZ'!D$36)+('Fórmulas Produção'!D27*'OP - DEZ'!E$36)+('Fórmulas Produção'!I27*'OP - DEZ'!F$36)+('Fórmulas Produção'!N27*'OP - DEZ'!G$36)+('Fórmulas Produção'!D45*'OP - DEZ'!H$36)+('Fórmulas Produção'!I45*'OP - DEZ'!I$36)+('Fórmulas Produção'!N45*'OP - DEZ'!J$36) -> 0
B10: 6 | C10: ='Matérias-Primas'!C8 -> (Digite sua matéria-prima) | D10: 0 | F10: 6 | G10: ='Matérias-Primas'!C8 -> (Digite sua matéria-prima) | H10: =('Fórmulas Produção'!D10*'OP - DEZ'!B$36)+('Fórmulas Produção'!I10*'OP - DEZ'!C$36)+('Fórmulas Produção'!N10*'OP - DEZ'!D$36)+('Fórmulas Produção'!D28*'OP - DEZ'!E$36)+('Fórmulas Produção'!I28*'OP - DEZ'!F$36)+('Fórmulas Produção'!N28*'OP - DEZ'!G$36)+('Fórmulas Produção'!D46*'OP - DEZ'!H$36)+('Fórmulas Produção'!I46*'OP - DEZ'!I$36)+('Fórmulas Produção'!N46*'OP - DEZ'!J$36) -> 0
B11: 7 | C11: ='Matérias-Primas'!C9 -> (Digite sua matéria-prima) | D11: 0 | F11: 7 | G11: ='Matérias-Primas'!C9 -> (Digite sua matéria-prima) | H11: =('Fórmulas Produção'!D11*'OP - DEZ'!B$36)+('Fórmulas Produção'!I11*'OP - DEZ'!C$36)+('Fórmulas Produção'!N11*'OP - DEZ'!D$36)+('Fórmulas Produção'!D29*'OP - DEZ'!E$36)+('Fórmulas Produção'!I29*'OP - DEZ'!F$36)+('Fórmulas Produção'!N29*'OP - DEZ'!G$36)+('Fórmulas Produção'!D47*'OP - DEZ'!H$36)+('Fórmulas Produção'!I47*'OP - DEZ'!I$36)+('Fórmulas Produção'!N47*'OP - DEZ'!J$36) -> 0
B12: 8 | C12: ='Matérias-Primas'!C10 -> (Digite sua matéria-prima) | D12: 0 | F12: 8 | G12: ='Matérias-Primas'!C10 -> (Digite sua matéria-prima) | H12: =('Fórmulas Produção'!D12*'OP - DEZ'!B$36)+('Fórmulas Produção'!I12*'OP - DEZ'!C$36)+('Fórmulas Produção'!N12*'OP - DEZ'!D$36)+('Fórmulas Produção'!D30*'OP - DEZ'!E$36)+('Fórmulas Produção'!I30*'OP - DEZ'!F$36)+('Fórmulas Produção'!N30*'OP - DEZ'!G$36)+('Fórmulas Produção'!D48*'OP - DEZ'!H$36)+('Fórmulas Produção'!I48*'OP - DEZ'!I$36)+('Fórmulas Produção'!N48*'OP - DEZ'!J$36) -> 0
B13: 9 | C13: ='Matérias-Primas'!C11 -> (Digite sua matéria-prima) | D13: 0 | F13: 9 | G13: ='Matérias-Primas'!C11 -> (Digite sua matéria-prima) | H13: =('Fórmulas Produção'!D13*'OP - DEZ'!B$36)+('Fórmulas Produção'!I13*'OP - DEZ'!C$36)+('Fórmulas Produção'!N13*'OP - DEZ'!D$36)+('Fórmulas Produção'!D31*'OP - DEZ'!E$36)+('Fórmulas Produção'!I31*'OP - DEZ'!F$36)+('Fórmulas Produção'!N31*'OP - DEZ'!G$36)+('Fórmulas Produção'!D49*'OP - DEZ'!H$36)+('Fórmulas Produção'!I49*'OP - DEZ'!I$36)+('Fórmulas Produção'!N49*'OP - DEZ'!J$36) -> 0
B14: 10 | C14: ='Matérias-Primas'!C12 -> (Digite sua matéria-prima) | D14: 0 | F14: 10 | G14: ='Matérias-Primas'!C12 -> (Digite sua matéria-prima) | H14: =('Fórmulas Produção'!D14*'OP - DEZ'!B$36)+('Fórmulas Produção'!I14*'OP - DEZ'!C$36)+('Fórmulas Produção'!N14*'OP - DEZ'!D$36)+('Fórmulas Produção'!D32*'OP - DEZ'!E$36)+('Fórmulas Produção'!I32*'OP - DEZ'!F$36)+('Fórmulas Produção'!N32*'OP - DEZ'!G$36)+('Fórmulas Produção'!D50*'OP - DEZ'!H$36)+('Fórmulas Produção'!I50*'OP - DEZ'!I$36)+('Fórmulas Produção'!N50*'OP - DEZ'!J$36) -> 0
B15: 11 | C15: ='Matérias-Primas'!C13 -> (Digite sua matéria-prima) | D15: 0 | F15: 11 | G15: ='Matérias-Primas'!C13 -> (Digite sua matéria-prima) | H15: =('Fórmulas Produção'!D15*'OP - DEZ'!B$36)+('Fórmulas Produção'!I15*'OP - DEZ'!C$36)+('Fórmulas Produção'!N15*'OP - DEZ'!D$36)+('Fórmulas Produção'!D33*'OP - DEZ'!E$36)+('Fórmulas Produção'!I33*'OP - DEZ'!F$36)+('Fórmulas Produção'!N33*'OP - DEZ'!G$36)+('Fórmulas Produção'!D51*'OP - DEZ'!H$36)+('Fórmulas Produção'!I51*'OP - DEZ'!I$36)+('Fórmulas Produção'!N51*'OP - DEZ'!J$36) -> 0
B16: 12 | C16: ='Matérias-Primas'!C14 -> (Digite sua matéria-prima) | D16: 0 | F16: 12 | G16: ='Matérias-Primas'!C14 -> (Digite sua matéria-prima) | H16: =('Fórmulas Produção'!D16*'OP - DEZ'!B$36)+('Fórmulas Produção'!I16*'OP - DEZ'!C$36)+('Fórmulas Produção'!N16*'OP - DEZ'!D$36)+('Fórmulas Produção'!D34*'OP - DEZ'!E$36)+('Fórmulas Produção'!I34*'OP - DEZ'!F$36)+('Fórmulas Produção'!N34*'OP - DEZ'!G$36)+('Fórmulas Produção'!D52*'OP - DEZ'!H$36)+('Fórmulas Produção'!I52*'OP - DEZ'!I$36)+('Fórmulas Produção'!N52*'OP - DEZ'!J$36) -> 0
B17: 13 | C17: ='Matérias-Primas'!C15 -> (Digite sua matéria-prima) | D17: 0 | F17: 13 | G17: ='Matérias-Primas'!C15 -> (Digite sua matéria-prima) | H17: =('Fórmulas Produção'!D17*'OP - DEZ'!B$36)+('Fórmulas Produção'!I17*'OP - DEZ'!C$36)+('Fórmulas Produção'!N17*'OP - DEZ'!D$36)+('Fórmulas Produção'!D35*'OP - DEZ'!E$36)+('Fórmulas Produção'!I35*'OP - DEZ'!F$36)+('Fórmulas Produção'!N35*'OP - DEZ'!G$36)+('Fórmulas Produção'!D53*'OP - DEZ'!H$36)+('Fórmulas Produção'!I53*'OP - DEZ'!I$36)+('Fórmulas Produção'!N53*'OP - DEZ'!J$36) -> 0
... B19: 15 | C19: ='Matérias-Primas'!C17 -> (Digite sua matéria-prima) | D19: 0 | F19: 15 | G19: ='Matérias-Primas'!C17 -> (Digite sua matéria-prima) | H19: =('Fórmulas Produção'!D19*'OP - DEZ'!B$36)+('Fórmulas Produção'!I19*'OP - DEZ'!C$36)+('Fórmulas Produção'!N19*'OP - DEZ'!D$36)+('Fórmulas Produção'!D37*'OP - DEZ'!E$36)+('Fórmulas Produção'!I37*'OP - DEZ'!F$36)+('Fórmulas Produção'!N37*'OP - DEZ'!G$36)+('Fórmulas Produção'!D55*'OP - DEZ'!H$36)+('Fórmulas Produção'!I55*'OP - DEZ'!I$36)+('Fórmulas Produção'!N55*'OP - DEZ'!J$36) -> 0

Sheet OP - DEZ
A1: Menu | B1: ORDENS DE PRODUÇÃO - DEZEMBRO
A3: DATA | B3: Quantidade Produzida - em Unidades
B4: ='Fórmulas Produção'!B3 -> Pão Francês | C4: ='Fórmulas Produção'!G3 -> Produto 2 | D4: ='Fórmulas Produção'!L3 -> Produto 3 | E4: ='Fórmulas Produção'!B21 -> Produto 4 | F4: ='Fórmulas Produção'!G21 -> Produto 5 | G4: ='Fórmulas Produção'!L21 -> Produto 6 | H4: ='Fórmulas Produção'!B39 -> Produto 7 | I4: ='Fórmulas Produção'!G39 -> Produto 8 | J4: ='Fórmulas Produção'!L39 -> Produto 9
A5: 43800 | B5: 0 | C5: 0 | D5: 0 | E5: 0 | F5: 0 | G5: 0 | H5: 0 | I5: 0 | J5: 0
A6: 43801 | B6: 0 | C6: 0 | D6: 0 | E6: 0 | F6: 0 | G6: 0 | H6: 0 | I6: 0 | J6: 0
A7: 43802 | B7: 0 | C7: 0 | D7: 0 | E7: 0 | F7: 0 | G7: 0 | H7: 0 | I7: 0 | J7: 0
A8: 43803 | B8: 0 | C8: 0 | D8: 0 | E8: 0 | F8: 0 | G8: 0 | H8: 0 | I8: 0 | J8: 0
A9: 43804 | B9: 0 | C9: 0 | D9: 0 | E9: 0 | F9: 0 | G9: 0 | H9: 0 | I9: 0 | J9: 0
A10: 43805 | B10: 0 | C10: 0 | D10: 0 | E10: 0 | F10: 0 | G10: 0 | H10: 0 | I10: 0 | J10: 0
A11: 43806 | B11: 0 | C11: 0 | D11: 0 | E11: 0 | F11: 0 | G11: 0 | H11: 0 | I11: 0 | J11: 0
A12: 43807 | B12: 0 | C12: 0 | D12: 0 | E12: 0 | F12: 0 | G12: 0 | H12: 0 | I12: 0 | J12: 0
A13: 43808 | B13: 0 | C13: 0 | D13: 0 | E13: 0 | F13: 0 | G13: 0 | H13: 0 | I13: 0 | J13: 0
A14: 43809 | B14: 0 | C14: 0 | D14: 0 | E14: 0 | F14: 0 | G14: 0 | H14: 0 | I14: 0 | J14: 0
A15: 43810 | B15: 0 | C15: 0 | D15: 0 | E15: 0 | F15: 0 | G15: 0 | H15: 0 | I15: 0 | J15: 0
A16: 43811 | B16: 0 | C16: 0 | D16: 0 | E16: 0 | F16: 0 | G16: 0 | H16: 0 | I16: 0 | J16: 0
... A35: 43830 | B35: 0 | C35: 0 | D35: 0 | E35: 0 | F35: 0 | G35: 0 | H35: 0 | I35: 0 | J35: 0
A36: TOTAL | B36: =SUM(B5:B35) -> 0 | C36: =SUM(C5:C35) -> 0 | D36: =SUM(D5:D35) -> 0 | E36: =SUM(E5:E35) -> 0 | F36: =SUM(F5:F35) -> 0 | G36: =SUM(G5:G35) -> 0 | H36: =SUM(H5:H35) -> 0 | I36: =SUM(I5:I35) -> 0 | J36: =SUM(J5:J35) -> 0

Sheet Estoque MP
A1: Menu | B1: ESTOQUE DAS MATÉRIAS-PRIMAS POR MÊS
A2: Matéria-Prima | B2: SALDO MP - UNIFICADO
B3: Janeiro | C3: Fevereiro | D3: Março | E3: Abril | F3: Maio | G3: Junho | H3: Julho | I3: Agosto | J3: Setembro | K3: Outubro | L3: Novembro | M3: Dezembro
A4: ='Matérias-Primas'!C3 -> Farinha | B4: =B22-B40 -> 9.52 | C4: =(C22-C40)+B4 -> 9.16 | D4: =(D22-D40)+C4 -> 9.16 | E4: =(E22-E40)+D4 -> 9.16 | F4: =(F22-F40)+E4 -> 9.16 | G4: =(G22-G40)+F4 -> 9.16 | H4: =(H22-H40)+G4 -> 9.16 | I4: =(I22-I40)+H4 -> 9.16 | J4: =(J22-J40)+I4 -> 9.16 | ... M4: =(M22-M40)+L4 -> 9.16
A5: ='Matérias-Primas'!C4 -> Fermento em pó | B5: =B23-B41 -> 740 | C5: =(C23-C41)+B5 -> 695 | D5: =(D23-D41)+C5 -> 695 | E5: =(E23-E41)+D5 -> 695 | F5: =(F23-F41)+E5 -> 695 | G5: =(G23-G41)+F5 -> 695 | H5: =(H23-H41)+G5 -> 695 | I5: =(I23-I41)+H5 -> 695 | J5: =(J23-J41)+I5 -> 695 | ... M5: =(M23-M41)+L5 -> 695
A6: ='Matérias-Primas'!C5 -> (Digite sua matéria-prima) | B6: =B24-B42 -> 0 | C6: =(C24-C42)+B6 -> 0 | D6: =(D24-D42)+C6 -> 0 | E6: =(E24-E42)+D6 -> 0 | F6: =(F24-F42)+E6 -> 0 | G6: =(G24-G42)+F6 -> 0 | H6: =(H24-H42)+G6 -> 0 | I6: =(I24-I42)+H6 -> 0 | J6: =(J24-J42)+I6 -> 0 | ... M6: =(M24-M42)+L6 -> 0
A7: ='Matérias-Primas'!C6 -> (Digite sua matéria-prima) | B7: =B25-B43 -> 0 | C7: =(C25-C43)+B7 -> 0 | D7: =(D25-D43)+C7 -> 0 | E7: =(E25-E43)+D7 -> 0 | F7: =(F25-F43)+E7 -> 0 | G7: =(G25-G43)+F7 -> 0 | H7: =(H25-H43)+G7 -> 0 | I7: =(I25-I43)+H7 -> 0 | J7: =(J25-J43)+I7 -> 0 | ... M7: =(M25-M43)+L7 -> 0
A8: ='Matérias-Primas'!C7 -> (Digite sua matéria-prima) | B8: =B26-B44 -> 0 | C8: =(C26-C44)+B8 -> 0 | D8: =(D26-D44)+C8 -> 0 | E8: =(E26-E44)+D8 -> 0 | F8: =(F26-F44)+E8 -> 0 | G8: =(G26-G44)+F8 -> 0 | H8: =(H26-H44)+G8 -> 0 | I8: =(I26-I44)+H8 -> 0 | J8: =(J26-J44)+I8 -> 0 | ... M8: =(M26-M44)+L8 -> 0
A9: ='Matérias-Primas'!C8 -> (Digite sua matéria-prima) | B9: =B27-B45 -> 0 | C9: =(C27-C45)+B9 -> 0 | D9: =(D27-D45)+C9 -> 0 | E9: =(E27-E45)+D9 -> 0 | F9: =(F27-F45)+E9 -> 0 | G9: =(G27-G45)+F9 -> 0 | H9: =(H27-H45)+G9 -> 0 | I9: =(I27-I45)+H9 -> 0 | J9: =(J27-J45)+I9 -> 0 | ... M9: =(M27-M45)+L9 -> 0
A10: ='Matérias-Primas'!C9 -> (Digite sua matéria-prima) | B10: =B28-B46 -> 0 | C10: =(C28-C46)+B10 -> 0 | D10: =(D28-D46)+C10 -> 0 | E10: =(E28-E46)+D10 -> 0 | F10: =(F28-F46)+E10 -> 0 | G10: =(G28-G46)+F10 -> 0 | H10: =(H28-H46)+G10 -> 0 | I10: =(I28-I46)+H10 -> 0 | J10: =(J28-J46)+I10 -> 0 | ... M10: =(M28-M46)+L10 -> 0
A11: ='Matérias-Primas'!C10 -> (Digite sua matéria-prima) | B11: =B29-B47 -> 0 | C11: =(C29-C47)+B11 -> 0 | D11: =(D29-D47)+C11 -> 0 | E11: =(E29-E47)+D11 -> 0 | F11: =(F29-F47)+E11 -> 0 | G11: =(G29-G47)+F11 -> 0 | H11: =(H29-H47)+G11 -> 0 | I11: =(I29-I47)+H11 -> 0 | J11: =(J29-J47)+I11 -> 0 | ... M11: =(M29-M47)+L11 -> 0
A12: ='Matérias-Primas'!C11 -> (Digite sua matéria-prima) | B12: =B30-B48 -> 0 | C12: =(C30-C48)+B12 -> 0 | D12: =(D30-D48)+C12 -> 0 | E12: =(E30-E48)+D12 -> 0 | F12: =(F30-F48)+E12 -> 0 | G12: =(G30-G48)+F12 -> 0 | H12: =(H30-H48)+G12 -> 0 | I12: =(I30-I48)+H12 -> 0 | J12: =(J30-J48)+I12 -> 0 | ... M12: =(M30-M48)+L12 -> 0
A13: ='Matérias-Primas'!C12 -> (Digite sua matéria-prima) | B13: =B31-B49 -> 0 | C13: =(C31-C49)+B13 -> 0 | D13: =(D31-D49)+C13 -> 0 | E13: =(E31-E49)+D13 -> 0 | F13: =(F31-F49)+E13 -> 0 | G13: =(G31-G49)+F13 -> 0 | H13: =(H31-H49)+G13 -> 0 | I13: =(I31-I49)+H13 -> 0 | J13: =(J31-J49)+I13 -> 0 | ... M13: =(M31-M49)+L13 -> 0
A14: ='Matérias-Primas'!C13 -> (Digite sua matéria-prima) | B14: =B32-B50 -> 0 | C14: =(C32-C50)+B14 -> 0 | D14: =(D32-D50)+C14 -> 0 | E14: =(E32-E50)+D14 -> 0 | F14: =(F32-F50)+E14 -> 0 | G14: =(G32-G50)+F14 -> 0 | H14: =(H32-H50)+G14 -> 0 | I14: =(I32-I50)+H14 -> 0 | J14: =(J32-J50)+I14 -> 0 | ... M14: =(M32-M50)+L14 -> 0
A15: ='Matérias-Primas'!C14 -> (Digite sua matéria-prima) | B15: =B33-B51 -> 0 | C15: =(C33-C51)+B15 -> 0 | D15: =(D33-D51)+C15 -> 0 | E15: =(E33-E51)+D15 -> 0 | F15: =(F33-F51)+E15 -> 0 | G15: =(G33-G51)+F15 -> 0 | H15: =(H33-H51)+G15 -> 0 | I15: =(I33-I51)+H15 -> 0 | J15: =(J33-J51)+I15 -> 0 | ... M15: =(M33-M51)+L15 -> 0
... A18: ='Matérias-Primas'!C17 -> (Digite sua matéria-prima) | B18: =B36-B54 -> 0 | C18: =(C36-C54)+B18 -> 0 | D18: =(D36-D54)+C18 -> 0 | E18: =(E36-E54)+D18 -> 0 | F18: =(F36-F54)+E18 -> 0 | G18: =(G36-G54)+F18 -> 0 | H18: =(H36-H54)+G18 -> 0 | I18: =(I36-I54)+H18 -> 0 | J18: =(J36-J54)+I18 -> 0 | ... M18: =(M36-M54)+L18 -> 0
A20: Matéria-Prima | B20: ENTRADAS DE MP - UNIFICADO
B21: Janeiro | C21: Fevereiro | D21: Março | E21: Abril | F21: Maio | G21: Junho | H21: Julho | I21: Agosto | J21: Setembro | K21: Outubro | L21: Novembro | M21: Dezembro
A22: ='Matérias-Primas'!C3 -> Farinha | B22: =JAN!D5 -> 10 | C22: =FEV!D5 -> 0 | D22: =MAR!D5 -> 0 | E22: =ABR!D5 -> 0 | F22: =MAI!D5 -> 0 | G22: =JUN!D5 -> 0 | H22: =JUL!D5 -> 0 | I22: =AGO!D5 -> 0 | J22: =SET!D5 -> 0 | K22: =OUT!D5 -> 0 | L22: =NOV!D5 -> 0 | M22: =DEZ!D5 -> 0
A23: ='Matérias-Primas'!C4 -> Fermento em pó | B23: =JAN!D6 -> 800 | C23: =FEV!D6 -> 0 | D23: =MAR!D6 -> 0 | E23: =ABR!D6 -> 0 | F23: =MAI!D6 -> 0 | G23: =JUN!D6 -> 0 | H23: =JUL!D6 -> 0 | I23: =AGO!D6 -> 0 | J23: =SET!D6 -> 0 | K23: =OUT!D6 -> 0 | L23: =NOV!D6 -> 0 | M23: =DEZ!D6 -> 0
A24: ='Matérias-Primas'!C5 -> (Digite sua matéria-prima) | B24: =JAN!D7 -> 0 | C24: =FEV!D7 -> 0 | D24: =MAR!D7 -> 0 | E24: =ABR!D7 -> 0 | F24: =MAI!D7 -> 0 | G24: =JUN!D7 -> 0 | H24: =JUL!D7 -> 0 | I24: =AGO!D7 -> 0 | J24: =SET!D7 -> 0 | K24: =OUT!D7 -> 0 | L24: =NOV!D7 -> 0 | M24: =DEZ!D7 -> 0
A25: ='Matérias-Primas'!C6 -> (Digite sua matéria-prima) | B25: =JAN!D8 -> 0 | C25: =FEV!D8 -> 0 | D25: =MAR!D8 -> 0 | E25: =ABR!D8 -> 0 | F25: =MAI!D8 -> 0 | G25: =JUN!D8 -> 0 | H25: =JUL!D8 -> 0 | I25: =AGO!D8 -> 0 | J25: =SET!D8 -> 0 | K25: =OUT!D8 -> 0 | L25: =NOV!D8 -> 0 | M25: =DEZ!D8 -> 0
A26: ='Matérias-Primas'!C7 -> (Digite sua matéria-prima) | B26: =JAN!D9 -> 0 | C26: =FEV!D9 -> 0 | D26: =MAR!D9 -> 0 | E26: =ABR!D9 -> 0 | F26: =MAI!D9 -> 0 | G26: =JUN!D9 -> 0 | H26: =JUL!D9 -> 0 | I26: =AGO!D9 -> 0 | J26: =SET!D9 -> 0 | K26: =OUT!D9 -> 0 | L26: =NOV!D9 -> 0 | M26: =DEZ!D9 -> 0
A27: ='Matérias-Primas'!C8 -> (Digite sua matéria-prima) | B27: =JAN!D10 -> 0 | C27: =FEV!D10 -> 0 | D27: =MAR!D10 -> 0 | E27: =ABR!D10 -> 0 | F27: =MAI!D10 -> 0 | G27: =JUN!D10 -> 0 | H27: =JUL!D10 -> 0 | I27: =AGO!D10 -> 0 | J27: =SET!D10 -> 0 | K27: =OUT!D10 -> 0 | L27: =NOV!D10 -> 0 | M27: =DEZ!D10 -> 0
A28: ='Matérias-Primas'!C9 -> (Digite sua matéria-prima) | B28: =JAN!D11 -> 0 | C28: =FEV!D11 -> 0 | D28: =MAR!D11 -> 0 | E28: =ABR!D11 -> 0 | F28: =MAI!D11 -> 0 | G28: =JUN!D11 -> 0 | H28: =JUL!D11 -> 0 | I28: =AGO!D11 -> 0 | J28: =SET!D11 -> 0 | K28: =OUT!D11 -> 0 | L28: =NOV!D11 -> 0 | M28: =DEZ!D11 -> 0
A29: ='Matérias-Primas'!C10 -> (Digite sua matéria-prima) | B29: =JAN!D12 -> 0 | C29: =FEV!D12 -> 0 | D29: =MAR!D12 -> 0 | E29: =ABR!D12 -> 0 | F29: =MAI!D12 -> 0 | G29: =JUN!D12 -> 0 | H29: =JUL!D12 -> 0 | I29: =AGO!D12 -> 0 | J29: =SET!D12 -> 0 | K29: =OUT!D12 -> 0 | L29: =NOV!D12 -> 0 | M29: =DEZ!D12 -> 0
A30: ='Matérias-Primas'!C11 -> (Digite sua matéria-prima) | B30: =JAN!D13 -> 0 | C30: =FEV!D13 -> 0 | D30: =MAR!D13 -> 0 | E30: =ABR!D13 -> 0 | F30: =MAI!D13 -> 0 | G30: =JUN!D13 -> 0 | H30: =JUL!D13 -> 0 | I30: =AGO!D13 -> 0 | J30: =SET!D13 -> 0 | K30: =OUT!D13 -> 0 | L30: =NOV!D13 -> 0 | M30: =DEZ!D13 -> 0
A31: ='Matérias-Primas'!C12 -> (Digite sua matéria-prima) | B31: =JAN!D14 -> 0 | C31: =FEV!D14 -> 0 | D31: =MAR!D14 -> 0 | E31: =ABR!D14 -> 0 | F31: =MAI!D14 -> 0 | G31: =JUN!D14 -> 0 | H31: =JUL!D14 -> 0 | I31: =AGO!D14 -> 0 | J31: =SET!D14 -> 0 | K31: =OUT!D14 -> 0 | L31: =NOV!D14 -> 0 | M31: =DEZ!D14 -> 0
A32: ='Matérias-Primas'!C13 -> (Digite sua matéria-prima) | B32: =JAN!D15 -> 0 | C32: =FEV!D15 -> 0 | D32: =MAR!D15 -> 0 | E32: =ABR!D15 -> 0 | F32: =MAI!D15 -> 0 | G32: =JUN!D15 -> 0 | H32: =JUL!D15 -> 0 | I32: =AGO!D15 -> 0 | J32: =SET!D15 -> 0 | K32: =OUT!D15 -> 0 | L32: =NOV!D15 -> 0 | M32: =DEZ!D15 -> 0
A33: ='Matérias-Primas'!C14 -> (Digite sua matéria-prima) | B33: =JAN!D16 -> 0 | C33: =FEV!D16 -> 0 | D33: =MAR!D16 -> 0 | E33: =ABR!D16 -> 0 | F33: =MAI!D16 -> 0 | G33: =JUN!D16 -> 0 | H33: =JUL!D16 -> 0 | I33: =AGO!D16 -> 0 | J33: =SET!D16 -> 0 | K33: =OUT!D16 -> 0 | L33: =NOV!D16 -> 0 | M33: =DEZ!D16 -> 0
... A36: ='Matérias-Primas'!C17 -> (Digite sua matéria-prima) | B36: =JAN!D19 -> 0 | C36: =FEV!D19 -> 0 | D36: =MAR!D19 -> 0 | E36: =ABR!D19 -> 0 | F36: =MAI!D19 -> 0 | G36: =JUN!D19 -> 0 | H36: =JUL!D19 -> 0 | I36: =AGO!D19 -> 0 | J36: =SET!D19 -> 0 | K36: =OUT!D19 -> 0 | L36: =NOV!D19 -> 0 | M36: =DEZ!D19 -> 0
A38: Matéria-Prima | B38: SAÍDAS DE MP - UNIFICADO
B39: Janeiro | C39: Fevereiro | D39: Março | E39: Abril | F39: Maio | G39: Junho | H39: Julho | I39: Agosto | J39: Setembro | K39: Outubro | L39: Novembro | M39: Dezembro
A40: ='Matérias-Primas'!C3 -> Farinha | B40: =JAN!H5 -> 0.48 | C40: =FEV!H5 -> 0.36 | D40: =MAR!H5 -> 0 | E40: =ABR!H5 -> 0 | F40: =MAI!H5 -> 0 | G40: =JUN!H5 -> 0 | H40: =JUL!H5 -> 0 | I40: =AGO!H5 -> 0 | J40: =SET!H5 -> 0 | K40: =OUT!H5 -> 0 | L40: =NOV!H5 -> 0 | M40: =DEZ!H5 -> 0
A41: ='Matérias-Primas'!C4 -> Fermento em pó | B41: =JAN!H6 -> 60 | C41: =FEV!H6 -> 45 | D41: =MAR!H6 -> 0 | E41: =ABR!H6 -> 0 | F41: =MAI!H6 -> 0 | G41: =JUN!H6 -> 0 | H41: =JUL!H6 -> 0 | I41: =AGO!H6 -> 0 | J41: =SET!H6 -> 0 | K41: =OUT!H6 -> 0 | L41: =NOV!H6 -> 0 | M41: =DEZ!H6 -> 0
A42: ='Matérias-Primas'!C5 -> (Digite sua matéria-prima) | B42: =JAN!H7 -> 0 | C42: =FEV!H7 -> 0 | D42: =MAR!H7 -> 0 | E42: =ABR!H7 -> 0 | F42: =MAI!H7 -> 0 | G42: =JUN!H7 -> 0 | H42: =JUL!H7 -> 0 | I42: =AGO!H7 -> 0 | J42: =SET!H7 -> 0 | K42: =OUT!H7 -> 0 | L42: =NOV!H7 -> 0 | M42: =DEZ!H7 -> 0
A43: ='Matérias-Primas'!C6 -> (Digite sua matéria-prima) | B43: =JAN!H8 -> 0 | C43: =FEV!H8 -> 0 | D43: =MAR!H8 -> 0 | E43: =ABR!H8 -> 0 | F43: =MAI!H8 -> 0 | G43: =JUN!H8 -> 0 | H43: =JUL!H8 -> 0 | I43: =AGO!H8 -> 0 | J43: =SET!H8 -> 0 | K43: =OUT!H8 -> 0 | L43: =NOV!H8 -> 0 | M43: =DEZ!H8 -> 0
A44: ='Matérias-Primas'!C7 -> (Digite sua matéria-prima) | B44: =JAN!H9 -> 0 | C44: =FEV!H9 -> 0 | D44: =MAR!H9 -> 0 | E44: =ABR!H9 -> 0 | F44: =MAI!H9 -> 0 | G44: =JUN!H9 -> 0 | H44: =JUL!H9 -> 0 | I44: =AGO!H9 -> 0 | J44: =SET!H9 -> 0 | K44: =OUT!H9 -> 0 | L44: =NOV!H9 -> 0 | M44: =DEZ!H9 -> 0
A45: ='Matérias-Primas'!C8 -> (Digite sua matéria-prima) | B45: =JAN!H10 -> 0 | C45: =FEV!H10 -> 0 | D45: =MAR!H10 -> 0 | E45: =ABR!H10 -> 0 | F45: =MAI!H10 -> 0 | G45: =JUN!H10 -> 0 | H45: =JUL!H10 -> 0 | I45: =AGO!H10 -> 0 | J45: =SET!H10 -> 0 | K45: =OUT!H10 -> 0 | L45: =NOV!H10 -> 0 | M45: =DEZ!H10 -> 0
A46: ='Matérias-Primas'!C9 -> (Digite sua matéria-prima) | B46: =JAN!H11 -> 0 | C46: =FEV!H11 -> 0 | D46: =MAR!H11 -> 0 | E46: =ABR!H11 -> 0 | F46: =MAI!H11 -> 0 | G46: =JUN!H11 -> 0 | H46: =JUL!H11 -> 0 | I46: =AGO!H11 -> 0 | J46: =SET!H11 -> 0 | K46: =OUT!H11 -> 0 | L46: =NOV!H11 -> 0 | M46: =DEZ!H11 -> 0
A47: ='Matérias-Primas'!C10 -> (Digite sua matéria-prima) | B47: =JAN!H12 -> 0 | C47: =FEV!H12 -> 0 | D47: =MAR!H12 -> 0 | E47: =ABR!H12 -> 0 | F47: =MAI!H12 -> 0 | G47: =JUN!H12 -> 0 | H47: =JUL!H12 -> 0 | I47: =AGO!H12 -> 0 | J47: =SET!H12 -> 0 | K47: =OUT!H12 -> 0 | L47: =NOV!H12 -> 0 | M47: =DEZ!H12 -> 0
A48: ='Matérias-Primas'!C11 -> (Digite sua matéria-prima) | B48: =JAN!H13 -> 0 | C48: =FEV!H13 -> 0 | D48: =MAR!H13 -> 0 | E48: =ABR!H13 -> 0 | F48: =MAI!H13 -> 0 | G48: =JUN!H13 -> 0 | H48: =JUL!H13 -> 0 | I48: =AGO!H13 -> 0 | J48: =SET!H13 -> 0 | K48: =OUT!H13 -> 0 | L48: =NOV!H13 -> 0 | M48: =DEZ!H13 -> 0
A49: ='Matérias-Primas'!C12 -> (Digite sua matéria-prima) | B49: =JAN!H14 -> 0 | C49: =FEV!H14 -> 0 | D49: =MAR!H14 -> 0 | E49: =ABR!H14 -> 0 | F49: =MAI!H14 -> 0 | G49: =JUN!H14 -> 0 | H49: =JUL!H14 -> 0 | I49: =AGO!H14 -> 0 | J49: =SET!H14 -> 0 | K49: =OUT!H14 -> 0 | L49: =NOV!H14 -> 0 | M49: =DEZ!H14 -> 0
A50: ='Matérias-Primas'!C13 -> (Digite sua matéria-prima) | B50: =JAN!H15 -> 0 | C50: =FEV!H15 -> 0 | D50: =MAR!H15 -> 0 | E50: =ABR!H15 -> 0 | F50: =MAI!H15 -> 0 | G50: =JUN!H15 -> 0 | H50: =JUL!H15 -> 0 | I50: =AGO!H15 -> 0 | J50: =SET!H15 -> 0 | K50: =OUT!H15 -> 0 | L50: =NOV!H15 -> 0 | M50: =DEZ!H15 -> 0
A51: ='Matérias-Primas'!C14 -> (Digite sua matéria-prima) | B51: =JAN!H16 -> 0 | C51: =FEV!H16 -> 0 | D51: =MAR!H16 -> 0 | E51: =ABR!H16 -> 0 | F51: =MAI!H16 -> 0 | G51: =JUN!H16 -> 0 | H51: =JUL!H16 -> 0 | I51: =AGO!H16 -> 0 | J51: =SET!H16 -> 0 | K51: =OUT!H16 -> 0 | L51: =NOV!H16 -> 0 | M51: =DEZ!H16 -> 0
... A54: ='Matérias-Primas'!C17 -> (Digite sua matéria-prima) | B54: =JAN!H19 -> 0 | C54: =FEV!H19 -> 0 | D54: =MAR!H19 -> 0 | E54: =ABR!H19 -> 0 | F54: =MAI!H19 -> 0 | G54: =JUN!H19 -> 0 | H54: =JUL!H19 -> 0 | I54: =AGO!H19 -> 0 | J54: =SET!H19 -> 0 | K54: =OUT!H19 -> 0 | L54: =NOV!H19 -> 0 | M54: =DEZ!H19 -> 0

Sheet Estoque Produtos
A1: Menu | B1: ESTOQUE DOS PRODUTOS FABRICADOS EM CADA MÊS
A2: Produto | B2: QUANTIDADE DOS PRODUTOS FABRICADOS - UNIFICADO
B3: Janeiro | C3: Fevereiro | D3: Março | E3: Abril | F3: Maio | G3: Junho | H3: Julho | I3: Agosto | J3: Setembro | K3: Outubro | L3: Novembro | M3: Dezembro | N3: TOTAL
A4: ='Fórmulas Produção'!B3 -> Pão Francês | B4: ='OP - JAN'!B36 -> 4 | C4: ='OP - FEV'!B33 -> 3 | D4: ='OP - MAR'!B36 -> 0 | E4: ='OP - ABR'!B35 -> 0 | F4: ='OP - MAI'!B36 -> 0 | G4: ='OP - JUN'!B35 -> 0 | H4: ='OP - JUL'!B36 -> 0 | I4: ='OP - AGO'!B36 -> 0 | J4: ='OP - SET'!B35 -> 0 | K4: ='OP - OUT'!B36 -> 0 | L4: ='OP - NOV'!B35 -> 0 | M4: ='OP - DEZ'!B36 -> 0 | N4: =SUM(B4:M4) -> 7
A5: ='Fórmulas Produção'!G3 -> Produto 2 | B5: ='OP - JAN'!C36 -> 0 | C5: ='OP - FEV'!C33 -> 0 | D5: ='OP - MAR'!C36 -> 0 | E5: ='OP - ABR'!C35 -> 0 | F5: ='OP - MAI'!C36 -> 0 | G5: ='OP - JUN'!C35 -> 0 | H5: ='OP - JUL'!C36 -> 0 | I5: ='OP - AGO'!C36 -> 0 | J5: ='OP - SET'!C35 -> 0 | K5: ='OP - OUT'!C36 -> 0 | L5: ='OP - NOV'!C35 -> 0 | M5: ='OP - DEZ'!C36 -> 0 | N5: =SUM(B5:M5) -> 0
A6: ='Fórmulas Produção'!L3 -> Produto 3 | B6: ='OP - JAN'!D36 -> 0 | C6: ='OP - FEV'!D33 -> 0 | D6: ='OP - MAR'!D36 -> 0 | E6: ='OP - ABR'!D35 -> 0 | F6: ='OP - MAI'!D36 -> 0 | G6: ='OP - JUN'!D35 -> 0 | H6: ='OP - JUL'!D36 -> 0 | I6: ='OP - AGO'!D36 -> 0 | J6: ='OP - SET'!D35 -> 0 | K6: ='OP - OUT'!D36 -> 0 | L6: ='OP - NOV'!D35 -> 0 | M6: ='OP - DEZ'!D36 -> 0 | N6: =SUM(B6:M6) -> 0
A7: ='Fórmulas Produção'!B21 -> Produto 4 | B7: ='OP - JAN'!E36 -> 0 | C7: ='OP - FEV'!E33 -> 0 | D7: ='OP - MAR'!E36 -> 0 | E7: ='OP - ABR'!E35 -> 0 | F7: ='OP - MAI'!E36 -> 0 | G7: ='OP - JUN'!E35 -> 0 | H7: ='OP - JUL'!E36 -> 0 | I7: ='OP - AGO'!E36 -> 0 | J7: ='OP - SET'!E35 -> 0 | K7: ='OP - OUT'!E36 -> 0 | L7: ='OP - NOV'!E35 -> 0 | M7: ='OP - DEZ'!E36 -> 0 | N7: =SUM(B7:M7) -> 0
A8: ='Fórmulas Produção'!G21 -> Produto 5 | B8: ='OP - JAN'!F36 -> 0 | C8: ='OP - FEV'!F33 -> 0 | D8: ='OP - MAR'!F36 -> 0 | E8: ='OP - ABR'!F35 -> 0 | F8: ='OP - MAI'!F36 -> 0 | G8: ='OP - JUN'!F35 -> 0 | H8: ='OP - JUL'!F36 -> 0 | I8: ='OP - AGO'!F36 -> 0 | J8: ='OP - SET'!F35 -> 0 | K8: ='OP - OUT'!F36 -> 0 | L8: ='OP - NOV'!F35 -> 0 | M8: ='OP - DEZ'!F36 -> 0 | N8: =SUM(B8:M8) -> 0
A9: ='Fórmulas Produção'!L21 -> Produto 6 | B9: ='OP - JAN'!G36 -> 0 | C9: ='OP - FEV'!G33 -> 0 | D9: ='OP - MAR'!G36 -> 0 | E9: ='OP - ABR'!G35 -> 0 | F9: ='OP - MAI'!G36 -> 0 | G9: ='OP - JUN'!G35 -> 0 | H9: ='OP - JUL'!G36 -> 0 | I9: ='OP - AGO'!G36 -> 0 | J9: ='OP - SET'!G35 -> 0 | K9: ='OP - OUT'!G36 -> 0 | L9: ='OP - NOV'!G35 -> 0 | M9: ='OP - DEZ'!G36 -> 0 | N9: =SUM(B9:M9) -> 0
A10: ='Fórmulas Produção'!B39 -> Produto 7 | B10: ='OP - JAN'!I36 -> 0 | C10: ='OP - FEV'!H33 -> 0 | D10: ='OP - MAR'!H36 -> 0 | E10: ='OP - ABR'!H35 -> 0 | F10: ='OP - MAI'!H36 -> 0 | G10: ='OP - JUN'!H35 -> 0 | H10: ='OP - JUL'!H36 -> 0 | I10: ='OP - AGO'!H36 -> 0 | J10: ='OP - SET'!H35 -> 0 | K10: ='OP - OUT'!H36 -> 0 | L10: ='OP - NOV'!H35 -> 0 | M10: ='OP - DEZ'!H36 -> 0 | N10: =SUM(B10:M10) -> 0
A11: ='Fórmulas Produção'!G39 -> Produto 8 | B11: ='OP - JAN'!J36 -> 0 | C11: ='OP - FEV'!I33 -> 0 | D11: ='OP - MAR'!I36 -> 0 | E11: ='OP - ABR'!I35 -> 0 | F11: ='OP - MAI'!I36 -> 0 | G11: ='OP - JUN'!I35 -> 0 | H11: ='OP - JUL'!I36 -> 0 | I11: ='OP - AGO'!I36 -> 0 | J11: ='OP - SET'!I35 -> 0 | K11: ='OP - OUT'!I36 -> 0 | L11: ='OP - NOV'!I35 -> 0 | M11: ='OP - DEZ'!I36 -> 0 | N11: =SUM(B11:M11) -> 0
A12: ='Fórmulas Produção'!L39 -> Produto 9 | B12: ='OP - JAN'!J36 -> 0 | C12: ='OP - FEV'!J33 -> 0 | D12: ='OP - MAR'!J36 -> 0 | E12: ='OP - ABR'!J35 -> 0 | F12: ='OP - MAI'!J36 -> 0 | G12: ='OP - JUN'!J35 -> 0 | H12: ='OP - JUL'!J36 -> 0 | I12: ='OP - AGO'!J36 -> 0 | J12: ='OP - SET'!J35 -> 0 | K12: ='OP - OUT'!J36 -> 0 | L12: ='OP - NOV'!J35 -> 0 | M12: ='OP - DEZ'!J36 -> 0 | N12: =SUM(B12:M12) -> 0
