Workbook

Sheet Capa 
K7: PLANILHA DA CURVA ABC
L9: INSTRUÇÕES | O9: CURVA ABC

Sheet Instruções
C1: INSTRUÇÕES | R1: Capa
B4: Abaixo, você encontra a explicação para toda sua planilha.
B5: Saiba mais sobre a curva ABC

Sheet Curva ABC
C1: CÁLCULO DA CURVA ABC | O1: Capa
B4: PRODUTOS | C4: FATURAMENTO | D4: % | E4: % ACUMULADA | F4: CONCEITO | H4: CONCEITO | I4: %
B5: Produto 1 | C5: 2141500 | D5: =C5/$C$15 -> 0.24902611 | E5: ='Curva ABC'!$D5 -> 0.24902611 | F5: =IF(E5<$I$5,$H$5,IF(E5<$I$6,$H$6,$H$7)) -> A | H5: A | I5: 0.8
B6: Produto 2 | C6: 1742500 | D6: =C6/$C$15 -> 0.20262806 | E6: ='Curva ABC'!$D6+E5 -> 0.45165417 | F6: =IF(E6<$I$5,$H$5,IF(E6<$I$6,$H$6,$H$7)) -> A | H6: B | I6: 0.95
B7: Produto 3 | C7: 1660500 | D7: =C7/$C$15 -> 0.19309262 | E7: ='Curva ABC'!$D7+E6 -> 0.64474679 | F7: =IF(E7<$I$5,$H$5,IF(E7<$I$6,$H$6,$H$7)) -> A | H7: C | I7: 1
B8: Produto 4 | C8: 1293500 | D8: =C8/$C$15 -> 0.15041572 | E8: ='Curva ABC'!$D8+E7 -> 0.79516251 | F8: =IF(E8<$I$5,$H$5,IF(E8<$I$6,$H$6,$H$7)) -> A
B9: Produto 5 | C9: 573000 | D9: =C9/$C$15 -> 0.066631781 | E9: ='Curva ABC'!$D9+E8 -> 0.86179429 | F9: =IF(E9<$I$5,$H$5,IF(E9<$I$6,$H$6,$H$7)) -> B
B10: Produto 6 | C10: 347000 | D10: =C10/$C$15 -> 0.040351183 | E10: ='Curva ABC'!$D10+E9 -> 0.90214547 | F10: =IF(E10<$I$5,$H$5,IF(E10<$I$6,$H$6,$H$7)) -> B
B11: Produto 7 | C11: 321000 | D11: =C11/$C$15 -> 0.037327752 | E11: ='Curva ABC'!$D11+E10 -> 0.93947323 | F11: =IF(E11<$I$5,$H$5,IF(E11<$I$6,$H$6,$H$7)) -> B
B12: Produto 8 | C12: 245500 | D12: =C12/$C$15 -> 0.028548171 | E12: ='Curva ABC'!$D12+E11 -> 0.9680214 | F12: =IF(E12<$I$5,$H$5,IF(E12<$I$6,$H$6,$H$7)) -> C
B13: Produto 9 | C13: 155000 | D13: =C13/$C$15 -> 0.018024304 | E13: ='Curva ABC'!$D13+E12 -> 0.9860457 | F13: =IF(E13<$I$5,$H$5,IF(E13<$I$6,$H$6,$H$7)) -> C
B14: Produto 10 | C14: 120000 | D14: ='Curva ABC'!$C14/C15 -> 0.0139543 | E14: ='Curva ABC'!$D14+E13 -> 1 | F14: =IF(E14<$I$5,$H$5,IF(E14<$I$6,$H$6,$H$7)) -> C
B15: Total | C15: =SUM(C5,C6,C7,C8,C9,C10,C11,C12,C13,C14) -> 8599500
C16: =SUM(C5:C14) -> 8599500
