Workbook

Sheet CAPA
L14: INSTRUÇÕES | M14: ENTRADAS | N14: CUSTO MÉDIO | O14: SAÍDAS

Sheet Instruções 
C1: INSTRUÇÕES | Q1: CUSTO MÉDIO | R1: ENTRADAS | S1: SAÍDAS | U1: CAPA
C5: As cores das fontes dos valores nas tabelas dessa aba indicam que: (1) Células com fontes na cor PRETA devem ser preenchidas manualmente. (2) Células com fontes na cor AZUL são calculadas automaticamente por fórmulas, portanto NÃO devem ser editadas. (3) Orgnize seus itens em ordem DECRESCENTE.
B7: FORMATAÇÃO
C10: Na aba ENTRADAS você cadastra seu estoque Inicial (1) Digite a Data e o Código do Produto; (2) Digite o Fornecedor, quantidade e Valor Unitário de Cada Item.
C13: Acesse a aba CUSTO MÉDIO para cadastrar seus produtos (1) Cadastre um código (único), Produto, Unidade de medida e Valor mínimo;
C17: Utilize a aba SAÍDAS, caso tenha alguma Venda (1) Digite a Data e o Código do Produto que irá vender; (2) Digite o Fornecedor, Quantidade e Valor Unitário de cada Item.

Sheet Custo Médio
C1: CUSTO MÉDIO | I1: CUSTO MÉDIO | J1: ENTRADAS | K1: SAÍDAS | M1: Instruções | N1: CAPA
B4: Código | C4: Produto | D4: Unidade | E4: Mínimo | F4: Estoque Atual | G4: Custo Médio | H4: Venda Média | J4: Valor em Estoque | L4: =SUMPRODUCT(F5:F8*G5:G8) -> 2787.3333
B5: 1 | C5: PRODUTO 1 | D5: unid | E5: 5 | F5: =SUMIF(ENTRADAS!$D:$D,$C5,ENTRADAS!$G:$G)-SUMIF(SAIDAS!$D:$D,$C5,SAIDAS!$G:$G) -> 28 | G5: =IFERROR(SUMIF(ENTRADAS!$D:$D,$C5,ENTRADAS!$I:$I)/SUMIF(ENTRADAS!$D:$D,$C5,ENTRADAS!$G:$G),"") -> 33.333333 | H5: =IFERROR(SUMIF(SAIDAS!$D:$D,$C5,SAIDAS!$I:$I)/SUMIF(SAIDAS!$D:$D,$C5,SAIDAS!$G:$G),"") -> 45
B6: 2 | C6: PRODUTO 2 | D6: unid | E6: 5 | F6: =SUMIF(ENTRADAS!$D:$D,$C6,ENTRADAS!$G:$G)-SUMIF(SAIDAS!$D:$D,$C6,SAIDAS!$G:$G) -> 27 | G6: =IFERROR(SUMIF(ENTRADAS!$D:$D,$C6,ENTRADAS!$I:$I)/SUMIF(ENTRADAS!$D:$D,$C6,ENTRADAS!$G:$G),"") -> 35.333333 | H6: =IFERROR(SUMIF(SAIDAS!$D:$D,$C6,SAIDAS!$I:$I)/SUMIF(SAIDAS!$D:$D,$C6,SAIDAS!$G:$G),"") -> 45
B7: 3 | C7: PRODUTO 3 | D7: unid | E7: 5 | F7: =SUMIF(ENTRADAS!$D:$D,$C7,ENTRADAS!$G:$G)-SUMIF(SAIDAS!$D:$D,$C7,SAIDAS!$G:$G) -> 15 | G7: =IFERROR(SUMIF(ENTRADAS!$D:$D,$C7,ENTRADAS!$I:$I)/SUMIF(ENTRADAS!$D:$D,$C7,ENTRADAS!$G:$G),"") -> 30 | H7: =IFERROR(SUMIF(SAIDAS!$D:$D,$C7,SAIDAS!$I:$I)/SUMIF(SAIDAS!$D:$D,$C7,SAIDAS!$G:$G),"") -> 46
B8: 4 | C8: PRODUTO 4 | D8: unid | E8: 5 | F8: =SUMIF(ENTRADAS!$D:$D,$C8,ENTRADAS!$G:$G)-SUMIF(SAIDAS!$D:$D,$C8,SAIDAS!$G:$G) -> 15 | G8: =IFERROR(SUMIF(ENTRADAS!$D:$D,$C8,ENTRADAS!$I:$I)/SUMIF(ENTRADAS!$D:$D,$C8,ENTRADAS!$G:$G),"") -> 30 | H8: =IFERROR(SUMIF(SAIDAS!$D:$D,$C8,SAIDAS!$I:$I)/SUMIF(SAIDAS!$D:$D,$C8,SAIDAS!$G:$G),"") -> 45
F14: =IF(SUMIF(ENTRADAS!$D:$D,$C14,ENTRADAS!$G:$G)-SUMIF(SAIDAS!$D:$D,$C14,SAIDAS!$G:$G)=0,"",(SUMIF(ENTRADAS!$D:$D,$C14,ENTRADAS!$G:$G)-SUMIF(SAIDAS!$D:$D,$C14,SAIDAS!$G:$G))) | G14: =IFERROR(SUMIF(ENTRADAS!$D:$D,$C14,ENTRADAS!$I:$I)/SUMIF(ENTRADAS!$D:$D,$C14,ENTRADAS!$G:$G),"") | H14: =IFERROR(SUMIF(SAIDAS!$D:$D,$C14,SAIDAS!$I:$I)/SUMIF(SAIDAS!$D:$D,$C14,SAIDAS!$G:$G),"")
F15: =IF(SUMIF(ENTRADAS!$D:$D,$C15,ENTRADAS!$G:$G)-SUMIF(SAIDAS!$D:$D,$C15,SAIDAS!$G:$G)=0,"",(SUMIF(ENTRADAS!$D:$D,$C15,ENTRADAS!$G:$G)-SUMIF(SAIDAS!$D:$D,$C15,SAIDAS!$G:$G))) | G15: =IFERROR(SUMIF(ENTRADAS!$D:$D,$C15,ENTRADAS!$I:$I)/SUMIF(ENTRADAS!$D:$D,$C15,ENTRADAS!$G:$G),"") | H15: =IFERROR(SUMIF(SAIDAS!$D:$D,$C15,SAIDAS!$I:$I)/SUMIF(SAIDAS!$D:$D,$C15,SAIDAS!$G:$G),"")
F16: =IF(SUMIF(ENTRADAS!$D:$D,$C16,ENTRADAS!$G:$G)-SUMIF(SAIDAS!$D:$D,$C16,SAIDAS!$G:$G)=0,"",(SUMIF(ENTRADAS!$D:$D,$C16,ENTRADAS!$G:$G)-SUMIF(SAIDAS!$D:$D,$C16,SAIDAS!$G:$G))) | G16: =IFERROR(SUMIF(ENTRADAS!$D:$D,$C16,ENTRADAS!$I:$I)/SUMIF(ENTRADAS!$D:$D,$C16,ENTRADAS!$G:$G),"") | H16: =IFERROR(SUMIF(SAIDAS!$D:$D,$C16,SAIDAS!$I:$I)/SUMIF(SAIDAS!$D:$D,$C16,SAIDAS!$G:$G),"")
F17: =IF(SUMIF(ENTRADAS!$D:$D,$C17,ENTRADAS!$G:$G)-SUMIF(SAIDAS!$D:$D,$C17,SAIDAS!$G:$G)=0,"",(SUMIF(ENTRADAS!$D:$D,$C17,ENTRADAS!$G:$G)-SUMIF(SAIDAS!$D:$D,$C17,SAIDAS!$G:$G))) | G17: =IFERROR(SUMIF(ENTRADAS!$D:$D,$C17,ENTRADAS!$I:$I)/SUMIF(ENTRADAS!$D:$D,$C17,ENTRADAS!$G:$G),"") | H17: =IFERROR(SUMIF(SAIDAS!$D:$D,$C17,SAIDAS!$I:$I)/SUMIF(SAIDAS!$D:$D,$C17,SAIDAS!$G:$G),"")
F18: =IF(SUMIF(ENTRADAS!$D:$D,$C18,ENTRADAS!$G:$G)-SUMIF(SAIDAS!$D:$D,$C18,SAIDAS!$G:$G)=0,"",(SUMIF(ENTRADAS!$D:$D,$C18,ENTRADAS!$G:$G)-SUMIF(SAIDAS!$D:$D,$C18,SAIDAS!$G:$G))) | G18: =IFERROR(SUMIF(ENTRADAS!$D:$D,$C18,ENTRADAS!$I:$I)/SUMIF(ENTRADAS!$D:$D,$C18,ENTRADAS!$G:$G),"") | H18: =IFERROR(SUMIF(SAIDAS!$D:$D,$C18,SAIDAS!$I:$I)/SUMIF(SAIDAS!$D:$D,$C18,SAIDAS!$G:$G),"")
F19: =IF(SUMIF(ENTRADAS!$D:$D,$C19,ENTRADAS!$G:$G)-SUMIF(SAIDAS!$D:$D,$C19,SAIDAS!$G:$G)=0,"",(SUMIF(ENTRADAS!$D:$D,$C19,ENTRADAS!$G:$G)-SUMIF(SAIDAS!$D:$D,$C19,SAIDAS!$G:$G))) | G19: =IFERROR(SUMIF(ENTRADAS!$D:$D,$C19,ENTRADAS!$I:$I)/SUMIF(ENTRADAS!$D:$D,$C19,ENTRADAS!$G:$G),"") | H19: =IFERROR(SUMIF(SAIDAS!$D:$D,$C19,SAIDAS!$I:$I)/SUMIF(SAIDAS!$D:$D,$C19,SAIDAS!$G:$G),"")
F20: =IF(SUMIF(ENTRADAS!$D:$D,$C20,ENTRADAS!$G:$G)-SUMIF(SAIDAS!$D:$D,$C20,SAIDAS!$G:$G)=0,"",(SUMIF(ENTRADAS!$D:$D,$C20,ENTRADAS!$G:$G)-SUMIF(SAIDAS!$D:$D,$C20,SAIDAS!$G:$G))) | G20: =IFERROR(SUMIF(ENTRADAS!$D:$D,$C20,ENTRADAS!$I:$I)/SUMIF(ENTRADAS!$D:$D,$C20,ENTRADAS!$G:$G),"") | H20: =IFERROR(SUMIF(SAIDAS!$D:$D,$C20,SAIDAS!$I:$I)/SUMIF(SAIDAS!$D:$D,$C20,SAIDAS!$G:$G),"")
F21: =IF(SUMIF(ENTRADAS!$D:$D,$C21,ENTRADAS!$G:$G)-SUMIF(SAIDAS!$D:$D,$C21,SAIDAS!$G:$G)=0,"",(SUMIF(ENTRADAS!$D:$D,$C21,ENTRADAS!$G:$G)-SUMIF(SAIDAS!$D:$D,$C21,SAIDAS!$G:$G))) | G21: =IFERROR(SUMIF(ENTRADAS!$D:$D,$C21,ENTRADAS!$I:$I)/SUMIF(ENTRADAS!$D:$D,$C21,ENTRADAS!$G:$G),"") | H21: =IFERROR(SUMIF(SAIDAS!$D:$D,$C21,SAIDAS!$I:$I)/SUMIF(SAIDAS!$D:$D,$C21,SAIDAS!$G:$G),"")
F22: =IF(SUMIF(ENTRADAS!$D:$D,$C22,ENTRADAS!$G:$G)-SUMIF(SAIDAS!$D:$D,$C22,SAIDAS!$G:$G)=0,"",(SUMIF(ENTRADAS!$D:$D,$C22,ENTRADAS!$G:$G)-SUMIF(SAIDAS!$D:$D,$C22,SAIDAS!$G:$G))) | G22: =IFERROR(SUMIF(ENTRADAS!$D:$D,$C22,ENTRADAS!$I:$I)/SUMIF(ENTRADAS!$D:$D,$C22,ENTRADAS!$G:$G),"") | H22: =IFERROR(SUMIF(SAIDAS!$D:$D,$C22,SAIDAS!$I:$I)/SUMIF(SAIDAS!$D:$D,$C22,SAIDAS!$G:$G),"")
F23: =IF(SUMIF(ENTRADAS!$D:$D,$C23,ENTRADAS!$G:$G)-SUMIF(SAIDAS!$D:$D,$C23,SAIDAS!$G:$G)=0,"",(SUMIF(ENTRADAS!$D:$D,$C23,ENTRADAS!$G:$G)-SUMIF(SAIDAS!$D:$D,$C23,SAIDAS!$G:$G))) | G23: =IFERROR(SUMIF(ENTRADAS!$D:$D,$C23,ENTRADAS!$I:$I)/SUMIF(ENTRADAS!$D:$D,$C23,ENTRADAS!$G:$G),"") | H23: =IFERROR(SUMIF(SAIDAS!$D:$D,$C23,SAIDAS!$I:$I)/SUMIF(SAIDAS!$D:$D,$C23,SAIDAS!$G:$G),"")
F24: =IF(SUMIF(ENTRADAS!$D:$D,$C24,ENTRADAS!$G:$G)-SUMIF(SAIDAS!$D:$D,$C24,SAIDAS!$G:$G)=0,"",(SUMIF(ENTRADAS!$D:$D,$C24,ENTRADAS!$G:$G)-SUMIF(SAIDAS!$D:$D,$C24,SAIDAS!$G:$G))) | G24: =IFERROR(SUMIF(ENTRADAS!$D:$D,$C24,ENTRADAS!$I:$I)/SUMIF(ENTRADAS!$D:$D,$C24,ENTRADAS!$G:$G),"") | H24: =IFERROR(SUMIF(SAIDAS!$D:$D,$C24,SAIDAS!$I:$I)/SUMIF(SAIDAS!$D:$D,$C24,SAIDAS!$G:$G),"")
F25: =IF(SUMIF(ENTRADAS!$D:$D,$C25,ENTRADAS!$G:$G)-SUMIF(SAIDAS!$D:$D,$C25,SAIDAS!$G:$G)=0,"",(SUMIF(ENTRADAS!$D:$D,$C25,ENTRADAS!$G:$G)-SUMIF(SAIDAS!$D:$D,$C25,SAIDAS!$G:$G))) | G25: =IFERROR(SUMIF(ENTRADAS!$D:$D,$C25,ENTRADAS!$I:$I)/SUMIF(ENTRADAS!$D:$D,$C25,ENTRADAS!$G:$G),"") | H25: =IFERROR(SUMIF(SAIDAS!$D:$D,$C25,SAIDAS!$I:$I)/SUMIF(SAIDAS!$D:$D,$C25,SAIDAS!$G:$G),"")
... F1000: =IF(SUMIF(ENTRADAS!$D:$D,$C1000,ENTRADAS!$G:$G)-SUMIF(SAIDAS!$D:$D,$C1000,SAIDAS!$G:$G)=0,"",(SUMIF(ENTRADAS!$D:$D,$C1000,ENTRADAS!$G:$G)-SUMIF(SAIDAS!$D:$D,$C1000,SAIDAS!$G:$G))) | G1000: =IFERROR(SUMIF(ENTRADAS!$D:$D,$C1000,ENTRADAS!$I:$I)/SUMIF(ENTRADAS!$D:$D,$C1000,ENTRADAS!$G:$G),"") | H1000: =IFERROR(SUMIF(SAIDAS!$D:$D,$C1000,SAIDAS!$I:$I)/SUMIF(SAIDAS!$D:$D,$C1000,SAIDAS!$G:$G),"")

Sheet ENTRADAS
C1: ENTRADAS | L1: CUSTO MÉDIO | M1: ENTRADAS | N1: SAÍDAS | P1: Instruções | Q1: CAPA
B3: Data | C3: Código | D3: Descrição | E3: Unid | F3: Fornecedor | G3: Qtde | H3: Unitário | I3: Total | K3: VALOR ENTRADAS | M3: =SUM(I4:I1001) -> 3260
B4: =TODAY() -> 44643 | C4: 1 | D4: =IF(C4="","",VLOOKUP(C4,'Custo Médio'!$B$5:$D$1000,2,0)) -> PRODUTO 1 | E4: =IF(C4="","",VLOOKUP(C4,'Custo Médio'!$B$5:$D$1000,3,0)) -> unid | F4: fornecedor 1 | G4: 20 | H4: 30 | I4: =IF(B4="","",IFERROR(G4*H4,"")) -> 600
B5: =TODAY() -> 44643 | C5: 2 | D5: =IF(C5="","",VLOOKUP(C5,'Custo Médio'!$B$5:$D$1000,2,0)) -> PRODUTO 2 | E5: =IF(C5="","",VLOOKUP(C5,'Custo Médio'!$B$5:$D$1000,3,0)) -> unid | F5: fornecedor 2 | G5: 20 | H5: 30 | I5: =IF(B5="","",IFERROR(G5*H5,"")) -> 600
B6: =TODAY() -> 44643 | C6: 3 | D6: =IF(C6="","",VLOOKUP(C6,'Custo Médio'!$B$5:$D$1000,2,0)) -> PRODUTO 3 | E6: =IF(C6="","",VLOOKUP(C6,'Custo Médio'!$B$5:$D$1000,3,0)) -> unid | F6: fornecedor 3 | G6: 20 | H6: 30 | I6: =IF(B6="","",IFERROR(G6*H6,"")) -> 600
B7: =TODAY() -> 44643 | C7: 4 | D7: =IF(C7="","",VLOOKUP(C7,'Custo Médio'!$B$5:$D$1000,2,0)) -> PRODUTO 4 | E7: =IF(C7="","",VLOOKUP(C7,'Custo Médio'!$B$5:$D$1000,3,0)) -> unid | F7: fornecedor 4 | G7: 20 | H7: 30 | I7: =IF(B7="","",IFERROR(G7*H7,"")) -> 600
B8: =TODAY() -> 44643 | C8: 1 | D8: =IF(C8="","",VLOOKUP(C8,'Custo Médio'!$B$5:$D$1000,2,0)) -> PRODUTO 1 | E8: =IF(C8="","",VLOOKUP(C8,'Custo Médio'!$B$5:$D$1000,3,0)) -> unid | F8: fornecedor 5 | G8: 10 | H8: 40 | I8: =IF(B8="","",IFERROR(G8*H8,"")) -> 400
B9: =TODAY() -> 44643 | C9: 2 | D9: =IF(C9="","",VLOOKUP(C9,'Custo Médio'!$B$5:$D$1000,2,0)) -> PRODUTO 2 | E9: =IF(C9="","",VLOOKUP(C9,'Custo Médio'!$B$5:$D$1000,3,0)) -> unid | F9: fornecedor 6 | G9: 5 | H9: 46 | I9: =IF(B9="","",IFERROR(G9*H9,"")) -> 230
B10: =TODAY() -> 44643 | C10: 2 | D10: =IF(C10="","",VLOOKUP(C10,'Custo Médio'!$B$5:$D$1000,2,0)) -> PRODUTO 2 | E10: =IF(C10="","",VLOOKUP(C10,'Custo Médio'!$B$5:$D$1000,3,0)) -> unid | F10: fornecedor 7 | G10: 5 | H10: 46 | I10: =IF(B10="","",IFERROR(G10*H10,"")) -> 230
I16: =IF(B16="","",IFERROR(G16*H16,""))
I17: =IF(B17="","",IFERROR(G17*H17,""))
I18: =IF(B18="","",IFERROR(G18*H18,""))
D19: =IF(C19="","",VLOOKUP(C19,'Custo Médio'!$B$5:$D$1000,2,0)) | E19: =IF(C19="","",VLOOKUP(C19,'Custo Médio'!$B$5:$D$1000,3,0)) | I19: =IF(B19="","",IFERROR(G19*H19,""))
D20: =IF(C20="","",VLOOKUP(C20,'Custo Médio'!$B$5:$D$1000,2,0)) | E20: =IF(C20="","",VLOOKUP(C20,'Custo Médio'!$B$5:$D$1000,3,0)) | I20: =IF(B20="","",IFERROR(G20*H20,""))
D21: =IF(C21="","",VLOOKUP(C21,'Custo Médio'!$B$5:$D$1000,2,0)) | E21: =IF(C21="","",VLOOKUP(C21,'Custo Médio'!$B$5:$D$1000,3,0)) | I21: =IF(B21="","",IFERROR(G21*H21,""))
D22: =IF(C22="","",VLOOKUP(C22,'Custo Médio'!$B$5:$D$1000,2,0)) | E22: =IF(C22="","",VLOOKUP(C22,'Custo Médio'!$B$5:$D$1000,3,0)) | I22: =IF(B22="","",IFERROR(G22*H22,""))
D23: =IF(C23="","",VLOOKUP(C23,'Custo Médio'!$B$5:$D$1000,2,0)) | E23: =IF(C23="","",VLOOKUP(C23,'Custo Médio'!$B$5:$D$1000,3,0)) | I23: =IF(B23="","",IFERROR(G23*H23,""))
D24: =IF(C24="","",VLOOKUP(C24,'Custo Médio'!$B$5:$D$1000,2,0)) | E24: =IF(C24="","",VLOOKUP(C24,'Custo Médio'!$B$5:$D$1000,3,0)) | I24: =IF(B24="","",IFERROR(G24*H24,""))
D25: =IF(C25="","",VLOOKUP(C25,'Custo Médio'!$B$5:$D$1000,2,0)) | E25: =IF(C25="","",VLOOKUP(C25,'Custo Médio'!$B$5:$D$1000,3,0)) | I25: =IF(B25="","",IFERROR(G25*H25,""))
D26: =IF(C26="","",VLOOKUP(C26,'Custo Médio'!$B$5:$D$1000,2,0)) | E26: =IF(C26="","",VLOOKUP(C26,'Custo Médio'!$B$5:$D$1000,3,0)) | I26: =IF(B26="","",IFERROR(G26*H26,""))
D27: =IF(C27="","",VLOOKUP(C27,'Custo Médio'!$B$5:$D$1000,2,0)) | E27: =IF(C27="","",VLOOKUP(C27,'Custo Médio'!$B$5:$D$1000,3,0)) | I27: =IF(B27="","",IFERROR(G27*H27,""))
D28: =IF(C28="","",VLOOKUP(C28,'Custo Médio'!$B$5:$D$1000,2,0)) | E28: =IF(C28="","",VLOOKUP(C28,'Custo Médio'!$B$5:$D$1000,3,0)) | I28: =IF(B28="","",IFERROR(G28*H28,""))
D29: =IF(C29="","",VLOOKUP(C29,'Custo Médio'!$B$5:$D$1000,2,0)) | E29: =IF(C29="","",VLOOKUP(C29,'Custo Médio'!$B$5:$D$1000,3,0)) | I29: =IF(B29="","",IFERROR(G29*H29,""))
D30: =IF(C30="","",VLOOKUP(C30,'Custo Médio'!$B$5:$D$1000,2,0)) | E30: =IF(C30="","",VLOOKUP(C30,'Custo Médio'!$B$5:$D$1000,3,0)) | I30: =IF(B30="","",IFERROR(G30*H30,""))
... D1001: =IF(C1001="","",VLOOKUP(C1001,'Custo Médio'!$B$5:$D$1000,2,0)) | E1001: =IF(C1001="","",VLOOKUP(C1001,'Custo Médio'!$B$5:$D$1000,3,0)) | I1001: =IF(B1001="","",IFERROR(G1001*H1001,""))

Sheet SAIDAS
C1: SAÍDAS | L1: CUSTO MÉDIO | M1: ENTRADAS | N1: SAÍDAS | P1: Instruções | Q1: CAPA
B3: Data | C3: Código | D3: Descrição | E3: Unid | F3: Fornecedor | G3: Qtde | H3: Unitário | I3: Total | K3: TOTAL | L3: =SUM(I4:I1000) -> 680
B4: 44323 | C4: 1 | D4: =IF(C4="","",VLOOKUP(C4,'Custo Médio'!$B$5:$D$1000,2,0)) -> PRODUTO 1 | E4: =IF(C4="","",VLOOKUP(C4,'Custo Médio'!$B$5:$D$1000,3,0)) -> unid | F4: fornecedor 1 | G4: 2 | H4: 45 | I4: =IF(B4="","",IFERROR(G4*H4,"")) -> 90
B5: 44324 | C5: 2 | D5: =IF(C5="","",VLOOKUP(C5,'Custo Médio'!$B$5:$D$1000,2,0)) -> PRODUTO 2 | E5: =IF(C5="","",VLOOKUP(C5,'Custo Médio'!$B$5:$D$1000,3,0)) -> unid | F5: fornecedor 2 | G5: 3 | H5: 45 | I5: =IF(B5="","",IFERROR(G5*H5,"")) -> 135
B6: 44325 | C6: 3 | D6: =IF(C6="","",VLOOKUP(C6,'Custo Médio'!$B$5:$D$1000,2,0)) -> PRODUTO 3 | E6: =IF(C6="","",VLOOKUP(C6,'Custo Médio'!$B$5:$D$1000,3,0)) -> unid | F6: fornecedor 3 | G6: 4 | H6: 45 | I6: =IF(B6="","",IFERROR(G6*H6,"")) -> 180
B7: 44326 | C7: 4 | D7: =IF(C7="","",VLOOKUP(C7,'Custo Médio'!$B$5:$D$1000,2,0)) -> PRODUTO 4 | E7: =IF(C7="","",VLOOKUP(C7,'Custo Médio'!$B$5:$D$1000,3,0)) -> unid | F7: fornecedor 4 | G7: 5 | H7: 45 | I7: =IF(B7="","",IFERROR(G7*H7,"")) -> 225
B8: 44327 | C8: 3 | D8: =IF(C8="","",VLOOKUP(C8,'Custo Médio'!$B$5:$D$1000,2,0)) -> PRODUTO 3 | E8: =IF(C8="","",VLOOKUP(C8,'Custo Médio'!$B$5:$D$1000,3,0)) -> unid | F8: fornecedor 5 | G8: 1 | H8: 50 | I8: =IF(B8="","",IFERROR(G8*H8,"")) -> 50
D11: =IF(C11="","",VLOOKUP(C11,'Custo Médio'!$B$5:$D$1000,2,0)) | E11: =IF(C11="","",VLOOKUP(C11,'Custo Médio'!$B$5:$D$1000,3,0)) | I11: =IF(B11="","",IFERROR(G11*H11,""))
D12: =IF(C12="","",VLOOKUP(C12,'Custo Médio'!$B$5:$D$1000,2,0)) | E12: =IF(C12="","",VLOOKUP(C12,'Custo Médio'!$B$5:$D$1000,3,0)) | I12: =IF(B12="","",IFERROR(G12*H12,""))
D13: =IF(C13="","",VLOOKUP(C13,'Custo Médio'!$B$5:$D$1000,2,0)) | E13: =IF(C13="","",VLOOKUP(C13,'Custo Médio'!$B$5:$D$1000,3,0)) | I13: =IF(B13="","",IFERROR(G13*H13,""))
D14: =IF(C14="","",VLOOKUP(C14,'Custo Médio'!$B$5:$D$1000,2,0)) | E14: =IF(C14="","",VLOOKUP(C14,'Custo Médio'!$B$5:$D$1000,3,0)) | I14: =IF(B14="","",IFERROR(G14*H14,""))
D15: =IF(C15="","",VLOOKUP(C15,'Custo Médio'!$B$5:$D$1000,2,0)) | E15: =IF(C15="","",VLOOKUP(C15,'Custo Médio'!$B$5:$D$1000,3,0)) | I15: =IF(B15="","",IFERROR(G15*H15,""))
D16: =IF(C16="","",VLOOKUP(C16,'Custo Médio'!$B$5:$D$1000,2,0)) | E16: =IF(C16="","",VLOOKUP(C16,'Custo Médio'!$B$5:$D$1000,3,0)) | I16: =IF(B16="","",IFERROR(G16*H16,""))
D17: =IF(C17="","",VLOOKUP(C17,'Custo Médio'!$B$5:$D$1000,2,0)) | E17: =IF(C17="","",VLOOKUP(C17,'Custo Médio'!$B$5:$D$1000,3,0)) | I17: =IF(B17="","",IFERROR(G17*H17,""))
D18: =IF(C18="","",VLOOKUP(C18,'Custo Médio'!$B$5:$D$1000,2,0)) | E18: =IF(C18="","",VLOOKUP(C18,'Custo Médio'!$B$5:$D$1000,3,0)) | I18: =IF(B18="","",IFERROR(G18*H18,""))
D19: =IF(C19="","",VLOOKUP(C19,'Custo Médio'!$B$5:$D$1000,2,0)) | E19: =IF(C19="","",VLOOKUP(C19,'Custo Médio'!$B$5:$D$1000,3,0)) | I19: =IF(B19="","",IFERROR(G19*H19,""))
D20: =IF(C20="","",VLOOKUP(C20,'Custo Médio'!$B$5:$D$1000,2,0)) | E20: =IF(C20="","",VLOOKUP(C20,'Custo Médio'!$B$5:$D$1000,3,0)) | I20: =IF(B20="","",IFERROR(G20*H20,""))
D21: =IF(C21="","",VLOOKUP(C21,'Custo Médio'!$B$5:$D$1000,2,0)) | E21: =IF(C21="","",VLOOKUP(C21,'Custo Médio'!$B$5:$D$1000,3,0)) | I21: =IF(B21="","",IFERROR(G21*H21,""))
D22: =IF(C22="","",VLOOKUP(C22,'Custo Médio'!$B$5:$D$1000,2,0)) | E22: =IF(C22="","",VLOOKUP(C22,'Custo Médio'!$B$5:$D$1000,3,0)) | I22: =IF(B22="","",IFERROR(G22*H22,""))
... D1000: =IF(C1000="","",VLOOKUP(C1000,'Custo Médio'!$B$5:$D$1000,2,0)) | E1000: =IF(C1000="","",VLOOKUP(C1000,'Custo Médio'!$B$5:$D$1000,3,0)) | I1000: =IF(B1000="","",IFERROR(G1000*H1000,""))
