Workbook

Sheet Capa
F10: PLANILHA DE FRENTE DE CAIXA
G12: Instruções | H12: Cadastros | I12: Produtos | J12: Frente de Caixa

Sheet Instruções 
B1: INSTRUÇÕES
B4: As cores das fontes nas respectivas abas desta planilha indicam:
B5: (1) Células com fonte na cor PRETA devem ser preenchidas manualmente.
B6: (2) As células com fonte na cor AZUL são calculadas automaticamente por fórmulas, portanto NÃo devem ser alteradas.
A8: CADASTROS | B8: As abas de cadastros desta planilha incluem clientes e produtos.
B9: CLIENTES: Você deve fazer o cadastro de seus clientes, com os dados gerais, endereço e informações fiscais.
B10: Ter o cadastro dos clientes que frequentam sua empresa é importante para sempre ter o controle de quem adquire seus produtos.
B11: PRODUTOS/SERVIÇOS: Nesta aba você deve inserir seus produtos de comercialização e seus serviços, caso trabalhe com o mesmo.
B12: Devem ser inseridas as suas descrições e seus dados fiscais.
A15: FRENTE DE CAIXA | B15: Na aba de vendas é onde você deve lançar suas vendas. Na seção de "informações" defina: a data da venda, quem está comprando e se é uma venda ou um orçamento.
B16: Na seção do "financeiro" defina: a forma de pagamento que seu cliente utilizou; a conta destino na qual este valor esta indo; a situação em que a venda está; qual a data que seu cliente vai pagar e se possui algum desconto a ser aplicado neste produto ou serviço.
B17: E por fim em "carrinho", insira os produtos e/ou serviços que seu cliente está adquirindo, juntamente com a quantidade e sua categoria

Sheet Clientes
B1: CADASTRO DE CLIENTES | J1: Clientes | K1: Produtos/Serviços | L1: Dúvidas?
B4: DADOS | F4: ENDEREÇO | K4: INFO. ADICIONAL
B5: Nome/Razão Social | C5: CPF/CNPJ | D5: Telefone | E5: E-mail | F5: Cep | G5: Estado | H5: Cidade | I5: Endereço | J5: Bairro | K5: Indicador de IE | L5: Inscrição Estadual
B6: Cliente 1

Sheet Produtos
B1: CADASTRO DE CLIENTES | I1: Clientes | J1: Produtos/Serviços | K1: Dúvidas?
B4: DADOS DO PRODUTO | G4: DADOS FISCAIS
B5: Nome | C5: Categoria | D5: Preço de Venda | E5: Preço de Custo | F5: Estoque atual | G5: Referência EAN/GTIN | H5: NCM | I5: Unidade Comercial | J5: CNAE | K5: Código de Trib. Municipal
B6: Produto 1 | C6: Produto | D6: 15 | E6: 9.5 | F6: 11
B7: Serviço 1 | C7: Serviço | D7: 20 | E7: -
B8: Serviço 2 | C8: Serviço | D8: 45 | E8: -

Sheet Frente de Caixa
B1: CADASTRO DE CLIENTES | H1: Clientes | I1: Produtos/Serviços | J1: Dúvidas?
B4: SALDO EM VENDAS
B5: =SUM(L17+L65+L29+L41+L53) -> 15
B8: Cadastro | E8: Carrinho | I8: Financeiro
B9: Nome do Cliente: | E9: Qntd. | F9: Produto | H9: Preço Unit. | I9: Forma de pagamento:
B10: Endereço: | E10: 1 | F10: Produto 1 | H10: =IFNA(VLOOKUP(F10,Produtos!$B$6:D800,3,1),"") -> 15 | I10: Situação: | J10: Recebido
B11: Data da Venda: | H11: =IFNA(VLOOKUP(F11,Produtos!$B$6:D801,3,1),"") | I11: Data do Pagamento:
B12: Data da Entrega: | H12: =IFNA(VLOOKUP(F12,Produtos!$B$6:D802,3,1),"") | I12: Conta Destino:
B13: Vendedor: | H13: =IFNA(VLOOKUP(F13,Produtos!$B$6:D803,3,1),"") | I13: Desconto:
B14: Observações | H14: =IFNA(VLOOKUP(F14,Produtos!$B$6:D804,3,1),"") | I14: Valor do Frete:
H15: =IFNA(VLOOKUP(F15,Produtos!$B$6:D805,3,1),"") | I15: Outras Despesas:
H16: =IFNA(VLOOKUP(F16,Produtos!$B$6:D806,3,1),"")
H17: =IFNA(VLOOKUP(F17,Produtos!$B$6:D807,3,1),"") | K17: Valor Total: | L17: =(H10*E10)+(H11*E11)+(H12*E12)+(H13*E13)+(H14*E14)+(H15*E15)+(H17*E17)+J14+J15-(J13) -> 15
B20: Cadastro | E20: Carrinho | I20: Financeiro
B21: Nome do Cliente: | E21: Qntd. | F21: Produto | H21: Preço Unit. | I21: Forma de pagamento:
B22: Endereço: | H22: =IFNA(VLOOKUP(F22,Produtos!$B$6:D811,3,1),"") | I22: Situação:
B23: Data da Venda: | H23: =IFNA(VLOOKUP(F23,Produtos!$B$6:D813,3,1),"") | I23: Data do Pagamento:
B24: Data da Entrega: | H24: =IFNA(VLOOKUP(F24,Produtos!$B$6:D814,3,1),"") | I24: Conta Destino:
B25: Vendedor: | H25: =IFNA(VLOOKUP(F25,Produtos!$B$6:D815,3,1),"") | I25: Desconto:
B26: Observações | H26: =IFNA(VLOOKUP(F26,Produtos!$B$6:D816,3,1),"") | I26: Valor do Frete:
H27: =IFNA(VLOOKUP(F27,Produtos!$B$6:D817,3,1),"") | I27: Outras Despesas:
H29: =IFNA(VLOOKUP(F29,Produtos!$B$6:D818,3,1),"") | K29: Valor Total:
B32: Cadastro | E32: Carrinho | I32: Financeiro
B33: Nome do Cliente: | E33: Qntd. | F33: Produto | H33: Preço Unit. | I33: Forma de pagamento:
B34: Endereço: | H34: =IFNA(VLOOKUP(F34,Produtos!$B$6:D823,3,1),"") | I34: Situação:
B35: Data da Venda: | H35: =IFNA(VLOOKUP(F35,Produtos!$B$6:D825,3,1),"") | I35: Data do Pagamento:
B36: Data da Entrega: | H36: =IFNA(VLOOKUP(F36,Produtos!$B$6:D826,3,1),"") | I36: Conta Destino:
B37: Vendedor: | H37: =IFNA(VLOOKUP(F37,Produtos!$B$6:D827,3,1),"") | I37: Desconto:
B38: Observações | H38: =IFNA(VLOOKUP(F38,Produtos!$B$6:D828,3,1),"") | I38: Valor do Frete:
H39: =IFNA(VLOOKUP(F39,Produtos!$B$6:D829,3,1),"") | I39: Outras Despesas:
H41: =IFNA(VLOOKUP(F41,Produtos!$B$6:D830,3,1),"") | K41: Valor Total: | L41: =(H34*E34)+(H35*E35)+(H36*E36)+(H37*E37)+(H38*E38)+(H39*E39)+(H41*E41)+J38+J39-(J37) -> 0
B44: Cadastro | E44: Carrinho | I44: Financeiro
B45: Nome do Cliente: | E45: Qntd. | F45: Produto | H45: Preço Unit. | I45: Forma de pagamento:
B46: Endereço: | H46: =IFNA(VLOOKUP(F46,Produtos!$B$6:D835,3,1),"") | I46: Situação:
B47: Data da Venda: | H47: =IFNA(VLOOKUP(F47,Produtos!$B$6:D837,3,1),"") | I47: Data do Pagamento:
B48: Data da Entrega: | H48: =IFNA(VLOOKUP(F48,Produtos!$B$6:D838,3,1),"") | I48: Conta Destino:
B49: Vendedor: | H49: =IFNA(VLOOKUP(F49,Produtos!$B$6:D839,3,1),"") | I49: Desconto:
B50: Observações | H50: =IFNA(VLOOKUP(F50,Produtos!$B$6:D840,3,1),"") | I50: Valor do Frete:
H51: =IFNA(VLOOKUP(F51,Produtos!$B$6:D841,3,1),"") | I51: Outras Despesas:
H53: =IFNA(VLOOKUP(F53,Produtos!$B$6:D842,3,1),"") | K53: Valor Total: | L53: =(H46*E46)+(H47*E47)+(H48*E48)+(H49*E49)+(H50*E50)+(H51*E51)+(H53*E53)+J50+J51-(J49) -> 0
...
